BEGIN:VCALENDAR
VERSION:2.0
PRODID:-//DIGITAL FACTORY//EVENTS MAKER V1.6.12//EN
CALSCALE:GREGORIAN
METHOD:PUBLISH
BEGIN:VEVENT
DTSTART:20251118T060000Z
DTEND:20251118T190000Z
DTSTAMP:20260423T091020Z
UID:69e9e1fc3582a
CATEGORIES:Odpady segregowane -tworzywa sztuczne i metale
LOCATION:Chojnów - ul. Gościniec Warecki CHOJNÓW, MAZOWIECKIE, PL
ORGANIZER;CN=WGO Gminy Piaseczno:MAILTO:go@piaseczno.eu
DESCRIPTION: Odbiór odpadów 
URL;VALUE=URI:https://odpady.piaseczno.eu/harmonogram-odbioru-odpadow/odbior/zalesie-gorne-jesowka-nowinki-papier-plastik-metal-tekstylia/
SUMMARY:Chojnów(tylko ul. Gościniec Warecki) Jesówka z wyjątkiem ulic: Czapli\, Dzikich Gęsi\, Konika Polnego\, Leśnych Malin\, Orlika\, Ptasiej\, Zimorodka\, Źródlanej) Nowinki\, Zalesie Górne
END:VEVENT
BEGIN:VEVENT
DTSTART:20251202T060000Z
DTEND:20251202T190000Z
DTSTAMP:20260423T091020Z
UID:69e9e1fc358b8
CATEGORIES:Odpady segregowane -tworzywa sztuczne i metale
LOCATION:Chojnów - ul. Gościniec Warecki CHOJNÓW, MAZOWIECKIE, PL
ORGANIZER;CN=WGO Gminy Piaseczno:MAILTO:go@piaseczno.eu
DESCRIPTION: Odbiór odpadów 
URL;VALUE=URI:https://odpady.piaseczno.eu/harmonogram-odbioru-odpadow/odbior/zalesie-gorne-jesowka-nowinki-papier-plastik-metal-tekstylia/
SUMMARY:Chojnów(tylko ul. Gościniec Warecki) Jesówka z wyjątkiem ulic: Czapli\, Dzikich Gęsi\, Konika Polnego\, Leśnych Malin\, Orlika\, Ptasiej\, Zimorodka\, Źródlanej) Nowinki\, Zalesie Górne
END:VEVENT
BEGIN:VEVENT
DTSTART:20251216T060000Z
DTEND:20251216T190000Z
DTSTAMP:20260423T091020Z
UID:69e9e1fc358e0
CATEGORIES:Odpady segregowane -tworzywa sztuczne i metale
LOCATION:Chojnów - ul. Gościniec Warecki CHOJNÓW, MAZOWIECKIE, PL
ORGANIZER;CN=WGO Gminy Piaseczno:MAILTO:go@piaseczno.eu
DESCRIPTION: Odbiór odpadów 
URL;VALUE=URI:https://odpady.piaseczno.eu/harmonogram-odbioru-odpadow/odbior/zalesie-gorne-jesowka-nowinki-papier-plastik-metal-tekstylia/
SUMMARY:Chojnów(tylko ul. Gościniec Warecki) Jesówka z wyjątkiem ulic: Czapli\, Dzikich Gęsi\, Konika Polnego\, Leśnych Malin\, Orlika\, Ptasiej\, Zimorodka\, Źródlanej) Nowinki\, Zalesie Górne
END:VEVENT
BEGIN:VEVENT
DTSTART:20251230T060000Z
DTEND:20251230T190000Z
DTSTAMP:20260423T091020Z
UID:69e9e1fc35901
CATEGORIES:Odpady segregowane -tworzywa sztuczne i metale
LOCATION:Chojnów - ul. Gościniec Warecki CHOJNÓW, MAZOWIECKIE, PL
ORGANIZER;CN=WGO Gminy Piaseczno:MAILTO:go@piaseczno.eu
DESCRIPTION: Odbiór odpadów 
URL;VALUE=URI:https://odpady.piaseczno.eu/harmonogram-odbioru-odpadow/odbior/zalesie-gorne-jesowka-nowinki-papier-plastik-metal-tekstylia/
SUMMARY:Chojnów(tylko ul. Gościniec Warecki) Jesówka z wyjątkiem ulic: Czapli\, Dzikich Gęsi\, Konika Polnego\, Leśnych Malin\, Orlika\, Ptasiej\, Zimorodka\, Źródlanej) Nowinki\, Zalesie Górne
END:VEVENT
BEGIN:VEVENT
DTSTART:20260113T060000Z
DTEND:20260113T190000Z
DTSTAMP:20260423T091020Z
UID:69e9e1fc3591f
CATEGORIES:Odpady segregowane -tworzywa sztuczne i metale
LOCATION:Chojnów - ul. Gościniec Warecki CHOJNÓW, MAZOWIECKIE, PL
ORGANIZER;CN=WGO Gminy Piaseczno:MAILTO:go@piaseczno.eu
DESCRIPTION: Odbiór odpadów 
URL;VALUE=URI:https://odpady.piaseczno.eu/harmonogram-odbioru-odpadow/odbior/zalesie-gorne-jesowka-nowinki-papier-plastik-metal-tekstylia/
SUMMARY:Chojnów(tylko ul. Gościniec Warecki) Jesówka z wyjątkiem ulic: Czapli\, Dzikich Gęsi\, Konika Polnego\, Leśnych Malin\, Orlika\, Ptasiej\, Zimorodka\, Źródlanej) Nowinki\, Zalesie Górne
END:VEVENT
BEGIN:VEVENT
DTSTART:20260127T060000Z
DTEND:20260127T190000Z
DTSTAMP:20260423T091020Z
UID:69e9e1fc35943
CATEGORIES:Odpady segregowane -tworzywa sztuczne i metale
LOCATION:Chojnów - ul. Gościniec Warecki CHOJNÓW, MAZOWIECKIE, PL
ORGANIZER;CN=WGO Gminy Piaseczno:MAILTO:go@piaseczno.eu
DESCRIPTION: Odbiór odpadów 
URL;VALUE=URI:https://odpady.piaseczno.eu/harmonogram-odbioru-odpadow/odbior/zalesie-gorne-jesowka-nowinki-papier-plastik-metal-tekstylia/
SUMMARY:Chojnów(tylko ul. Gościniec Warecki) Jesówka z wyjątkiem ulic: Czapli\, Dzikich Gęsi\, Konika Polnego\, Leśnych Malin\, Orlika\, Ptasiej\, Zimorodka\, Źródlanej) Nowinki\, Zalesie Górne
END:VEVENT
BEGIN:VEVENT
DTSTART:20260210T060000Z
DTEND:20260210T190000Z
DTSTAMP:20260423T091020Z
UID:69e9e1fc35963
CATEGORIES:Odpady segregowane -tworzywa sztuczne i metale
LOCATION:Chojnów - ul. Gościniec Warecki CHOJNÓW, MAZOWIECKIE, PL
ORGANIZER;CN=WGO Gminy Piaseczno:MAILTO:go@piaseczno.eu
DESCRIPTION: Odbiór odpadów 
URL;VALUE=URI:https://odpady.piaseczno.eu/harmonogram-odbioru-odpadow/odbior/zalesie-gorne-jesowka-nowinki-papier-plastik-metal-tekstylia/
SUMMARY:Chojnów(tylko ul. Gościniec Warecki) Jesówka z wyjątkiem ulic: Czapli\, Dzikich Gęsi\, Konika Polnego\, Leśnych Malin\, Orlika\, Ptasiej\, Zimorodka\, Źródlanej) Nowinki\, Zalesie Górne
END:VEVENT
BEGIN:VEVENT
DTSTART:20260224T060000Z
DTEND:20260224T190000Z
DTSTAMP:20260423T091020Z
UID:69e9e1fc3597e
CATEGORIES:Odpady segregowane -tworzywa sztuczne i metale
LOCATION:Chojnów - ul. Gościniec Warecki CHOJNÓW, MAZOWIECKIE, PL
ORGANIZER;CN=WGO Gminy Piaseczno:MAILTO:go@piaseczno.eu
DESCRIPTION: Odbiór odpadów 
URL;VALUE=URI:https://odpady.piaseczno.eu/harmonogram-odbioru-odpadow/odbior/zalesie-gorne-jesowka-nowinki-papier-plastik-metal-tekstylia/
SUMMARY:Chojnów(tylko ul. Gościniec Warecki) Jesówka z wyjątkiem ulic: Czapli\, Dzikich Gęsi\, Konika Polnego\, Leśnych Malin\, Orlika\, Ptasiej\, Zimorodka\, Źródlanej) Nowinki\, Zalesie Górne
END:VEVENT
BEGIN:VEVENT
DTSTART:20260310T060000Z
DTEND:20260310T190000Z
DTSTAMP:20260423T091020Z
UID:69e9e1fc35999
CATEGORIES:Odpady segregowane -tworzywa sztuczne i metale
LOCATION:Chojnów - ul. Gościniec Warecki CHOJNÓW, MAZOWIECKIE, PL
ORGANIZER;CN=WGO Gminy Piaseczno:MAILTO:go@piaseczno.eu
DESCRIPTION: Odbiór odpadów 
URL;VALUE=URI:https://odpady.piaseczno.eu/harmonogram-odbioru-odpadow/odbior/zalesie-gorne-jesowka-nowinki-papier-plastik-metal-tekstylia/
SUMMARY:Chojnów(tylko ul. Gościniec Warecki) Jesówka z wyjątkiem ulic: Czapli\, Dzikich Gęsi\, Konika Polnego\, Leśnych Malin\, Orlika\, Ptasiej\, Zimorodka\, Źródlanej) Nowinki\, Zalesie Górne
END:VEVENT
BEGIN:VEVENT
DTSTART:20260324T060000Z
DTEND:20260324T190000Z
DTSTAMP:20260423T091020Z
UID:69e9e1fc359b4
CATEGORIES:Odpady segregowane -tworzywa sztuczne i metale
LOCATION:Chojnów - ul. Gościniec Warecki CHOJNÓW, MAZOWIECKIE, PL
ORGANIZER;CN=WGO Gminy Piaseczno:MAILTO:go@piaseczno.eu
DESCRIPTION: Odbiór odpadów 
URL;VALUE=URI:https://odpady.piaseczno.eu/harmonogram-odbioru-odpadow/odbior/zalesie-gorne-jesowka-nowinki-papier-plastik-metal-tekstylia/
SUMMARY:Chojnów(tylko ul. Gościniec Warecki) Jesówka z wyjątkiem ulic: Czapli\, Dzikich Gęsi\, Konika Polnego\, Leśnych Malin\, Orlika\, Ptasiej\, Zimorodka\, Źródlanej) Nowinki\, Zalesie Górne
END:VEVENT
BEGIN:VEVENT
DTSTART:20260407T060000Z
DTEND:20260407T190000Z
DTSTAMP:20260423T091020Z
UID:69e9e1fc359ce
CATEGORIES:Odpady segregowane -tworzywa sztuczne i metale
LOCATION:Chojnów - ul. Gościniec Warecki CHOJNÓW, MAZOWIECKIE, PL
ORGANIZER;CN=WGO Gminy Piaseczno:MAILTO:go@piaseczno.eu
DESCRIPTION: Odbiór odpadów 
URL;VALUE=URI:https://odpady.piaseczno.eu/harmonogram-odbioru-odpadow/odbior/zalesie-gorne-jesowka-nowinki-papier-plastik-metal-tekstylia/
SUMMARY:Chojnów(tylko ul. Gościniec Warecki) Jesówka z wyjątkiem ulic: Czapli\, Dzikich Gęsi\, Konika Polnego\, Leśnych Malin\, Orlika\, Ptasiej\, Zimorodka\, Źródlanej) Nowinki\, Zalesie Górne
END:VEVENT
BEGIN:VEVENT
DTSTART:20260421T060000Z
DTEND:20260421T190000Z
DTSTAMP:20260423T091020Z
UID:69e9e1fc359e8
CATEGORIES:Odpady segregowane -tworzywa sztuczne i metale
LOCATION:Chojnów - ul. Gościniec Warecki CHOJNÓW, MAZOWIECKIE, PL
ORGANIZER;CN=WGO Gminy Piaseczno:MAILTO:go@piaseczno.eu
DESCRIPTION: Odbiór odpadów 
URL;VALUE=URI:https://odpady.piaseczno.eu/harmonogram-odbioru-odpadow/odbior/zalesie-gorne-jesowka-nowinki-papier-plastik-metal-tekstylia/
SUMMARY:Chojnów(tylko ul. Gościniec Warecki) Jesówka z wyjątkiem ulic: Czapli\, Dzikich Gęsi\, Konika Polnego\, Leśnych Malin\, Orlika\, Ptasiej\, Zimorodka\, Źródlanej) Nowinki\, Zalesie Górne
END:VEVENT
BEGIN:VEVENT
DTSTART:20260505T060000Z
DTEND:20260505T190000Z
DTSTAMP:20260423T091020Z
UID:69e9e1fc35a08
CATEGORIES:Odpady segregowane -tworzywa sztuczne i metale
LOCATION:Chojnów - ul. Gościniec Warecki CHOJNÓW, MAZOWIECKIE, PL
ORGANIZER;CN=WGO Gminy Piaseczno:MAILTO:go@piaseczno.eu
DESCRIPTION: Odbiór odpadów 
URL;VALUE=URI:https://odpady.piaseczno.eu/harmonogram-odbioru-odpadow/odbior/zalesie-gorne-jesowka-nowinki-papier-plastik-metal-tekstylia/
SUMMARY:Chojnów(tylko ul. Gościniec Warecki) Jesówka z wyjątkiem ulic: Czapli\, Dzikich Gęsi\, Konika Polnego\, Leśnych Malin\, Orlika\, Ptasiej\, Zimorodka\, Źródlanej) Nowinki\, Zalesie Górne
END:VEVENT
BEGIN:VEVENT
DTSTART:20260519T060000Z
DTEND:20260519T190000Z
DTSTAMP:20260423T091020Z
UID:69e9e1fc35a22
CATEGORIES:Odpady segregowane -tworzywa sztuczne i metale
LOCATION:Chojnów - ul. Gościniec Warecki CHOJNÓW, MAZOWIECKIE, PL
ORGANIZER;CN=WGO Gminy Piaseczno:MAILTO:go@piaseczno.eu
DESCRIPTION: Odbiór odpadów 
URL;VALUE=URI:https://odpady.piaseczno.eu/harmonogram-odbioru-odpadow/odbior/zalesie-gorne-jesowka-nowinki-papier-plastik-metal-tekstylia/
SUMMARY:Chojnów(tylko ul. Gościniec Warecki) Jesówka z wyjątkiem ulic: Czapli\, Dzikich Gęsi\, Konika Polnego\, Leśnych Malin\, Orlika\, Ptasiej\, Zimorodka\, Źródlanej) Nowinki\, Zalesie Górne
END:VEVENT
BEGIN:VEVENT
DTSTART:20260602T060000Z
DTEND:20260602T190000Z
DTSTAMP:20260423T091020Z
UID:69e9e1fc35a3c
CATEGORIES:Odpady segregowane -tworzywa sztuczne i metale
LOCATION:Chojnów - ul. Gościniec Warecki CHOJNÓW, MAZOWIECKIE, PL
ORGANIZER;CN=WGO Gminy Piaseczno:MAILTO:go@piaseczno.eu
DESCRIPTION: Odbiór odpadów 
URL;VALUE=URI:https://odpady.piaseczno.eu/harmonogram-odbioru-odpadow/odbior/zalesie-gorne-jesowka-nowinki-papier-plastik-metal-tekstylia/
SUMMARY:Chojnów(tylko ul. Gościniec Warecki) Jesówka z wyjątkiem ulic: Czapli\, Dzikich Gęsi\, Konika Polnego\, Leśnych Malin\, Orlika\, Ptasiej\, Zimorodka\, Źródlanej) Nowinki\, Zalesie Górne
END:VEVENT
BEGIN:VEVENT
DTSTART:20260616T060000Z
DTEND:20260616T190000Z
DTSTAMP:20260423T091020Z
UID:69e9e1fc35a57
CATEGORIES:Odpady segregowane -tworzywa sztuczne i metale
LOCATION:Chojnów - ul. Gościniec Warecki CHOJNÓW, MAZOWIECKIE, PL
ORGANIZER;CN=WGO Gminy Piaseczno:MAILTO:go@piaseczno.eu
DESCRIPTION: Odbiór odpadów 
URL;VALUE=URI:https://odpady.piaseczno.eu/harmonogram-odbioru-odpadow/odbior/zalesie-gorne-jesowka-nowinki-papier-plastik-metal-tekstylia/
SUMMARY:Chojnów(tylko ul. Gościniec Warecki) Jesówka z wyjątkiem ulic: Czapli\, Dzikich Gęsi\, Konika Polnego\, Leśnych Malin\, Orlika\, Ptasiej\, Zimorodka\, Źródlanej) Nowinki\, Zalesie Górne
END:VEVENT
BEGIN:VEVENT
DTSTART:20260630T060000Z
DTEND:20260630T190000Z
DTSTAMP:20260423T091020Z
UID:69e9e1fc35a70
CATEGORIES:Odpady segregowane -tworzywa sztuczne i metale
LOCATION:Chojnów - ul. Gościniec Warecki CHOJNÓW, MAZOWIECKIE, PL
ORGANIZER;CN=WGO Gminy Piaseczno:MAILTO:go@piaseczno.eu
DESCRIPTION: Odbiór odpadów 
URL;VALUE=URI:https://odpady.piaseczno.eu/harmonogram-odbioru-odpadow/odbior/zalesie-gorne-jesowka-nowinki-papier-plastik-metal-tekstylia/
SUMMARY:Chojnów(tylko ul. Gościniec Warecki) Jesówka z wyjątkiem ulic: Czapli\, Dzikich Gęsi\, Konika Polnego\, Leśnych Malin\, Orlika\, Ptasiej\, Zimorodka\, Źródlanej) Nowinki\, Zalesie Górne
END:VEVENT
BEGIN:VEVENT
DTSTART:20260714T060000Z
DTEND:20260714T190000Z
DTSTAMP:20260423T091020Z
UID:69e9e1fc35a8a
CATEGORIES:Odpady segregowane -tworzywa sztuczne i metale
LOCATION:Chojnów - ul. Gościniec Warecki CHOJNÓW, MAZOWIECKIE, PL
ORGANIZER;CN=WGO Gminy Piaseczno:MAILTO:go@piaseczno.eu
DESCRIPTION: Odbiór odpadów 
URL;VALUE=URI:https://odpady.piaseczno.eu/harmonogram-odbioru-odpadow/odbior/zalesie-gorne-jesowka-nowinki-papier-plastik-metal-tekstylia/
SUMMARY:Chojnów(tylko ul. Gościniec Warecki) Jesówka z wyjątkiem ulic: Czapli\, Dzikich Gęsi\, Konika Polnego\, Leśnych Malin\, Orlika\, Ptasiej\, Zimorodka\, Źródlanej) Nowinki\, Zalesie Górne
END:VEVENT
BEGIN:VEVENT
DTSTART:20260728T060000Z
DTEND:20260728T190000Z
DTSTAMP:20260423T091020Z
UID:69e9e1fc35aa7
CATEGORIES:Odpady segregowane -tworzywa sztuczne i metale
LOCATION:Chojnów - ul. Gościniec Warecki CHOJNÓW, MAZOWIECKIE, PL
ORGANIZER;CN=WGO Gminy Piaseczno:MAILTO:go@piaseczno.eu
DESCRIPTION: Odbiór odpadów 
URL;VALUE=URI:https://odpady.piaseczno.eu/harmonogram-odbioru-odpadow/odbior/zalesie-gorne-jesowka-nowinki-papier-plastik-metal-tekstylia/
SUMMARY:Chojnów(tylko ul. Gościniec Warecki) Jesówka z wyjątkiem ulic: Czapli\, Dzikich Gęsi\, Konika Polnego\, Leśnych Malin\, Orlika\, Ptasiej\, Zimorodka\, Źródlanej) Nowinki\, Zalesie Górne
END:VEVENT
BEGIN:VEVENT
DTSTART:20260811T060000Z
DTEND:20260811T190000Z
DTSTAMP:20260423T091020Z
UID:69e9e1fc35ac1
CATEGORIES:Odpady segregowane -tworzywa sztuczne i metale
LOCATION:Chojnów - ul. Gościniec Warecki CHOJNÓW, MAZOWIECKIE, PL
ORGANIZER;CN=WGO Gminy Piaseczno:MAILTO:go@piaseczno.eu
DESCRIPTION: Odbiór odpadów 
URL;VALUE=URI:https://odpady.piaseczno.eu/harmonogram-odbioru-odpadow/odbior/zalesie-gorne-jesowka-nowinki-papier-plastik-metal-tekstylia/
SUMMARY:Chojnów(tylko ul. Gościniec Warecki) Jesówka z wyjątkiem ulic: Czapli\, Dzikich Gęsi\, Konika Polnego\, Leśnych Malin\, Orlika\, Ptasiej\, Zimorodka\, Źródlanej) Nowinki\, Zalesie Górne
END:VEVENT
BEGIN:VEVENT
DTSTART:20260825T060000Z
DTEND:20260825T190000Z
DTSTAMP:20260423T091020Z
UID:69e9e1fc35adb
CATEGORIES:Odpady segregowane -tworzywa sztuczne i metale
LOCATION:Chojnów - ul. Gościniec Warecki CHOJNÓW, MAZOWIECKIE, PL
ORGANIZER;CN=WGO Gminy Piaseczno:MAILTO:go@piaseczno.eu
DESCRIPTION: Odbiór odpadów 
URL;VALUE=URI:https://odpady.piaseczno.eu/harmonogram-odbioru-odpadow/odbior/zalesie-gorne-jesowka-nowinki-papier-plastik-metal-tekstylia/
SUMMARY:Chojnów(tylko ul. Gościniec Warecki) Jesówka z wyjątkiem ulic: Czapli\, Dzikich Gęsi\, Konika Polnego\, Leśnych Malin\, Orlika\, Ptasiej\, Zimorodka\, Źródlanej) Nowinki\, Zalesie Górne
END:VEVENT
BEGIN:VEVENT
DTSTART:20260908T060000Z
DTEND:20260908T190000Z
DTSTAMP:20260423T091020Z
UID:69e9e1fc35af5
CATEGORIES:Odpady segregowane -tworzywa sztuczne i metale
LOCATION:Chojnów - ul. Gościniec Warecki CHOJNÓW, MAZOWIECKIE, PL
ORGANIZER;CN=WGO Gminy Piaseczno:MAILTO:go@piaseczno.eu
DESCRIPTION: Odbiór odpadów 
URL;VALUE=URI:https://odpady.piaseczno.eu/harmonogram-odbioru-odpadow/odbior/zalesie-gorne-jesowka-nowinki-papier-plastik-metal-tekstylia/
SUMMARY:Chojnów(tylko ul. Gościniec Warecki) Jesówka z wyjątkiem ulic: Czapli\, Dzikich Gęsi\, Konika Polnego\, Leśnych Malin\, Orlika\, Ptasiej\, Zimorodka\, Źródlanej) Nowinki\, Zalesie Górne
END:VEVENT
BEGIN:VEVENT
DTSTART:20260922T060000Z
DTEND:20260922T190000Z
DTSTAMP:20260423T091020Z
UID:69e9e1fc35b0f
CATEGORIES:Odpady segregowane -tworzywa sztuczne i metale
LOCATION:Chojnów - ul. Gościniec Warecki CHOJNÓW, MAZOWIECKIE, PL
ORGANIZER;CN=WGO Gminy Piaseczno:MAILTO:go@piaseczno.eu
DESCRIPTION: Odbiór odpadów 
URL;VALUE=URI:https://odpady.piaseczno.eu/harmonogram-odbioru-odpadow/odbior/zalesie-gorne-jesowka-nowinki-papier-plastik-metal-tekstylia/
SUMMARY:Chojnów(tylko ul. Gościniec Warecki) Jesówka z wyjątkiem ulic: Czapli\, Dzikich Gęsi\, Konika Polnego\, Leśnych Malin\, Orlika\, Ptasiej\, Zimorodka\, Źródlanej) Nowinki\, Zalesie Górne
END:VEVENT
BEGIN:VEVENT
DTSTART:20261006T060000Z
DTEND:20261006T190000Z
DTSTAMP:20260423T091020Z
UID:69e9e1fc35b29
CATEGORIES:Odpady segregowane -tworzywa sztuczne i metale
LOCATION:Chojnów - ul. Gościniec Warecki CHOJNÓW, MAZOWIECKIE, PL
ORGANIZER;CN=WGO Gminy Piaseczno:MAILTO:go@piaseczno.eu
DESCRIPTION: Odbiór odpadów 
URL;VALUE=URI:https://odpady.piaseczno.eu/harmonogram-odbioru-odpadow/odbior/zalesie-gorne-jesowka-nowinki-papier-plastik-metal-tekstylia/
SUMMARY:Chojnów(tylko ul. Gościniec Warecki) Jesówka z wyjątkiem ulic: Czapli\, Dzikich Gęsi\, Konika Polnego\, Leśnych Malin\, Orlika\, Ptasiej\, Zimorodka\, Źródlanej) Nowinki\, Zalesie Górne
END:VEVENT
BEGIN:VEVENT
DTSTART:20261020T060000Z
DTEND:20261020T190000Z
DTSTAMP:20260423T091020Z
UID:69e9e1fc35b46
CATEGORIES:Odpady segregowane -tworzywa sztuczne i metale
LOCATION:Chojnów - ul. Gościniec Warecki CHOJNÓW, MAZOWIECKIE, PL
ORGANIZER;CN=WGO Gminy Piaseczno:MAILTO:go@piaseczno.eu
DESCRIPTION: Odbiór odpadów 
URL;VALUE=URI:https://odpady.piaseczno.eu/harmonogram-odbioru-odpadow/odbior/zalesie-gorne-jesowka-nowinki-papier-plastik-metal-tekstylia/
SUMMARY:Chojnów(tylko ul. Gościniec Warecki) Jesówka z wyjątkiem ulic: Czapli\, Dzikich Gęsi\, Konika Polnego\, Leśnych Malin\, Orlika\, Ptasiej\, Zimorodka\, Źródlanej) Nowinki\, Zalesie Górne
END:VEVENT
BEGIN:VEVENT
DTSTART:20261103T060000Z
DTEND:20261103T190000Z
DTSTAMP:20260423T091020Z
UID:69e9e1fc35b60
CATEGORIES:Odpady segregowane -tworzywa sztuczne i metale
LOCATION:Chojnów - ul. Gościniec Warecki CHOJNÓW, MAZOWIECKIE, PL
ORGANIZER;CN=WGO Gminy Piaseczno:MAILTO:go@piaseczno.eu
DESCRIPTION: Odbiór odpadów 
URL;VALUE=URI:https://odpady.piaseczno.eu/harmonogram-odbioru-odpadow/odbior/zalesie-gorne-jesowka-nowinki-papier-plastik-metal-tekstylia/
SUMMARY:Chojnów(tylko ul. Gościniec Warecki) Jesówka z wyjątkiem ulic: Czapli\, Dzikich Gęsi\, Konika Polnego\, Leśnych Malin\, Orlika\, Ptasiej\, Zimorodka\, Źródlanej) Nowinki\, Zalesie Górne
END:VEVENT
BEGIN:VEVENT
DTSTART:20261117T060000Z
DTEND:20261117T190000Z
DTSTAMP:20260423T091020Z
UID:69e9e1fc35b7a
CATEGORIES:Odpady segregowane -tworzywa sztuczne i metale
LOCATION:Chojnów - ul. Gościniec Warecki CHOJNÓW, MAZOWIECKIE, PL
ORGANIZER;CN=WGO Gminy Piaseczno:MAILTO:go@piaseczno.eu
DESCRIPTION: Odbiór odpadów 
URL;VALUE=URI:https://odpady.piaseczno.eu/harmonogram-odbioru-odpadow/odbior/zalesie-gorne-jesowka-nowinki-papier-plastik-metal-tekstylia/
SUMMARY:Chojnów(tylko ul. Gościniec Warecki) Jesówka z wyjątkiem ulic: Czapli\, Dzikich Gęsi\, Konika Polnego\, Leśnych Malin\, Orlika\, Ptasiej\, Zimorodka\, Źródlanej) Nowinki\, Zalesie Górne
END:VEVENT
END:VCALENDAR
