BEGIN:VCALENDAR
VERSION:2.0
PRODID:-//DIGITAL FACTORY//EVENTS MAKER V1.6.12//EN
CALSCALE:GREGORIAN
METHOD:PUBLISH
BEGIN:VEVENT
DTSTART:20251203T060000Z
DTEND:20251203T190000Z
DTSTAMP:20260424T164055Z
UID:69eb9d17cbd77
CATEGORIES:Odpady zmieszane
LOCATION:SEKTOR III: PIASECZNO od ul. Fabrycznej do ul.Żytnej 
ORGANIZER;CN=WGO Gminy Piaseczno:MAILTO:go@piaseczno.eu
DESCRIPTION: Odbiór odpadów 
URL;VALUE=URI:https://odpady.piaseczno.eu/harmonogram-odbioru-odpadow/odbior/sektor-iii-piaseczno-ulice-fabryczna-jana-pawla-ii-ludowa-powstancow-warszawy-slowicza-zytnia/
SUMMARY:Sektor III - Piaseczno: od ul. Fabryczna do ul. Żytnia
END:VEVENT
BEGIN:VEVENT
DTSTART:20251217T060000Z
DTEND:20251217T190000Z
DTSTAMP:20260424T164055Z
UID:69eb9d17cbe60
CATEGORIES:Odpady zmieszane
LOCATION:SEKTOR III: PIASECZNO od ul. Fabrycznej do ul.Żytnej 
ORGANIZER;CN=WGO Gminy Piaseczno:MAILTO:go@piaseczno.eu
DESCRIPTION: Odbiór odpadów 
URL;VALUE=URI:https://odpady.piaseczno.eu/harmonogram-odbioru-odpadow/odbior/sektor-iii-piaseczno-ulice-fabryczna-jana-pawla-ii-ludowa-powstancow-warszawy-slowicza-zytnia/
SUMMARY:Sektor III - Piaseczno: od ul. Fabryczna do ul. Żytnia
END:VEVENT
BEGIN:VEVENT
DTSTART:20251231T060000Z
DTEND:20251231T190000Z
DTSTAMP:20260424T164055Z
UID:69eb9d17cbe89
CATEGORIES:Odpady zmieszane
LOCATION:SEKTOR III: PIASECZNO od ul. Fabrycznej do ul.Żytnej 
ORGANIZER;CN=WGO Gminy Piaseczno:MAILTO:go@piaseczno.eu
DESCRIPTION: Odbiór odpadów 
URL;VALUE=URI:https://odpady.piaseczno.eu/harmonogram-odbioru-odpadow/odbior/sektor-iii-piaseczno-ulice-fabryczna-jana-pawla-ii-ludowa-powstancow-warszawy-slowicza-zytnia/
SUMMARY:Sektor III - Piaseczno: od ul. Fabryczna do ul. Żytnia
END:VEVENT
BEGIN:VEVENT
DTSTART:20260114T060000Z
DTEND:20260114T190000Z
DTSTAMP:20260424T164055Z
UID:69eb9d17cbeaa
CATEGORIES:Odpady zmieszane
LOCATION:SEKTOR III: PIASECZNO od ul. Fabrycznej do ul.Żytnej 
ORGANIZER;CN=WGO Gminy Piaseczno:MAILTO:go@piaseczno.eu
DESCRIPTION: Odbiór odpadów 
URL;VALUE=URI:https://odpady.piaseczno.eu/harmonogram-odbioru-odpadow/odbior/sektor-iii-piaseczno-ulice-fabryczna-jana-pawla-ii-ludowa-powstancow-warszawy-slowicza-zytnia/
SUMMARY:Sektor III - Piaseczno: od ul. Fabryczna do ul. Żytnia
END:VEVENT
BEGIN:VEVENT
DTSTART:20260128T060000Z
DTEND:20260128T190000Z
DTSTAMP:20260424T164055Z
UID:69eb9d17cbec8
CATEGORIES:Odpady zmieszane
LOCATION:SEKTOR III: PIASECZNO od ul. Fabrycznej do ul.Żytnej 
ORGANIZER;CN=WGO Gminy Piaseczno:MAILTO:go@piaseczno.eu
DESCRIPTION: Odbiór odpadów 
URL;VALUE=URI:https://odpady.piaseczno.eu/harmonogram-odbioru-odpadow/odbior/sektor-iii-piaseczno-ulice-fabryczna-jana-pawla-ii-ludowa-powstancow-warszawy-slowicza-zytnia/
SUMMARY:Sektor III - Piaseczno: od ul. Fabryczna do ul. Żytnia
END:VEVENT
BEGIN:VEVENT
DTSTART:20260211T060000Z
DTEND:20260211T190000Z
DTSTAMP:20260424T164055Z
UID:69eb9d17cbee5
CATEGORIES:Odpady zmieszane
LOCATION:SEKTOR III: PIASECZNO od ul. Fabrycznej do ul.Żytnej 
ORGANIZER;CN=WGO Gminy Piaseczno:MAILTO:go@piaseczno.eu
DESCRIPTION: Odbiór odpadów 
URL;VALUE=URI:https://odpady.piaseczno.eu/harmonogram-odbioru-odpadow/odbior/sektor-iii-piaseczno-ulice-fabryczna-jana-pawla-ii-ludowa-powstancow-warszawy-slowicza-zytnia/
SUMMARY:Sektor III - Piaseczno: od ul. Fabryczna do ul. Żytnia
END:VEVENT
BEGIN:VEVENT
DTSTART:20260225T060000Z
DTEND:20260225T190000Z
DTSTAMP:20260424T164055Z
UID:69eb9d17cbf01
CATEGORIES:Odpady zmieszane
LOCATION:SEKTOR III: PIASECZNO od ul. Fabrycznej do ul.Żytnej 
ORGANIZER;CN=WGO Gminy Piaseczno:MAILTO:go@piaseczno.eu
DESCRIPTION: Odbiór odpadów 
URL;VALUE=URI:https://odpady.piaseczno.eu/harmonogram-odbioru-odpadow/odbior/sektor-iii-piaseczno-ulice-fabryczna-jana-pawla-ii-ludowa-powstancow-warszawy-slowicza-zytnia/
SUMMARY:Sektor III - Piaseczno: od ul. Fabryczna do ul. Żytnia
END:VEVENT
BEGIN:VEVENT
DTSTART:20260311T060000Z
DTEND:20260311T190000Z
DTSTAMP:20260424T164055Z
UID:69eb9d17cbf1d
CATEGORIES:Odpady zmieszane
LOCATION:SEKTOR III: PIASECZNO od ul. Fabrycznej do ul.Żytnej 
ORGANIZER;CN=WGO Gminy Piaseczno:MAILTO:go@piaseczno.eu
DESCRIPTION: Odbiór odpadów 
URL;VALUE=URI:https://odpady.piaseczno.eu/harmonogram-odbioru-odpadow/odbior/sektor-iii-piaseczno-ulice-fabryczna-jana-pawla-ii-ludowa-powstancow-warszawy-slowicza-zytnia/
SUMMARY:Sektor III - Piaseczno: od ul. Fabryczna do ul. Żytnia
END:VEVENT
BEGIN:VEVENT
DTSTART:20260325T060000Z
DTEND:20260325T190000Z
DTSTAMP:20260424T164055Z
UID:69eb9d17cbf3e
CATEGORIES:Odpady zmieszane
LOCATION:SEKTOR III: PIASECZNO od ul. Fabrycznej do ul.Żytnej 
ORGANIZER;CN=WGO Gminy Piaseczno:MAILTO:go@piaseczno.eu
DESCRIPTION: Odbiór odpadów 
URL;VALUE=URI:https://odpady.piaseczno.eu/harmonogram-odbioru-odpadow/odbior/sektor-iii-piaseczno-ulice-fabryczna-jana-pawla-ii-ludowa-powstancow-warszawy-slowicza-zytnia/
SUMMARY:Sektor III - Piaseczno: od ul. Fabryczna do ul. Żytnia
END:VEVENT
BEGIN:VEVENT
DTSTART:20260408T060000Z
DTEND:20260408T190000Z
DTSTAMP:20260424T164055Z
UID:69eb9d17cbf59
CATEGORIES:Odpady zmieszane
LOCATION:SEKTOR III: PIASECZNO od ul. Fabrycznej do ul.Żytnej 
ORGANIZER;CN=WGO Gminy Piaseczno:MAILTO:go@piaseczno.eu
DESCRIPTION: Odbiór odpadów 
URL;VALUE=URI:https://odpady.piaseczno.eu/harmonogram-odbioru-odpadow/odbior/sektor-iii-piaseczno-ulice-fabryczna-jana-pawla-ii-ludowa-powstancow-warszawy-slowicza-zytnia/
SUMMARY:Sektor III - Piaseczno: od ul. Fabryczna do ul. Żytnia
END:VEVENT
BEGIN:VEVENT
DTSTART:20260422T060000Z
DTEND:20260422T190000Z
DTSTAMP:20260424T164055Z
UID:69eb9d17cbf74
CATEGORIES:Odpady zmieszane
LOCATION:SEKTOR III: PIASECZNO od ul. Fabrycznej do ul.Żytnej 
ORGANIZER;CN=WGO Gminy Piaseczno:MAILTO:go@piaseczno.eu
DESCRIPTION: Odbiór odpadów 
URL;VALUE=URI:https://odpady.piaseczno.eu/harmonogram-odbioru-odpadow/odbior/sektor-iii-piaseczno-ulice-fabryczna-jana-pawla-ii-ludowa-powstancow-warszawy-slowicza-zytnia/
SUMMARY:Sektor III - Piaseczno: od ul. Fabryczna do ul. Żytnia
END:VEVENT
BEGIN:VEVENT
DTSTART:20260506T060000Z
DTEND:20260506T190000Z
DTSTAMP:20260424T164055Z
UID:69eb9d17cbf9b
CATEGORIES:Odpady zmieszane
LOCATION:SEKTOR III: PIASECZNO od ul. Fabrycznej do ul.Żytnej 
ORGANIZER;CN=WGO Gminy Piaseczno:MAILTO:go@piaseczno.eu
DESCRIPTION: Odbiór odpadów 
URL;VALUE=URI:https://odpady.piaseczno.eu/harmonogram-odbioru-odpadow/odbior/sektor-iii-piaseczno-ulice-fabryczna-jana-pawla-ii-ludowa-powstancow-warszawy-slowicza-zytnia/
SUMMARY:Sektor III - Piaseczno: od ul. Fabryczna do ul. Żytnia
END:VEVENT
BEGIN:VEVENT
DTSTART:20260520T060000Z
DTEND:20260520T190000Z
DTSTAMP:20260424T164055Z
UID:69eb9d17cbfb6
CATEGORIES:Odpady zmieszane
LOCATION:SEKTOR III: PIASECZNO od ul. Fabrycznej do ul.Żytnej 
ORGANIZER;CN=WGO Gminy Piaseczno:MAILTO:go@piaseczno.eu
DESCRIPTION: Odbiór odpadów 
URL;VALUE=URI:https://odpady.piaseczno.eu/harmonogram-odbioru-odpadow/odbior/sektor-iii-piaseczno-ulice-fabryczna-jana-pawla-ii-ludowa-powstancow-warszawy-slowicza-zytnia/
SUMMARY:Sektor III - Piaseczno: od ul. Fabryczna do ul. Żytnia
END:VEVENT
BEGIN:VEVENT
DTSTART:20260603T060000Z
DTEND:20260603T190000Z
DTSTAMP:20260424T164055Z
UID:69eb9d17cbfde
CATEGORIES:Odpady zmieszane
LOCATION:SEKTOR III: PIASECZNO od ul. Fabrycznej do ul.Żytnej 
ORGANIZER;CN=WGO Gminy Piaseczno:MAILTO:go@piaseczno.eu
DESCRIPTION: Odbiór odpadów 
URL;VALUE=URI:https://odpady.piaseczno.eu/harmonogram-odbioru-odpadow/odbior/sektor-iii-piaseczno-ulice-fabryczna-jana-pawla-ii-ludowa-powstancow-warszawy-slowicza-zytnia/
SUMMARY:Sektor III - Piaseczno: od ul. Fabryczna do ul. Żytnia
END:VEVENT
BEGIN:VEVENT
DTSTART:20260610T060000Z
DTEND:20260610T190000Z
DTSTAMP:20260424T164055Z
UID:69eb9d17cbff8
CATEGORIES:Odpady zmieszane
LOCATION:SEKTOR III: PIASECZNO od ul. Fabrycznej do ul.Żytnej 
ORGANIZER;CN=WGO Gminy Piaseczno:MAILTO:go@piaseczno.eu
DESCRIPTION: Odbiór odpadów 
URL;VALUE=URI:https://odpady.piaseczno.eu/harmonogram-odbioru-odpadow/odbior/sektor-iii-piaseczno-ulice-fabryczna-jana-pawla-ii-ludowa-powstancow-warszawy-slowicza-zytnia/
SUMMARY:Sektor III - Piaseczno: od ul. Fabryczna do ul. Żytnia
END:VEVENT
BEGIN:VEVENT
DTSTART:20260617T060000Z
DTEND:20260617T190000Z
DTSTAMP:20260424T164055Z
UID:69eb9d17cc01e
CATEGORIES:Odpady zmieszane
LOCATION:SEKTOR III: PIASECZNO od ul. Fabrycznej do ul.Żytnej 
ORGANIZER;CN=WGO Gminy Piaseczno:MAILTO:go@piaseczno.eu
DESCRIPTION: Odbiór odpadów 
URL;VALUE=URI:https://odpady.piaseczno.eu/harmonogram-odbioru-odpadow/odbior/sektor-iii-piaseczno-ulice-fabryczna-jana-pawla-ii-ludowa-powstancow-warszawy-slowicza-zytnia/
SUMMARY:Sektor III - Piaseczno: od ul. Fabryczna do ul. Żytnia
END:VEVENT
BEGIN:VEVENT
DTSTART:20260624T060000Z
DTEND:20260624T190000Z
DTSTAMP:20260424T164055Z
UID:69eb9d17cc03a
CATEGORIES:Odpady zmieszane
LOCATION:SEKTOR III: PIASECZNO od ul. Fabrycznej do ul.Żytnej 
ORGANIZER;CN=WGO Gminy Piaseczno:MAILTO:go@piaseczno.eu
DESCRIPTION: Odbiór odpadów 
URL;VALUE=URI:https://odpady.piaseczno.eu/harmonogram-odbioru-odpadow/odbior/sektor-iii-piaseczno-ulice-fabryczna-jana-pawla-ii-ludowa-powstancow-warszawy-slowicza-zytnia/
SUMMARY:Sektor III - Piaseczno: od ul. Fabryczna do ul. Żytnia
END:VEVENT
BEGIN:VEVENT
DTSTART:20260701T060000Z
DTEND:20260701T190000Z
DTSTAMP:20260424T164055Z
UID:69eb9d17cc055
CATEGORIES:Odpady zmieszane
LOCATION:SEKTOR III: PIASECZNO od ul. Fabrycznej do ul.Żytnej 
ORGANIZER;CN=WGO Gminy Piaseczno:MAILTO:go@piaseczno.eu
DESCRIPTION: Odbiór odpadów 
URL;VALUE=URI:https://odpady.piaseczno.eu/harmonogram-odbioru-odpadow/odbior/sektor-iii-piaseczno-ulice-fabryczna-jana-pawla-ii-ludowa-powstancow-warszawy-slowicza-zytnia/
SUMMARY:Sektor III - Piaseczno: od ul. Fabryczna do ul. Żytnia
END:VEVENT
BEGIN:VEVENT
DTSTART:20260708T060000Z
DTEND:20260708T190000Z
DTSTAMP:20260424T164055Z
UID:69eb9d17cc06f
CATEGORIES:Odpady zmieszane
LOCATION:SEKTOR III: PIASECZNO od ul. Fabrycznej do ul.Żytnej 
ORGANIZER;CN=WGO Gminy Piaseczno:MAILTO:go@piaseczno.eu
DESCRIPTION: Odbiór odpadów 
URL;VALUE=URI:https://odpady.piaseczno.eu/harmonogram-odbioru-odpadow/odbior/sektor-iii-piaseczno-ulice-fabryczna-jana-pawla-ii-ludowa-powstancow-warszawy-slowicza-zytnia/
SUMMARY:Sektor III - Piaseczno: od ul. Fabryczna do ul. Żytnia
END:VEVENT
BEGIN:VEVENT
DTSTART:20260715T060000Z
DTEND:20260715T190000Z
DTSTAMP:20260424T164055Z
UID:69eb9d17cc089
CATEGORIES:Odpady zmieszane
LOCATION:SEKTOR III: PIASECZNO od ul. Fabrycznej do ul.Żytnej 
ORGANIZER;CN=WGO Gminy Piaseczno:MAILTO:go@piaseczno.eu
DESCRIPTION: Odbiór odpadów 
URL;VALUE=URI:https://odpady.piaseczno.eu/harmonogram-odbioru-odpadow/odbior/sektor-iii-piaseczno-ulice-fabryczna-jana-pawla-ii-ludowa-powstancow-warszawy-slowicza-zytnia/
SUMMARY:Sektor III - Piaseczno: od ul. Fabryczna do ul. Żytnia
END:VEVENT
BEGIN:VEVENT
DTSTART:20260722T060000Z
DTEND:20260722T190000Z
DTSTAMP:20260424T164055Z
UID:69eb9d17cc0a3
CATEGORIES:Odpady zmieszane
LOCATION:SEKTOR III: PIASECZNO od ul. Fabrycznej do ul.Żytnej 
ORGANIZER;CN=WGO Gminy Piaseczno:MAILTO:go@piaseczno.eu
DESCRIPTION: Odbiór odpadów 
URL;VALUE=URI:https://odpady.piaseczno.eu/harmonogram-odbioru-odpadow/odbior/sektor-iii-piaseczno-ulice-fabryczna-jana-pawla-ii-ludowa-powstancow-warszawy-slowicza-zytnia/
SUMMARY:Sektor III - Piaseczno: od ul. Fabryczna do ul. Żytnia
END:VEVENT
BEGIN:VEVENT
DTSTART:20260729T060000Z
DTEND:20260729T190000Z
DTSTAMP:20260424T164055Z
UID:69eb9d17cc0bd
CATEGORIES:Odpady zmieszane
LOCATION:SEKTOR III: PIASECZNO od ul. Fabrycznej do ul.Żytnej 
ORGANIZER;CN=WGO Gminy Piaseczno:MAILTO:go@piaseczno.eu
DESCRIPTION: Odbiór odpadów 
URL;VALUE=URI:https://odpady.piaseczno.eu/harmonogram-odbioru-odpadow/odbior/sektor-iii-piaseczno-ulice-fabryczna-jana-pawla-ii-ludowa-powstancow-warszawy-slowicza-zytnia/
SUMMARY:Sektor III - Piaseczno: od ul. Fabryczna do ul. Żytnia
END:VEVENT
BEGIN:VEVENT
DTSTART:20260805T060000Z
DTEND:20260805T190000Z
DTSTAMP:20260424T164055Z
UID:69eb9d17cc0d7
CATEGORIES:Odpady zmieszane
LOCATION:SEKTOR III: PIASECZNO od ul. Fabrycznej do ul.Żytnej 
ORGANIZER;CN=WGO Gminy Piaseczno:MAILTO:go@piaseczno.eu
DESCRIPTION: Odbiór odpadów 
URL;VALUE=URI:https://odpady.piaseczno.eu/harmonogram-odbioru-odpadow/odbior/sektor-iii-piaseczno-ulice-fabryczna-jana-pawla-ii-ludowa-powstancow-warszawy-slowicza-zytnia/
SUMMARY:Sektor III - Piaseczno: od ul. Fabryczna do ul. Żytnia
END:VEVENT
BEGIN:VEVENT
DTSTART:20260812T060000Z
DTEND:20260812T190000Z
DTSTAMP:20260424T164055Z
UID:69eb9d17cc0f4
CATEGORIES:Odpady zmieszane
LOCATION:SEKTOR III: PIASECZNO od ul. Fabrycznej do ul.Żytnej 
ORGANIZER;CN=WGO Gminy Piaseczno:MAILTO:go@piaseczno.eu
DESCRIPTION: Odbiór odpadów 
URL;VALUE=URI:https://odpady.piaseczno.eu/harmonogram-odbioru-odpadow/odbior/sektor-iii-piaseczno-ulice-fabryczna-jana-pawla-ii-ludowa-powstancow-warszawy-slowicza-zytnia/
SUMMARY:Sektor III - Piaseczno: od ul. Fabryczna do ul. Żytnia
END:VEVENT
BEGIN:VEVENT
DTSTART:20260819T060000Z
DTEND:20260819T190000Z
DTSTAMP:20260424T164055Z
UID:69eb9d17cc10f
CATEGORIES:Odpady zmieszane
LOCATION:SEKTOR III: PIASECZNO od ul. Fabrycznej do ul.Żytnej 
ORGANIZER;CN=WGO Gminy Piaseczno:MAILTO:go@piaseczno.eu
DESCRIPTION: Odbiór odpadów 
URL;VALUE=URI:https://odpady.piaseczno.eu/harmonogram-odbioru-odpadow/odbior/sektor-iii-piaseczno-ulice-fabryczna-jana-pawla-ii-ludowa-powstancow-warszawy-slowicza-zytnia/
SUMMARY:Sektor III - Piaseczno: od ul. Fabryczna do ul. Żytnia
END:VEVENT
BEGIN:VEVENT
DTSTART:20260826T060000Z
DTEND:20260826T190000Z
DTSTAMP:20260424T164055Z
UID:69eb9d17cc129
CATEGORIES:Odpady zmieszane
LOCATION:SEKTOR III: PIASECZNO od ul. Fabrycznej do ul.Żytnej 
ORGANIZER;CN=WGO Gminy Piaseczno:MAILTO:go@piaseczno.eu
DESCRIPTION: Odbiór odpadów 
URL;VALUE=URI:https://odpady.piaseczno.eu/harmonogram-odbioru-odpadow/odbior/sektor-iii-piaseczno-ulice-fabryczna-jana-pawla-ii-ludowa-powstancow-warszawy-slowicza-zytnia/
SUMMARY:Sektor III - Piaseczno: od ul. Fabryczna do ul. Żytnia
END:VEVENT
BEGIN:VEVENT
DTSTART:20260909T060000Z
DTEND:20260909T190000Z
DTSTAMP:20260424T164055Z
UID:69eb9d17cc143
CATEGORIES:Odpady zmieszane
LOCATION:SEKTOR III: PIASECZNO od ul. Fabrycznej do ul.Żytnej 
ORGANIZER;CN=WGO Gminy Piaseczno:MAILTO:go@piaseczno.eu
DESCRIPTION: Odbiór odpadów 
URL;VALUE=URI:https://odpady.piaseczno.eu/harmonogram-odbioru-odpadow/odbior/sektor-iii-piaseczno-ulice-fabryczna-jana-pawla-ii-ludowa-powstancow-warszawy-slowicza-zytnia/
SUMMARY:Sektor III - Piaseczno: od ul. Fabryczna do ul. Żytnia
END:VEVENT
BEGIN:VEVENT
DTSTART:20260923T060000Z
DTEND:20260923T190000Z
DTSTAMP:20260424T164055Z
UID:69eb9d17cc15d
CATEGORIES:Odpady zmieszane
LOCATION:SEKTOR III: PIASECZNO od ul. Fabrycznej do ul.Żytnej 
ORGANIZER;CN=WGO Gminy Piaseczno:MAILTO:go@piaseczno.eu
DESCRIPTION: Odbiór odpadów 
URL;VALUE=URI:https://odpady.piaseczno.eu/harmonogram-odbioru-odpadow/odbior/sektor-iii-piaseczno-ulice-fabryczna-jana-pawla-ii-ludowa-powstancow-warszawy-slowicza-zytnia/
SUMMARY:Sektor III - Piaseczno: od ul. Fabryczna do ul. Żytnia
END:VEVENT
BEGIN:VEVENT
DTSTART:20261007T060000Z
DTEND:20261007T190000Z
DTSTAMP:20260424T164055Z
UID:69eb9d17cc194
CATEGORIES:Odpady zmieszane
LOCATION:SEKTOR III: PIASECZNO od ul. Fabrycznej do ul.Żytnej 
ORGANIZER;CN=WGO Gminy Piaseczno:MAILTO:go@piaseczno.eu
DESCRIPTION: Odbiór odpadów 
URL;VALUE=URI:https://odpady.piaseczno.eu/harmonogram-odbioru-odpadow/odbior/sektor-iii-piaseczno-ulice-fabryczna-jana-pawla-ii-ludowa-powstancow-warszawy-slowicza-zytnia/
SUMMARY:Sektor III - Piaseczno: od ul. Fabryczna do ul. Żytnia
END:VEVENT
BEGIN:VEVENT
DTSTART:20261021T060000Z
DTEND:20261021T190000Z
DTSTAMP:20260424T164055Z
UID:69eb9d17cc1b1
CATEGORIES:Odpady zmieszane
LOCATION:SEKTOR III: PIASECZNO od ul. Fabrycznej do ul.Żytnej 
ORGANIZER;CN=WGO Gminy Piaseczno:MAILTO:go@piaseczno.eu
DESCRIPTION: Odbiór odpadów 
URL;VALUE=URI:https://odpady.piaseczno.eu/harmonogram-odbioru-odpadow/odbior/sektor-iii-piaseczno-ulice-fabryczna-jana-pawla-ii-ludowa-powstancow-warszawy-slowicza-zytnia/
SUMMARY:Sektor III - Piaseczno: od ul. Fabryczna do ul. Żytnia
END:VEVENT
BEGIN:VEVENT
DTSTART:20261104T060000Z
DTEND:20261104T190000Z
DTSTAMP:20260424T164055Z
UID:69eb9d17cc1cc
CATEGORIES:Odpady zmieszane
LOCATION:SEKTOR III: PIASECZNO od ul. Fabrycznej do ul.Żytnej 
ORGANIZER;CN=WGO Gminy Piaseczno:MAILTO:go@piaseczno.eu
DESCRIPTION: Odbiór odpadów 
URL;VALUE=URI:https://odpady.piaseczno.eu/harmonogram-odbioru-odpadow/odbior/sektor-iii-piaseczno-ulice-fabryczna-jana-pawla-ii-ludowa-powstancow-warszawy-slowicza-zytnia/
SUMMARY:Sektor III - Piaseczno: od ul. Fabryczna do ul. Żytnia
END:VEVENT
BEGIN:VEVENT
DTSTART:20261118T060000Z
DTEND:20261118T190000Z
DTSTAMP:20260424T164055Z
UID:69eb9d17cc1ec
CATEGORIES:Odpady zmieszane
LOCATION:SEKTOR III: PIASECZNO od ul. Fabrycznej do ul.Żytnej 
ORGANIZER;CN=WGO Gminy Piaseczno:MAILTO:go@piaseczno.eu
DESCRIPTION: Odbiór odpadów 
URL;VALUE=URI:https://odpady.piaseczno.eu/harmonogram-odbioru-odpadow/odbior/sektor-iii-piaseczno-ulice-fabryczna-jana-pawla-ii-ludowa-powstancow-warszawy-slowicza-zytnia/
SUMMARY:Sektor III - Piaseczno: od ul. Fabryczna do ul. Żytnia
END:VEVENT
END:VCALENDAR
