BEGIN:VCALENDAR
VERSION:2.0
PRODID:-//DIGITAL FACTORY//EVENTS MAKER V1.6.12//EN
CALSCALE:GREGORIAN
METHOD:PUBLISH
BEGIN:VEVENT
DTSTART:20251222T060000Z
DTEND:20251222T190000Z
DTSTAMP:20260423T091212Z
UID:69e9e26cad562
CATEGORIES:odpady segregowane - papier
LOCATION:SEKTOR III: PIASECZNO ulice Chyliczkowska (od nr 1 do 25a i od nr 2 do 20) do Zgoda 
ORGANIZER;CN=WGO Gminy Piaseczno:MAILTO:go@piaseczno.eu
DESCRIPTION: Odbiór odpadów 
URL;VALUE=URI:https://odpady.piaseczno.eu/harmonogram-odbioru-odpadow/odbior/sektor-iii-piaseczno-ulice-chyliczkowska-od-nr-1-do-25a-i-od-nr-2-do-20-koscielna-kosciuszki-od-nr-2-do-18-i-od-nr-1-do-17-krolewskie-lipy-mlynarska-sierakowskiego-warszawska-zgoda-5/
SUMMARY:SEKTOR III - PIASECZNO od ul. Chyliczkowska (od nr 1 do 25a i od nr 2 do 20)\, do ul. Żabia
END:VEVENT
BEGIN:VEVENT
DTSTART:20260121T060000Z
DTEND:20260121T190000Z
DTSTAMP:20260423T091212Z
UID:69e9e26cad611
CATEGORIES:odpady segregowane - papier
LOCATION:SEKTOR III: PIASECZNO ulice Chyliczkowska (od nr 1 do 25a i od nr 2 do 20) do Zgoda 
ORGANIZER;CN=WGO Gminy Piaseczno:MAILTO:go@piaseczno.eu
DESCRIPTION: Odbiór odpadów 
URL;VALUE=URI:https://odpady.piaseczno.eu/harmonogram-odbioru-odpadow/odbior/sektor-iii-piaseczno-ulice-chyliczkowska-od-nr-1-do-25a-i-od-nr-2-do-20-koscielna-kosciuszki-od-nr-2-do-18-i-od-nr-1-do-17-krolewskie-lipy-mlynarska-sierakowskiego-warszawska-zgoda-5/
SUMMARY:SEKTOR III - PIASECZNO od ul. Chyliczkowska (od nr 1 do 25a i od nr 2 do 20)\, do ul. Żabia
END:VEVENT
BEGIN:VEVENT
DTSTART:20260218T060000Z
DTEND:20260218T190000Z
DTSTAMP:20260423T091212Z
UID:69e9e26cad642
CATEGORIES:odpady segregowane - papier
LOCATION:SEKTOR III: PIASECZNO ulice Chyliczkowska (od nr 1 do 25a i od nr 2 do 20) do Zgoda 
ORGANIZER;CN=WGO Gminy Piaseczno:MAILTO:go@piaseczno.eu
DESCRIPTION: Odbiór odpadów 
URL;VALUE=URI:https://odpady.piaseczno.eu/harmonogram-odbioru-odpadow/odbior/sektor-iii-piaseczno-ulice-chyliczkowska-od-nr-1-do-25a-i-od-nr-2-do-20-koscielna-kosciuszki-od-nr-2-do-18-i-od-nr-1-do-17-krolewskie-lipy-mlynarska-sierakowskiego-warszawska-zgoda-5/
SUMMARY:SEKTOR III - PIASECZNO od ul. Chyliczkowska (od nr 1 do 25a i od nr 2 do 20)\, do ul. Żabia
END:VEVENT
BEGIN:VEVENT
DTSTART:20260318T060000Z
DTEND:20260318T190000Z
DTSTAMP:20260423T091212Z
UID:69e9e26cad665
CATEGORIES:odpady segregowane - papier
LOCATION:SEKTOR III: PIASECZNO ulice Chyliczkowska (od nr 1 do 25a i od nr 2 do 20) do Zgoda 
ORGANIZER;CN=WGO Gminy Piaseczno:MAILTO:go@piaseczno.eu
DESCRIPTION: Odbiór odpadów 
URL;VALUE=URI:https://odpady.piaseczno.eu/harmonogram-odbioru-odpadow/odbior/sektor-iii-piaseczno-ulice-chyliczkowska-od-nr-1-do-25a-i-od-nr-2-do-20-koscielna-kosciuszki-od-nr-2-do-18-i-od-nr-1-do-17-krolewskie-lipy-mlynarska-sierakowskiego-warszawska-zgoda-5/
SUMMARY:SEKTOR III - PIASECZNO od ul. Chyliczkowska (od nr 1 do 25a i od nr 2 do 20)\, do ul. Żabia
END:VEVENT
BEGIN:VEVENT
DTSTART:20260415T060000Z
DTEND:20260415T190000Z
DTSTAMP:20260423T091212Z
UID:69e9e26cad685
CATEGORIES:odpady segregowane - papier
LOCATION:SEKTOR III: PIASECZNO ulice Chyliczkowska (od nr 1 do 25a i od nr 2 do 20) do Zgoda 
ORGANIZER;CN=WGO Gminy Piaseczno:MAILTO:go@piaseczno.eu
DESCRIPTION: Odbiór odpadów 
URL;VALUE=URI:https://odpady.piaseczno.eu/harmonogram-odbioru-odpadow/odbior/sektor-iii-piaseczno-ulice-chyliczkowska-od-nr-1-do-25a-i-od-nr-2-do-20-koscielna-kosciuszki-od-nr-2-do-18-i-od-nr-1-do-17-krolewskie-lipy-mlynarska-sierakowskiego-warszawska-zgoda-5/
SUMMARY:SEKTOR III - PIASECZNO od ul. Chyliczkowska (od nr 1 do 25a i od nr 2 do 20)\, do ul. Żabia
END:VEVENT
BEGIN:VEVENT
DTSTART:20260513T060000Z
DTEND:20260513T190000Z
DTSTAMP:20260423T091212Z
UID:69e9e26cad6a4
CATEGORIES:odpady segregowane - papier
LOCATION:SEKTOR III: PIASECZNO ulice Chyliczkowska (od nr 1 do 25a i od nr 2 do 20) do Zgoda 
ORGANIZER;CN=WGO Gminy Piaseczno:MAILTO:go@piaseczno.eu
DESCRIPTION: Odbiór odpadów 
URL;VALUE=URI:https://odpady.piaseczno.eu/harmonogram-odbioru-odpadow/odbior/sektor-iii-piaseczno-ulice-chyliczkowska-od-nr-1-do-25a-i-od-nr-2-do-20-koscielna-kosciuszki-od-nr-2-do-18-i-od-nr-1-do-17-krolewskie-lipy-mlynarska-sierakowskiego-warszawska-zgoda-5/
SUMMARY:SEKTOR III - PIASECZNO od ul. Chyliczkowska (od nr 1 do 25a i od nr 2 do 20)\, do ul. Żabia
END:VEVENT
BEGIN:VEVENT
DTSTART:20260610T060000Z
DTEND:20260610T190000Z
DTSTAMP:20260423T091212Z
UID:69e9e26cad6c7
CATEGORIES:odpady segregowane - papier
LOCATION:SEKTOR III: PIASECZNO ulice Chyliczkowska (od nr 1 do 25a i od nr 2 do 20) do Zgoda 
ORGANIZER;CN=WGO Gminy Piaseczno:MAILTO:go@piaseczno.eu
DESCRIPTION: Odbiór odpadów 
URL;VALUE=URI:https://odpady.piaseczno.eu/harmonogram-odbioru-odpadow/odbior/sektor-iii-piaseczno-ulice-chyliczkowska-od-nr-1-do-25a-i-od-nr-2-do-20-koscielna-kosciuszki-od-nr-2-do-18-i-od-nr-1-do-17-krolewskie-lipy-mlynarska-sierakowskiego-warszawska-zgoda-5/
SUMMARY:SEKTOR III - PIASECZNO od ul. Chyliczkowska (od nr 1 do 25a i od nr 2 do 20)\, do ul. Żabia
END:VEVENT
BEGIN:VEVENT
DTSTART:20260708T060000Z
DTEND:20260708T190000Z
DTSTAMP:20260423T091212Z
UID:69e9e26cad6e5
CATEGORIES:odpady segregowane - papier
LOCATION:SEKTOR III: PIASECZNO ulice Chyliczkowska (od nr 1 do 25a i od nr 2 do 20) do Zgoda 
ORGANIZER;CN=WGO Gminy Piaseczno:MAILTO:go@piaseczno.eu
DESCRIPTION: Odbiór odpadów 
URL;VALUE=URI:https://odpady.piaseczno.eu/harmonogram-odbioru-odpadow/odbior/sektor-iii-piaseczno-ulice-chyliczkowska-od-nr-1-do-25a-i-od-nr-2-do-20-koscielna-kosciuszki-od-nr-2-do-18-i-od-nr-1-do-17-krolewskie-lipy-mlynarska-sierakowskiego-warszawska-zgoda-5/
SUMMARY:SEKTOR III - PIASECZNO od ul. Chyliczkowska (od nr 1 do 25a i od nr 2 do 20)\, do ul. Żabia
END:VEVENT
BEGIN:VEVENT
DTSTART:20260805T060000Z
DTEND:20260805T190000Z
DTSTAMP:20260423T091212Z
UID:69e9e26cad701
CATEGORIES:odpady segregowane - papier
LOCATION:SEKTOR III: PIASECZNO ulice Chyliczkowska (od nr 1 do 25a i od nr 2 do 20) do Zgoda 
ORGANIZER;CN=WGO Gminy Piaseczno:MAILTO:go@piaseczno.eu
DESCRIPTION: Odbiór odpadów 
URL;VALUE=URI:https://odpady.piaseczno.eu/harmonogram-odbioru-odpadow/odbior/sektor-iii-piaseczno-ulice-chyliczkowska-od-nr-1-do-25a-i-od-nr-2-do-20-koscielna-kosciuszki-od-nr-2-do-18-i-od-nr-1-do-17-krolewskie-lipy-mlynarska-sierakowskiego-warszawska-zgoda-5/
SUMMARY:SEKTOR III - PIASECZNO od ul. Chyliczkowska (od nr 1 do 25a i od nr 2 do 20)\, do ul. Żabia
END:VEVENT
BEGIN:VEVENT
DTSTART:20260902T060000Z
DTEND:20260902T190000Z
DTSTAMP:20260423T091212Z
UID:69e9e26cad71d
CATEGORIES:odpady segregowane - papier
LOCATION:SEKTOR III: PIASECZNO ulice Chyliczkowska (od nr 1 do 25a i od nr 2 do 20) do Zgoda 
ORGANIZER;CN=WGO Gminy Piaseczno:MAILTO:go@piaseczno.eu
DESCRIPTION: Odbiór odpadów 
URL;VALUE=URI:https://odpady.piaseczno.eu/harmonogram-odbioru-odpadow/odbior/sektor-iii-piaseczno-ulice-chyliczkowska-od-nr-1-do-25a-i-od-nr-2-do-20-koscielna-kosciuszki-od-nr-2-do-18-i-od-nr-1-do-17-krolewskie-lipy-mlynarska-sierakowskiego-warszawska-zgoda-5/
SUMMARY:SEKTOR III - PIASECZNO od ul. Chyliczkowska (od nr 1 do 25a i od nr 2 do 20)\, do ul. Żabia
END:VEVENT
BEGIN:VEVENT
DTSTART:20260930T060000Z
DTEND:20260930T190000Z
DTSTAMP:20260423T091212Z
UID:69e9e26cad73a
CATEGORIES:odpady segregowane - papier
LOCATION:SEKTOR III: PIASECZNO ulice Chyliczkowska (od nr 1 do 25a i od nr 2 do 20) do Zgoda 
ORGANIZER;CN=WGO Gminy Piaseczno:MAILTO:go@piaseczno.eu
DESCRIPTION: Odbiór odpadów 
URL;VALUE=URI:https://odpady.piaseczno.eu/harmonogram-odbioru-odpadow/odbior/sektor-iii-piaseczno-ulice-chyliczkowska-od-nr-1-do-25a-i-od-nr-2-do-20-koscielna-kosciuszki-od-nr-2-do-18-i-od-nr-1-do-17-krolewskie-lipy-mlynarska-sierakowskiego-warszawska-zgoda-5/
SUMMARY:SEKTOR III - PIASECZNO od ul. Chyliczkowska (od nr 1 do 25a i od nr 2 do 20)\, do ul. Żabia
END:VEVENT
BEGIN:VEVENT
DTSTART:20261028T060000Z
DTEND:20261028T190000Z
DTSTAMP:20260423T091212Z
UID:69e9e26cad756
CATEGORIES:odpady segregowane - papier
LOCATION:SEKTOR III: PIASECZNO ulice Chyliczkowska (od nr 1 do 25a i od nr 2 do 20) do Zgoda 
ORGANIZER;CN=WGO Gminy Piaseczno:MAILTO:go@piaseczno.eu
DESCRIPTION: Odbiór odpadów 
URL;VALUE=URI:https://odpady.piaseczno.eu/harmonogram-odbioru-odpadow/odbior/sektor-iii-piaseczno-ulice-chyliczkowska-od-nr-1-do-25a-i-od-nr-2-do-20-koscielna-kosciuszki-od-nr-2-do-18-i-od-nr-1-do-17-krolewskie-lipy-mlynarska-sierakowskiego-warszawska-zgoda-5/
SUMMARY:SEKTOR III - PIASECZNO od ul. Chyliczkowska (od nr 1 do 25a i od nr 2 do 20)\, do ul. Żabia
END:VEVENT
BEGIN:VEVENT
DTSTART:20261125T060000Z
DTEND:20261125T190000Z
DTSTAMP:20260423T091212Z
UID:69e9e26cad77a
CATEGORIES:odpady segregowane - papier
LOCATION:SEKTOR III: PIASECZNO ulice Chyliczkowska (od nr 1 do 25a i od nr 2 do 20) do Zgoda 
ORGANIZER;CN=WGO Gminy Piaseczno:MAILTO:go@piaseczno.eu
DESCRIPTION: Odbiór odpadów 
URL;VALUE=URI:https://odpady.piaseczno.eu/harmonogram-odbioru-odpadow/odbior/sektor-iii-piaseczno-ulice-chyliczkowska-od-nr-1-do-25a-i-od-nr-2-do-20-koscielna-kosciuszki-od-nr-2-do-18-i-od-nr-1-do-17-krolewskie-lipy-mlynarska-sierakowskiego-warszawska-zgoda-5/
SUMMARY:SEKTOR III - PIASECZNO od ul. Chyliczkowska (od nr 1 do 25a i od nr 2 do 20)\, do ul. Żabia
END:VEVENT
END:VCALENDAR
