BEGIN:VCALENDAR
VERSION:2.0
PRODID:-//DIGITAL FACTORY//EVENTS MAKER V1.6.12//EN
CALSCALE:GREGORIAN
METHOD:PUBLISH
BEGIN:VEVENT
DTSTART:20251208T060000Z
DTEND:20251208T190000Z
DTSTAMP:20260424T083845Z
UID:69eb2c1561067
CATEGORIES:odpady bio ogrodowe i kuchenne
LOCATION:SEKTOR III: PIASECZNO ulice Chyliczkowska (od nr 1 do 25a i od nr 2 do 20) do Zgoda 
ORGANIZER;CN=WGO Gminy Piaseczno:MAILTO:go@piaseczno.eu
DESCRIPTION: Odbiór odpadów 
URL;VALUE=URI:https://odpady.piaseczno.eu/harmonogram-odbioru-odpadow/odbior/sektor-iii-piaseczno-ulice-chyliczkowska-od-nr-1-do-25a-i-od-nr-2-do-20-koscielna-kosciuszki-od-nr-2-do-18-i-od-nr-1-do-17-krolewskie-lipy-mlynarska-sierakowskiego-warszawska-zgoda-3/
SUMMARY:SEKTOR III - PIASECZNO: od ul. Chyliczkowska (od nr 1 do 25a i od nr 2 do 20)\, do ul. Żabia
END:VEVENT
BEGIN:VEVENT
DTSTART:20251222T060000Z
DTEND:20251222T190000Z
DTSTAMP:20260424T083845Z
UID:69eb2c15610ff
CATEGORIES:odpady bio ogrodowe i kuchenne
LOCATION:SEKTOR III: PIASECZNO ulice Chyliczkowska (od nr 1 do 25a i od nr 2 do 20) do Zgoda 
ORGANIZER;CN=WGO Gminy Piaseczno:MAILTO:go@piaseczno.eu
DESCRIPTION: Odbiór odpadów 
URL;VALUE=URI:https://odpady.piaseczno.eu/harmonogram-odbioru-odpadow/odbior/sektor-iii-piaseczno-ulice-chyliczkowska-od-nr-1-do-25a-i-od-nr-2-do-20-koscielna-kosciuszki-od-nr-2-do-18-i-od-nr-1-do-17-krolewskie-lipy-mlynarska-sierakowskiego-warszawska-zgoda-3/
SUMMARY:SEKTOR III - PIASECZNO: od ul. Chyliczkowska (od nr 1 do 25a i od nr 2 do 20)\, do ul. Żabia
END:VEVENT
BEGIN:VEVENT
DTSTART:20260105T060000Z
DTEND:20260105T190000Z
DTSTAMP:20260424T083845Z
UID:69eb2c156112a
CATEGORIES:odpady bio ogrodowe i kuchenne
LOCATION:SEKTOR III: PIASECZNO ulice Chyliczkowska (od nr 1 do 25a i od nr 2 do 20) do Zgoda 
ORGANIZER;CN=WGO Gminy Piaseczno:MAILTO:go@piaseczno.eu
DESCRIPTION: Odbiór odpadów 
URL;VALUE=URI:https://odpady.piaseczno.eu/harmonogram-odbioru-odpadow/odbior/sektor-iii-piaseczno-ulice-chyliczkowska-od-nr-1-do-25a-i-od-nr-2-do-20-koscielna-kosciuszki-od-nr-2-do-18-i-od-nr-1-do-17-krolewskie-lipy-mlynarska-sierakowskiego-warszawska-zgoda-3/
SUMMARY:SEKTOR III - PIASECZNO: od ul. Chyliczkowska (od nr 1 do 25a i od nr 2 do 20)\, do ul. Żabia
END:VEVENT
BEGIN:VEVENT
DTSTART:20260119T060000Z
DTEND:20260119T190000Z
DTSTAMP:20260424T083845Z
UID:69eb2c156114a
CATEGORIES:odpady bio ogrodowe i kuchenne
LOCATION:SEKTOR III: PIASECZNO ulice Chyliczkowska (od nr 1 do 25a i od nr 2 do 20) do Zgoda 
ORGANIZER;CN=WGO Gminy Piaseczno:MAILTO:go@piaseczno.eu
DESCRIPTION: Odbiór odpadów 
URL;VALUE=URI:https://odpady.piaseczno.eu/harmonogram-odbioru-odpadow/odbior/sektor-iii-piaseczno-ulice-chyliczkowska-od-nr-1-do-25a-i-od-nr-2-do-20-koscielna-kosciuszki-od-nr-2-do-18-i-od-nr-1-do-17-krolewskie-lipy-mlynarska-sierakowskiego-warszawska-zgoda-3/
SUMMARY:SEKTOR III - PIASECZNO: od ul. Chyliczkowska (od nr 1 do 25a i od nr 2 do 20)\, do ul. Żabia
END:VEVENT
BEGIN:VEVENT
DTSTART:20260202T060000Z
DTEND:20260202T190000Z
DTSTAMP:20260424T083845Z
UID:69eb2c1561169
CATEGORIES:odpady bio ogrodowe i kuchenne
LOCATION:SEKTOR III: PIASECZNO ulice Chyliczkowska (od nr 1 do 25a i od nr 2 do 20) do Zgoda 
ORGANIZER;CN=WGO Gminy Piaseczno:MAILTO:go@piaseczno.eu
DESCRIPTION: Odbiór odpadów 
URL;VALUE=URI:https://odpady.piaseczno.eu/harmonogram-odbioru-odpadow/odbior/sektor-iii-piaseczno-ulice-chyliczkowska-od-nr-1-do-25a-i-od-nr-2-do-20-koscielna-kosciuszki-od-nr-2-do-18-i-od-nr-1-do-17-krolewskie-lipy-mlynarska-sierakowskiego-warszawska-zgoda-3/
SUMMARY:SEKTOR III - PIASECZNO: od ul. Chyliczkowska (od nr 1 do 25a i od nr 2 do 20)\, do ul. Żabia
END:VEVENT
BEGIN:VEVENT
DTSTART:20260216T060000Z
DTEND:20260216T190000Z
DTSTAMP:20260424T083845Z
UID:69eb2c156118c
CATEGORIES:odpady bio ogrodowe i kuchenne
LOCATION:SEKTOR III: PIASECZNO ulice Chyliczkowska (od nr 1 do 25a i od nr 2 do 20) do Zgoda 
ORGANIZER;CN=WGO Gminy Piaseczno:MAILTO:go@piaseczno.eu
DESCRIPTION: Odbiór odpadów 
URL;VALUE=URI:https://odpady.piaseczno.eu/harmonogram-odbioru-odpadow/odbior/sektor-iii-piaseczno-ulice-chyliczkowska-od-nr-1-do-25a-i-od-nr-2-do-20-koscielna-kosciuszki-od-nr-2-do-18-i-od-nr-1-do-17-krolewskie-lipy-mlynarska-sierakowskiego-warszawska-zgoda-3/
SUMMARY:SEKTOR III - PIASECZNO: od ul. Chyliczkowska (od nr 1 do 25a i od nr 2 do 20)\, do ul. Żabia
END:VEVENT
BEGIN:VEVENT
DTSTART:20260302T060000Z
DTEND:20260302T190000Z
DTSTAMP:20260424T083845Z
UID:69eb2c15611ac
CATEGORIES:odpady bio ogrodowe i kuchenne
LOCATION:SEKTOR III: PIASECZNO ulice Chyliczkowska (od nr 1 do 25a i od nr 2 do 20) do Zgoda 
ORGANIZER;CN=WGO Gminy Piaseczno:MAILTO:go@piaseczno.eu
DESCRIPTION: Odbiór odpadów 
URL;VALUE=URI:https://odpady.piaseczno.eu/harmonogram-odbioru-odpadow/odbior/sektor-iii-piaseczno-ulice-chyliczkowska-od-nr-1-do-25a-i-od-nr-2-do-20-koscielna-kosciuszki-od-nr-2-do-18-i-od-nr-1-do-17-krolewskie-lipy-mlynarska-sierakowskiego-warszawska-zgoda-3/
SUMMARY:SEKTOR III - PIASECZNO: od ul. Chyliczkowska (od nr 1 do 25a i od nr 2 do 20)\, do ul. Żabia
END:VEVENT
BEGIN:VEVENT
DTSTART:20260316T060000Z
DTEND:20260316T190000Z
DTSTAMP:20260424T083845Z
UID:69eb2c15611c8
CATEGORIES:odpady bio ogrodowe i kuchenne
LOCATION:SEKTOR III: PIASECZNO ulice Chyliczkowska (od nr 1 do 25a i od nr 2 do 20) do Zgoda 
ORGANIZER;CN=WGO Gminy Piaseczno:MAILTO:go@piaseczno.eu
DESCRIPTION: Odbiór odpadów 
URL;VALUE=URI:https://odpady.piaseczno.eu/harmonogram-odbioru-odpadow/odbior/sektor-iii-piaseczno-ulice-chyliczkowska-od-nr-1-do-25a-i-od-nr-2-do-20-koscielna-kosciuszki-od-nr-2-do-18-i-od-nr-1-do-17-krolewskie-lipy-mlynarska-sierakowskiego-warszawska-zgoda-3/
SUMMARY:SEKTOR III - PIASECZNO: od ul. Chyliczkowska (od nr 1 do 25a i od nr 2 do 20)\, do ul. Żabia
END:VEVENT
BEGIN:VEVENT
DTSTART:20260330T060000Z
DTEND:20260330T190000Z
DTSTAMP:20260424T083845Z
UID:69eb2c15611e3
CATEGORIES:odpady bio ogrodowe i kuchenne
LOCATION:SEKTOR III: PIASECZNO ulice Chyliczkowska (od nr 1 do 25a i od nr 2 do 20) do Zgoda 
ORGANIZER;CN=WGO Gminy Piaseczno:MAILTO:go@piaseczno.eu
DESCRIPTION: Odbiór odpadów 
URL;VALUE=URI:https://odpady.piaseczno.eu/harmonogram-odbioru-odpadow/odbior/sektor-iii-piaseczno-ulice-chyliczkowska-od-nr-1-do-25a-i-od-nr-2-do-20-koscielna-kosciuszki-od-nr-2-do-18-i-od-nr-1-do-17-krolewskie-lipy-mlynarska-sierakowskiego-warszawska-zgoda-3/
SUMMARY:SEKTOR III - PIASECZNO: od ul. Chyliczkowska (od nr 1 do 25a i od nr 2 do 20)\, do ul. Żabia
END:VEVENT
BEGIN:VEVENT
DTSTART:20260413T060000Z
DTEND:20260413T190000Z
DTSTAMP:20260424T083845Z
UID:69eb2c15611fe
CATEGORIES:odpady bio ogrodowe i kuchenne
LOCATION:SEKTOR III: PIASECZNO ulice Chyliczkowska (od nr 1 do 25a i od nr 2 do 20) do Zgoda 
ORGANIZER;CN=WGO Gminy Piaseczno:MAILTO:go@piaseczno.eu
DESCRIPTION: Odbiór odpadów 
URL;VALUE=URI:https://odpady.piaseczno.eu/harmonogram-odbioru-odpadow/odbior/sektor-iii-piaseczno-ulice-chyliczkowska-od-nr-1-do-25a-i-od-nr-2-do-20-koscielna-kosciuszki-od-nr-2-do-18-i-od-nr-1-do-17-krolewskie-lipy-mlynarska-sierakowskiego-warszawska-zgoda-3/
SUMMARY:SEKTOR III - PIASECZNO: od ul. Chyliczkowska (od nr 1 do 25a i od nr 2 do 20)\, do ul. Żabia
END:VEVENT
BEGIN:VEVENT
DTSTART:20260427T060000Z
DTEND:20260427T190000Z
DTSTAMP:20260424T083845Z
UID:69eb2c1561219
CATEGORIES:odpady bio ogrodowe i kuchenne
LOCATION:SEKTOR III: PIASECZNO ulice Chyliczkowska (od nr 1 do 25a i od nr 2 do 20) do Zgoda 
ORGANIZER;CN=WGO Gminy Piaseczno:MAILTO:go@piaseczno.eu
DESCRIPTION: Odbiór odpadów 
URL;VALUE=URI:https://odpady.piaseczno.eu/harmonogram-odbioru-odpadow/odbior/sektor-iii-piaseczno-ulice-chyliczkowska-od-nr-1-do-25a-i-od-nr-2-do-20-koscielna-kosciuszki-od-nr-2-do-18-i-od-nr-1-do-17-krolewskie-lipy-mlynarska-sierakowskiego-warszawska-zgoda-3/
SUMMARY:SEKTOR III - PIASECZNO: od ul. Chyliczkowska (od nr 1 do 25a i od nr 2 do 20)\, do ul. Żabia
END:VEVENT
BEGIN:VEVENT
DTSTART:20260511T060000Z
DTEND:20260511T190000Z
DTSTAMP:20260424T083845Z
UID:69eb2c1561234
CATEGORIES:odpady bio ogrodowe i kuchenne
LOCATION:SEKTOR III: PIASECZNO ulice Chyliczkowska (od nr 1 do 25a i od nr 2 do 20) do Zgoda 
ORGANIZER;CN=WGO Gminy Piaseczno:MAILTO:go@piaseczno.eu
DESCRIPTION: Odbiór odpadów 
URL;VALUE=URI:https://odpady.piaseczno.eu/harmonogram-odbioru-odpadow/odbior/sektor-iii-piaseczno-ulice-chyliczkowska-od-nr-1-do-25a-i-od-nr-2-do-20-koscielna-kosciuszki-od-nr-2-do-18-i-od-nr-1-do-17-krolewskie-lipy-mlynarska-sierakowskiego-warszawska-zgoda-3/
SUMMARY:SEKTOR III - PIASECZNO: od ul. Chyliczkowska (od nr 1 do 25a i od nr 2 do 20)\, do ul. Żabia
END:VEVENT
BEGIN:VEVENT
DTSTART:20260525T060000Z
DTEND:20260525T190000Z
DTSTAMP:20260424T083845Z
UID:69eb2c1561252
CATEGORIES:odpady bio ogrodowe i kuchenne
LOCATION:SEKTOR III: PIASECZNO ulice Chyliczkowska (od nr 1 do 25a i od nr 2 do 20) do Zgoda 
ORGANIZER;CN=WGO Gminy Piaseczno:MAILTO:go@piaseczno.eu
DESCRIPTION: Odbiór odpadów 
URL;VALUE=URI:https://odpady.piaseczno.eu/harmonogram-odbioru-odpadow/odbior/sektor-iii-piaseczno-ulice-chyliczkowska-od-nr-1-do-25a-i-od-nr-2-do-20-koscielna-kosciuszki-od-nr-2-do-18-i-od-nr-1-do-17-krolewskie-lipy-mlynarska-sierakowskiego-warszawska-zgoda-3/
SUMMARY:SEKTOR III - PIASECZNO: od ul. Chyliczkowska (od nr 1 do 25a i od nr 2 do 20)\, do ul. Żabia
END:VEVENT
BEGIN:VEVENT
DTSTART:20260608T060000Z
DTEND:20260608T190000Z
DTSTAMP:20260424T083845Z
UID:69eb2c156127a
CATEGORIES:odpady bio ogrodowe i kuchenne
LOCATION:SEKTOR III: PIASECZNO ulice Chyliczkowska (od nr 1 do 25a i od nr 2 do 20) do Zgoda 
ORGANIZER;CN=WGO Gminy Piaseczno:MAILTO:go@piaseczno.eu
DESCRIPTION: Odbiór odpadów 
URL;VALUE=URI:https://odpady.piaseczno.eu/harmonogram-odbioru-odpadow/odbior/sektor-iii-piaseczno-ulice-chyliczkowska-od-nr-1-do-25a-i-od-nr-2-do-20-koscielna-kosciuszki-od-nr-2-do-18-i-od-nr-1-do-17-krolewskie-lipy-mlynarska-sierakowskiego-warszawska-zgoda-3/
SUMMARY:SEKTOR III - PIASECZNO: od ul. Chyliczkowska (od nr 1 do 25a i od nr 2 do 20)\, do ul. Żabia
END:VEVENT
BEGIN:VEVENT
DTSTART:20260622T060000Z
DTEND:20260622T190000Z
DTSTAMP:20260424T083845Z
UID:69eb2c1561293
CATEGORIES:odpady bio ogrodowe i kuchenne
LOCATION:SEKTOR III: PIASECZNO ulice Chyliczkowska (od nr 1 do 25a i od nr 2 do 20) do Zgoda 
ORGANIZER;CN=WGO Gminy Piaseczno:MAILTO:go@piaseczno.eu
DESCRIPTION: Odbiór odpadów 
URL;VALUE=URI:https://odpady.piaseczno.eu/harmonogram-odbioru-odpadow/odbior/sektor-iii-piaseczno-ulice-chyliczkowska-od-nr-1-do-25a-i-od-nr-2-do-20-koscielna-kosciuszki-od-nr-2-do-18-i-od-nr-1-do-17-krolewskie-lipy-mlynarska-sierakowskiego-warszawska-zgoda-3/
SUMMARY:SEKTOR III - PIASECZNO: od ul. Chyliczkowska (od nr 1 do 25a i od nr 2 do 20)\, do ul. Żabia
END:VEVENT
BEGIN:VEVENT
DTSTART:20260706T060000Z
DTEND:20260706T190000Z
DTSTAMP:20260424T083845Z
UID:69eb2c15612bd
CATEGORIES:odpady bio ogrodowe i kuchenne
LOCATION:SEKTOR III: PIASECZNO ulice Chyliczkowska (od nr 1 do 25a i od nr 2 do 20) do Zgoda 
ORGANIZER;CN=WGO Gminy Piaseczno:MAILTO:go@piaseczno.eu
DESCRIPTION: Odbiór odpadów 
URL;VALUE=URI:https://odpady.piaseczno.eu/harmonogram-odbioru-odpadow/odbior/sektor-iii-piaseczno-ulice-chyliczkowska-od-nr-1-do-25a-i-od-nr-2-do-20-koscielna-kosciuszki-od-nr-2-do-18-i-od-nr-1-do-17-krolewskie-lipy-mlynarska-sierakowskiego-warszawska-zgoda-3/
SUMMARY:SEKTOR III - PIASECZNO: od ul. Chyliczkowska (od nr 1 do 25a i od nr 2 do 20)\, do ul. Żabia
END:VEVENT
BEGIN:VEVENT
DTSTART:20260720T060000Z
DTEND:20260720T190000Z
DTSTAMP:20260424T083845Z
UID:69eb2c15612d7
CATEGORIES:odpady bio ogrodowe i kuchenne
LOCATION:SEKTOR III: PIASECZNO ulice Chyliczkowska (od nr 1 do 25a i od nr 2 do 20) do Zgoda 
ORGANIZER;CN=WGO Gminy Piaseczno:MAILTO:go@piaseczno.eu
DESCRIPTION: Odbiór odpadów 
URL;VALUE=URI:https://odpady.piaseczno.eu/harmonogram-odbioru-odpadow/odbior/sektor-iii-piaseczno-ulice-chyliczkowska-od-nr-1-do-25a-i-od-nr-2-do-20-koscielna-kosciuszki-od-nr-2-do-18-i-od-nr-1-do-17-krolewskie-lipy-mlynarska-sierakowskiego-warszawska-zgoda-3/
SUMMARY:SEKTOR III - PIASECZNO: od ul. Chyliczkowska (od nr 1 do 25a i od nr 2 do 20)\, do ul. Żabia
END:VEVENT
BEGIN:VEVENT
DTSTART:20260803T060000Z
DTEND:20260803T190000Z
DTSTAMP:20260424T083845Z
UID:69eb2c15612f1
CATEGORIES:odpady bio ogrodowe i kuchenne
LOCATION:SEKTOR III: PIASECZNO ulice Chyliczkowska (od nr 1 do 25a i od nr 2 do 20) do Zgoda 
ORGANIZER;CN=WGO Gminy Piaseczno:MAILTO:go@piaseczno.eu
DESCRIPTION: Odbiór odpadów 
URL;VALUE=URI:https://odpady.piaseczno.eu/harmonogram-odbioru-odpadow/odbior/sektor-iii-piaseczno-ulice-chyliczkowska-od-nr-1-do-25a-i-od-nr-2-do-20-koscielna-kosciuszki-od-nr-2-do-18-i-od-nr-1-do-17-krolewskie-lipy-mlynarska-sierakowskiego-warszawska-zgoda-3/
SUMMARY:SEKTOR III - PIASECZNO: od ul. Chyliczkowska (od nr 1 do 25a i od nr 2 do 20)\, do ul. Żabia
END:VEVENT
BEGIN:VEVENT
DTSTART:20260817T060000Z
DTEND:20260817T190000Z
DTSTAMP:20260424T083845Z
UID:69eb2c1561311
CATEGORIES:odpady bio ogrodowe i kuchenne
LOCATION:SEKTOR III: PIASECZNO ulice Chyliczkowska (od nr 1 do 25a i od nr 2 do 20) do Zgoda 
ORGANIZER;CN=WGO Gminy Piaseczno:MAILTO:go@piaseczno.eu
DESCRIPTION: Odbiór odpadów 
URL;VALUE=URI:https://odpady.piaseczno.eu/harmonogram-odbioru-odpadow/odbior/sektor-iii-piaseczno-ulice-chyliczkowska-od-nr-1-do-25a-i-od-nr-2-do-20-koscielna-kosciuszki-od-nr-2-do-18-i-od-nr-1-do-17-krolewskie-lipy-mlynarska-sierakowskiego-warszawska-zgoda-3/
SUMMARY:SEKTOR III - PIASECZNO: od ul. Chyliczkowska (od nr 1 do 25a i od nr 2 do 20)\, do ul. Żabia
END:VEVENT
BEGIN:VEVENT
DTSTART:20260831T060000Z
DTEND:20260831T190000Z
DTSTAMP:20260424T083845Z
UID:69eb2c156132a
CATEGORIES:odpady bio ogrodowe i kuchenne
LOCATION:SEKTOR III: PIASECZNO ulice Chyliczkowska (od nr 1 do 25a i od nr 2 do 20) do Zgoda 
ORGANIZER;CN=WGO Gminy Piaseczno:MAILTO:go@piaseczno.eu
DESCRIPTION: Odbiór odpadów 
URL;VALUE=URI:https://odpady.piaseczno.eu/harmonogram-odbioru-odpadow/odbior/sektor-iii-piaseczno-ulice-chyliczkowska-od-nr-1-do-25a-i-od-nr-2-do-20-koscielna-kosciuszki-od-nr-2-do-18-i-od-nr-1-do-17-krolewskie-lipy-mlynarska-sierakowskiego-warszawska-zgoda-3/
SUMMARY:SEKTOR III - PIASECZNO: od ul. Chyliczkowska (od nr 1 do 25a i od nr 2 do 20)\, do ul. Żabia
END:VEVENT
BEGIN:VEVENT
DTSTART:20260914T060000Z
DTEND:20260914T190000Z
DTSTAMP:20260424T083845Z
UID:69eb2c1561344
CATEGORIES:odpady bio ogrodowe i kuchenne
LOCATION:SEKTOR III: PIASECZNO ulice Chyliczkowska (od nr 1 do 25a i od nr 2 do 20) do Zgoda 
ORGANIZER;CN=WGO Gminy Piaseczno:MAILTO:go@piaseczno.eu
DESCRIPTION: Odbiór odpadów 
URL;VALUE=URI:https://odpady.piaseczno.eu/harmonogram-odbioru-odpadow/odbior/sektor-iii-piaseczno-ulice-chyliczkowska-od-nr-1-do-25a-i-od-nr-2-do-20-koscielna-kosciuszki-od-nr-2-do-18-i-od-nr-1-do-17-krolewskie-lipy-mlynarska-sierakowskiego-warszawska-zgoda-3/
SUMMARY:SEKTOR III - PIASECZNO: od ul. Chyliczkowska (od nr 1 do 25a i od nr 2 do 20)\, do ul. Żabia
END:VEVENT
BEGIN:VEVENT
DTSTART:20260928T060000Z
DTEND:20260928T190000Z
DTSTAMP:20260424T083845Z
UID:69eb2c156135e
CATEGORIES:odpady bio ogrodowe i kuchenne
LOCATION:SEKTOR III: PIASECZNO ulice Chyliczkowska (od nr 1 do 25a i od nr 2 do 20) do Zgoda 
ORGANIZER;CN=WGO Gminy Piaseczno:MAILTO:go@piaseczno.eu
DESCRIPTION: Odbiór odpadów 
URL;VALUE=URI:https://odpady.piaseczno.eu/harmonogram-odbioru-odpadow/odbior/sektor-iii-piaseczno-ulice-chyliczkowska-od-nr-1-do-25a-i-od-nr-2-do-20-koscielna-kosciuszki-od-nr-2-do-18-i-od-nr-1-do-17-krolewskie-lipy-mlynarska-sierakowskiego-warszawska-zgoda-3/
SUMMARY:SEKTOR III - PIASECZNO: od ul. Chyliczkowska (od nr 1 do 25a i od nr 2 do 20)\, do ul. Żabia
END:VEVENT
BEGIN:VEVENT
DTSTART:20261012T060000Z
DTEND:20261012T190000Z
DTSTAMP:20260424T083845Z
UID:69eb2c1561378
CATEGORIES:odpady bio ogrodowe i kuchenne
LOCATION:SEKTOR III: PIASECZNO ulice Chyliczkowska (od nr 1 do 25a i od nr 2 do 20) do Zgoda 
ORGANIZER;CN=WGO Gminy Piaseczno:MAILTO:go@piaseczno.eu
DESCRIPTION: Odbiór odpadów 
URL;VALUE=URI:https://odpady.piaseczno.eu/harmonogram-odbioru-odpadow/odbior/sektor-iii-piaseczno-ulice-chyliczkowska-od-nr-1-do-25a-i-od-nr-2-do-20-koscielna-kosciuszki-od-nr-2-do-18-i-od-nr-1-do-17-krolewskie-lipy-mlynarska-sierakowskiego-warszawska-zgoda-3/
SUMMARY:SEKTOR III - PIASECZNO: od ul. Chyliczkowska (od nr 1 do 25a i od nr 2 do 20)\, do ul. Żabia
END:VEVENT
BEGIN:VEVENT
DTSTART:20261026T060000Z
DTEND:20261026T190000Z
DTSTAMP:20260424T083845Z
UID:69eb2c1561395
CATEGORIES:odpady bio ogrodowe i kuchenne
LOCATION:SEKTOR III: PIASECZNO ulice Chyliczkowska (od nr 1 do 25a i od nr 2 do 20) do Zgoda 
ORGANIZER;CN=WGO Gminy Piaseczno:MAILTO:go@piaseczno.eu
DESCRIPTION: Odbiór odpadów 
URL;VALUE=URI:https://odpady.piaseczno.eu/harmonogram-odbioru-odpadow/odbior/sektor-iii-piaseczno-ulice-chyliczkowska-od-nr-1-do-25a-i-od-nr-2-do-20-koscielna-kosciuszki-od-nr-2-do-18-i-od-nr-1-do-17-krolewskie-lipy-mlynarska-sierakowskiego-warszawska-zgoda-3/
SUMMARY:SEKTOR III - PIASECZNO: od ul. Chyliczkowska (od nr 1 do 25a i od nr 2 do 20)\, do ul. Żabia
END:VEVENT
BEGIN:VEVENT
DTSTART:20261109T060000Z
DTEND:20261109T190000Z
DTSTAMP:20260424T083845Z
UID:69eb2c15613b0
CATEGORIES:odpady bio ogrodowe i kuchenne
LOCATION:SEKTOR III: PIASECZNO ulice Chyliczkowska (od nr 1 do 25a i od nr 2 do 20) do Zgoda 
ORGANIZER;CN=WGO Gminy Piaseczno:MAILTO:go@piaseczno.eu
DESCRIPTION: Odbiór odpadów 
URL;VALUE=URI:https://odpady.piaseczno.eu/harmonogram-odbioru-odpadow/odbior/sektor-iii-piaseczno-ulice-chyliczkowska-od-nr-1-do-25a-i-od-nr-2-do-20-koscielna-kosciuszki-od-nr-2-do-18-i-od-nr-1-do-17-krolewskie-lipy-mlynarska-sierakowskiego-warszawska-zgoda-3/
SUMMARY:SEKTOR III - PIASECZNO: od ul. Chyliczkowska (od nr 1 do 25a i od nr 2 do 20)\, do ul. Żabia
END:VEVENT
BEGIN:VEVENT
DTSTART:20261123T060000Z
DTEND:20261123T190000Z
DTSTAMP:20260424T083845Z
UID:69eb2c15613ca
CATEGORIES:odpady bio ogrodowe i kuchenne
LOCATION:SEKTOR III: PIASECZNO ulice Chyliczkowska (od nr 1 do 25a i od nr 2 do 20) do Zgoda 
ORGANIZER;CN=WGO Gminy Piaseczno:MAILTO:go@piaseczno.eu
DESCRIPTION: Odbiór odpadów 
URL;VALUE=URI:https://odpady.piaseczno.eu/harmonogram-odbioru-odpadow/odbior/sektor-iii-piaseczno-ulice-chyliczkowska-od-nr-1-do-25a-i-od-nr-2-do-20-koscielna-kosciuszki-od-nr-2-do-18-i-od-nr-1-do-17-krolewskie-lipy-mlynarska-sierakowskiego-warszawska-zgoda-3/
SUMMARY:SEKTOR III - PIASECZNO: od ul. Chyliczkowska (od nr 1 do 25a i od nr 2 do 20)\, do ul. Żabia
END:VEVENT
END:VCALENDAR
