BEGIN:VCALENDAR
VERSION:2.0
PRODID:-//DIGITAL FACTORY//EVENTS MAKER V1.6.12//EN
CALSCALE:GREGORIAN
METHOD:PUBLISH
BEGIN:VEVENT
DTSTART:20251208T060000Z
DTEND:20251208T190000Z
DTSTAMP:20260423T105612Z
UID:69e9facc3338e
CATEGORIES:Odpady wielkogabarytowe
LOCATION:SEKTOR III: PIASECZNO ulice Chyliczkowska (od nr 1 do 25a i od nr 2 do 20) do Zgoda 
ORGANIZER;CN=WGO Gminy Piaseczno:MAILTO:go@piaseczno.eu
DESCRIPTION: Odbiór odpadów 
URL;VALUE=URI:https://odpady.piaseczno.eu/harmonogram-odbioru-odpadow/odbior/sektor-iii-piaseczno-ulice-chyliczkowska-od-nr-1-do-25a-i-od-nr-2-do-20-koscielna-kosciuszki-od-nr-2-do-18-i-od-nr-1-do-17-krolewskie-lipy-mlynarska-sierakowskiego-warszawska-zgoda-2/
SUMMARY:SEKTOR III - PIASECZNO: od ul. Chyliczkowska (od nr 1 do 25a i od nr 2 do 20) do ul. Żabia
END:VEVENT
BEGIN:VEVENT
DTSTART:20260302T060000Z
DTEND:20260302T190000Z
DTSTAMP:20260423T105612Z
UID:69e9facc3343c
CATEGORIES:Odpady wielkogabarytowe
LOCATION:SEKTOR III: PIASECZNO ulice Chyliczkowska (od nr 1 do 25a i od nr 2 do 20) do Zgoda 
ORGANIZER;CN=WGO Gminy Piaseczno:MAILTO:go@piaseczno.eu
DESCRIPTION: Odbiór odpadów 
URL;VALUE=URI:https://odpady.piaseczno.eu/harmonogram-odbioru-odpadow/odbior/sektor-iii-piaseczno-ulice-chyliczkowska-od-nr-1-do-25a-i-od-nr-2-do-20-koscielna-kosciuszki-od-nr-2-do-18-i-od-nr-1-do-17-krolewskie-lipy-mlynarska-sierakowskiego-warszawska-zgoda-2/
SUMMARY:SEKTOR III - PIASECZNO: od ul. Chyliczkowska (od nr 1 do 25a i od nr 2 do 20) do ul. Żabia
END:VEVENT
BEGIN:VEVENT
DTSTART:20260525T060000Z
DTEND:20260525T190000Z
DTSTAMP:20260423T105612Z
UID:69e9facc33468
CATEGORIES:Odpady wielkogabarytowe
LOCATION:SEKTOR III: PIASECZNO ulice Chyliczkowska (od nr 1 do 25a i od nr 2 do 20) do Zgoda 
ORGANIZER;CN=WGO Gminy Piaseczno:MAILTO:go@piaseczno.eu
DESCRIPTION: Odbiór odpadów 
URL;VALUE=URI:https://odpady.piaseczno.eu/harmonogram-odbioru-odpadow/odbior/sektor-iii-piaseczno-ulice-chyliczkowska-od-nr-1-do-25a-i-od-nr-2-do-20-koscielna-kosciuszki-od-nr-2-do-18-i-od-nr-1-do-17-krolewskie-lipy-mlynarska-sierakowskiego-warszawska-zgoda-2/
SUMMARY:SEKTOR III - PIASECZNO: od ul. Chyliczkowska (od nr 1 do 25a i od nr 2 do 20) do ul. Żabia
END:VEVENT
BEGIN:VEVENT
DTSTART:20260817T060000Z
DTEND:20260817T190000Z
DTSTAMP:20260423T105612Z
UID:69e9facc3348a
CATEGORIES:Odpady wielkogabarytowe
LOCATION:SEKTOR III: PIASECZNO ulice Chyliczkowska (od nr 1 do 25a i od nr 2 do 20) do Zgoda 
ORGANIZER;CN=WGO Gminy Piaseczno:MAILTO:go@piaseczno.eu
DESCRIPTION: Odbiór odpadów 
URL;VALUE=URI:https://odpady.piaseczno.eu/harmonogram-odbioru-odpadow/odbior/sektor-iii-piaseczno-ulice-chyliczkowska-od-nr-1-do-25a-i-od-nr-2-do-20-koscielna-kosciuszki-od-nr-2-do-18-i-od-nr-1-do-17-krolewskie-lipy-mlynarska-sierakowskiego-warszawska-zgoda-2/
SUMMARY:SEKTOR III - PIASECZNO: od ul. Chyliczkowska (od nr 1 do 25a i od nr 2 do 20) do ul. Żabia
END:VEVENT
BEGIN:VEVENT
DTSTART:20261109T060000Z
DTEND:20261109T190000Z
DTSTAMP:20260423T105612Z
UID:69e9facc334c3
CATEGORIES:Odpady wielkogabarytowe
LOCATION:SEKTOR III: PIASECZNO ulice Chyliczkowska (od nr 1 do 25a i od nr 2 do 20) do Zgoda 
ORGANIZER;CN=WGO Gminy Piaseczno:MAILTO:go@piaseczno.eu
DESCRIPTION: Odbiór odpadów 
URL;VALUE=URI:https://odpady.piaseczno.eu/harmonogram-odbioru-odpadow/odbior/sektor-iii-piaseczno-ulice-chyliczkowska-od-nr-1-do-25a-i-od-nr-2-do-20-koscielna-kosciuszki-od-nr-2-do-18-i-od-nr-1-do-17-krolewskie-lipy-mlynarska-sierakowskiego-warszawska-zgoda-2/
SUMMARY:SEKTOR III - PIASECZNO: od ul. Chyliczkowska (od nr 1 do 25a i od nr 2 do 20) do ul. Żabia
END:VEVENT
END:VCALENDAR
