BEGIN:VCALENDAR
VERSION:2.0
PRODID:-//DIGITAL FACTORY//EVENTS MAKER V1.6.12//EN
CALSCALE:GREGORIAN
METHOD:PUBLISH
BEGIN:VEVENT
DTSTART:20260123T060000Z
DTEND:20260123T190000Z
DTSTAMP:20260421T041710Z
UID:69e6fa468f915
CATEGORIES:Odbiór choinek
LOCATION:SEKTOR III: PIASECZNO od ul. Fabrycznej do ul.Żytnej 
ORGANIZER;CN=WGO Gminy Piaseczno:MAILTO:go@piaseczno.eu
DESCRIPTION: Odbiór odpadów 
URL;VALUE=URI:https://odpady.piaseczno.eu/harmonogram-odbioru-odpadow/odbior/sektor-iii-piaseczno-od-ul-fabryczna-do-ul-zytnia-2/
SUMMARY:SEKTOR III - PIASECZNO: od ul. Fabryczna do ul. Żytnia
END:VEVENT
BEGIN:VEVENT
DTSTART:20260206T060000Z
DTEND:20260206T190000Z
DTSTAMP:20260421T041710Z
UID:69e6fa468f9ce
CATEGORIES:Odbiór choinek
LOCATION:SEKTOR III: PIASECZNO od ul. Fabrycznej do ul.Żytnej 
ORGANIZER;CN=WGO Gminy Piaseczno:MAILTO:go@piaseczno.eu
DESCRIPTION: Odbiór odpadów 
URL;VALUE=URI:https://odpady.piaseczno.eu/harmonogram-odbioru-odpadow/odbior/sektor-iii-piaseczno-od-ul-fabryczna-do-ul-zytnia-2/
SUMMARY:SEKTOR III - PIASECZNO: od ul. Fabryczna do ul. Żytnia
END:VEVENT
END:VCALENDAR
