BEGIN:VCALENDAR
VERSION:2.0
PRODID:-//DIGITAL FACTORY//EVENTS MAKER V1.6.12//EN
CALSCALE:GREGORIAN
METHOD:PUBLISH
BEGIN:VEVENT
DTSTART:20251222T060000Z
DTEND:20251222T190000Z
DTSTAMP:20260424T211059Z
UID:69ebdc639f62a
CATEGORIES:odpady segregowane - papier
LOCATION:SEKTOR III: PIASECZNO od ul. Cichej Łąki do ul. Urbanistów Piaseczno, Mazowieckie
ORGANIZER;CN=WGO Gminy Piaseczno:MAILTO:go@piaseczno.eu
DESCRIPTION: Odbiór odpadów 
URL;VALUE=URI:https://odpady.piaseczno.eu/harmonogram-odbioru-odpadow/odbior/sektor-iii-piaseczno-od-ul-cichej-laki-do-ul-urbanistow-4/
SUMMARY:SEKTOR III: PIASECZNO od ul. Cichej Łąki do ul. Urbanistów
END:VEVENT
BEGIN:VEVENT
DTSTART:20260121T060000Z
DTEND:20260121T190000Z
DTSTAMP:20260424T211059Z
UID:69ebdc639f6ac
CATEGORIES:odpady segregowane - papier
LOCATION:SEKTOR III: PIASECZNO od ul. Cichej Łąki do ul. Urbanistów Piaseczno, Mazowieckie
ORGANIZER;CN=WGO Gminy Piaseczno:MAILTO:go@piaseczno.eu
DESCRIPTION: Odbiór odpadów 
URL;VALUE=URI:https://odpady.piaseczno.eu/harmonogram-odbioru-odpadow/odbior/sektor-iii-piaseczno-od-ul-cichej-laki-do-ul-urbanistow-4/
SUMMARY:SEKTOR III: PIASECZNO od ul. Cichej Łąki do ul. Urbanistów
END:VEVENT
BEGIN:VEVENT
DTSTART:20260218T060000Z
DTEND:20260218T190000Z
DTSTAMP:20260424T211059Z
UID:69ebdc639f6d4
CATEGORIES:odpady segregowane - papier
LOCATION:SEKTOR III: PIASECZNO od ul. Cichej Łąki do ul. Urbanistów Piaseczno, Mazowieckie
ORGANIZER;CN=WGO Gminy Piaseczno:MAILTO:go@piaseczno.eu
DESCRIPTION: Odbiór odpadów 
URL;VALUE=URI:https://odpady.piaseczno.eu/harmonogram-odbioru-odpadow/odbior/sektor-iii-piaseczno-od-ul-cichej-laki-do-ul-urbanistow-4/
SUMMARY:SEKTOR III: PIASECZNO od ul. Cichej Łąki do ul. Urbanistów
END:VEVENT
BEGIN:VEVENT
DTSTART:20260318T060000Z
DTEND:20260318T190000Z
DTSTAMP:20260424T211059Z
UID:69ebdc639f6f5
CATEGORIES:odpady segregowane - papier
LOCATION:SEKTOR III: PIASECZNO od ul. Cichej Łąki do ul. Urbanistów Piaseczno, Mazowieckie
ORGANIZER;CN=WGO Gminy Piaseczno:MAILTO:go@piaseczno.eu
DESCRIPTION: Odbiór odpadów 
URL;VALUE=URI:https://odpady.piaseczno.eu/harmonogram-odbioru-odpadow/odbior/sektor-iii-piaseczno-od-ul-cichej-laki-do-ul-urbanistow-4/
SUMMARY:SEKTOR III: PIASECZNO od ul. Cichej Łąki do ul. Urbanistów
END:VEVENT
BEGIN:VEVENT
DTSTART:20260415T060000Z
DTEND:20260415T190000Z
DTSTAMP:20260424T211059Z
UID:69ebdc639f712
CATEGORIES:odpady segregowane - papier
LOCATION:SEKTOR III: PIASECZNO od ul. Cichej Łąki do ul. Urbanistów Piaseczno, Mazowieckie
ORGANIZER;CN=WGO Gminy Piaseczno:MAILTO:go@piaseczno.eu
DESCRIPTION: Odbiór odpadów 
URL;VALUE=URI:https://odpady.piaseczno.eu/harmonogram-odbioru-odpadow/odbior/sektor-iii-piaseczno-od-ul-cichej-laki-do-ul-urbanistow-4/
SUMMARY:SEKTOR III: PIASECZNO od ul. Cichej Łąki do ul. Urbanistów
END:VEVENT
BEGIN:VEVENT
DTSTART:20260513T060000Z
DTEND:20260513T190000Z
DTSTAMP:20260424T211059Z
UID:69ebdc639f72d
CATEGORIES:odpady segregowane - papier
LOCATION:SEKTOR III: PIASECZNO od ul. Cichej Łąki do ul. Urbanistów Piaseczno, Mazowieckie
ORGANIZER;CN=WGO Gminy Piaseczno:MAILTO:go@piaseczno.eu
DESCRIPTION: Odbiór odpadów 
URL;VALUE=URI:https://odpady.piaseczno.eu/harmonogram-odbioru-odpadow/odbior/sektor-iii-piaseczno-od-ul-cichej-laki-do-ul-urbanistow-4/
SUMMARY:SEKTOR III: PIASECZNO od ul. Cichej Łąki do ul. Urbanistów
END:VEVENT
BEGIN:VEVENT
DTSTART:20260610T060000Z
DTEND:20260610T190000Z
DTSTAMP:20260424T211059Z
UID:69ebdc639f748
CATEGORIES:odpady segregowane - papier
LOCATION:SEKTOR III: PIASECZNO od ul. Cichej Łąki do ul. Urbanistów Piaseczno, Mazowieckie
ORGANIZER;CN=WGO Gminy Piaseczno:MAILTO:go@piaseczno.eu
DESCRIPTION: Odbiór odpadów 
URL;VALUE=URI:https://odpady.piaseczno.eu/harmonogram-odbioru-odpadow/odbior/sektor-iii-piaseczno-od-ul-cichej-laki-do-ul-urbanistow-4/
SUMMARY:SEKTOR III: PIASECZNO od ul. Cichej Łąki do ul. Urbanistów
END:VEVENT
BEGIN:VEVENT
DTSTART:20260708T060000Z
DTEND:20260708T190000Z
DTSTAMP:20260424T211059Z
UID:69ebdc639f763
CATEGORIES:odpady segregowane - papier
LOCATION:SEKTOR III: PIASECZNO od ul. Cichej Łąki do ul. Urbanistów Piaseczno, Mazowieckie
ORGANIZER;CN=WGO Gminy Piaseczno:MAILTO:go@piaseczno.eu
DESCRIPTION: Odbiór odpadów 
URL;VALUE=URI:https://odpady.piaseczno.eu/harmonogram-odbioru-odpadow/odbior/sektor-iii-piaseczno-od-ul-cichej-laki-do-ul-urbanistow-4/
SUMMARY:SEKTOR III: PIASECZNO od ul. Cichej Łąki do ul. Urbanistów
END:VEVENT
BEGIN:VEVENT
DTSTART:20260805T060000Z
DTEND:20260805T190000Z
DTSTAMP:20260424T211059Z
UID:69ebdc639f782
CATEGORIES:odpady segregowane - papier
LOCATION:SEKTOR III: PIASECZNO od ul. Cichej Łąki do ul. Urbanistów Piaseczno, Mazowieckie
ORGANIZER;CN=WGO Gminy Piaseczno:MAILTO:go@piaseczno.eu
DESCRIPTION: Odbiór odpadów 
URL;VALUE=URI:https://odpady.piaseczno.eu/harmonogram-odbioru-odpadow/odbior/sektor-iii-piaseczno-od-ul-cichej-laki-do-ul-urbanistow-4/
SUMMARY:SEKTOR III: PIASECZNO od ul. Cichej Łąki do ul. Urbanistów
END:VEVENT
BEGIN:VEVENT
DTSTART:20260902T060000Z
DTEND:20260902T190000Z
DTSTAMP:20260424T211059Z
UID:69ebdc639f79c
CATEGORIES:odpady segregowane - papier
LOCATION:SEKTOR III: PIASECZNO od ul. Cichej Łąki do ul. Urbanistów Piaseczno, Mazowieckie
ORGANIZER;CN=WGO Gminy Piaseczno:MAILTO:go@piaseczno.eu
DESCRIPTION: Odbiór odpadów 
URL;VALUE=URI:https://odpady.piaseczno.eu/harmonogram-odbioru-odpadow/odbior/sektor-iii-piaseczno-od-ul-cichej-laki-do-ul-urbanistow-4/
SUMMARY:SEKTOR III: PIASECZNO od ul. Cichej Łąki do ul. Urbanistów
END:VEVENT
BEGIN:VEVENT
DTSTART:20260930T060000Z
DTEND:20260930T190000Z
DTSTAMP:20260424T211059Z
UID:69ebdc639f7b6
CATEGORIES:odpady segregowane - papier
LOCATION:SEKTOR III: PIASECZNO od ul. Cichej Łąki do ul. Urbanistów Piaseczno, Mazowieckie
ORGANIZER;CN=WGO Gminy Piaseczno:MAILTO:go@piaseczno.eu
DESCRIPTION: Odbiór odpadów 
URL;VALUE=URI:https://odpady.piaseczno.eu/harmonogram-odbioru-odpadow/odbior/sektor-iii-piaseczno-od-ul-cichej-laki-do-ul-urbanistow-4/
SUMMARY:SEKTOR III: PIASECZNO od ul. Cichej Łąki do ul. Urbanistów
END:VEVENT
BEGIN:VEVENT
DTSTART:20261028T060000Z
DTEND:20261028T190000Z
DTSTAMP:20260424T211059Z
UID:69ebdc639f7cf
CATEGORIES:odpady segregowane - papier
LOCATION:SEKTOR III: PIASECZNO od ul. Cichej Łąki do ul. Urbanistów Piaseczno, Mazowieckie
ORGANIZER;CN=WGO Gminy Piaseczno:MAILTO:go@piaseczno.eu
DESCRIPTION: Odbiór odpadów 
URL;VALUE=URI:https://odpady.piaseczno.eu/harmonogram-odbioru-odpadow/odbior/sektor-iii-piaseczno-od-ul-cichej-laki-do-ul-urbanistow-4/
SUMMARY:SEKTOR III: PIASECZNO od ul. Cichej Łąki do ul. Urbanistów
END:VEVENT
BEGIN:VEVENT
DTSTART:20261125T060000Z
DTEND:20261125T190000Z
DTSTAMP:20260424T211059Z
UID:69ebdc639f7e9
CATEGORIES:odpady segregowane - papier
LOCATION:SEKTOR III: PIASECZNO od ul. Cichej Łąki do ul. Urbanistów Piaseczno, Mazowieckie
ORGANIZER;CN=WGO Gminy Piaseczno:MAILTO:go@piaseczno.eu
DESCRIPTION: Odbiór odpadów 
URL;VALUE=URI:https://odpady.piaseczno.eu/harmonogram-odbioru-odpadow/odbior/sektor-iii-piaseczno-od-ul-cichej-laki-do-ul-urbanistow-4/
SUMMARY:SEKTOR III: PIASECZNO od ul. Cichej Łąki do ul. Urbanistów
END:VEVENT
END:VCALENDAR
