BEGIN:VCALENDAR
VERSION:2.0
PRODID:-//DIGITAL FACTORY//EVENTS MAKER V1.6.12//EN
CALSCALE:GREGORIAN
METHOD:PUBLISH
BEGIN:VEVENT
DTSTART:20251222T060000Z
DTEND:20251222T190000Z
DTSTAMP:20260421T023332Z
UID:69e6e1fcbc04a
CATEGORIES:odpady segregowane - papier
LOCATION:SEKTOR III: PIASECZNO od ul. Brzezińskiej do ul. Żeglińskiego PIASECZNO, MAZOWIECKIE
ORGANIZER;CN=WGO Gminy Piaseczno:MAILTO:go@piaseczno.eu
DESCRIPTION: Odbiór odpadów 
URL;VALUE=URI:https://odpady.piaseczno.eu/harmonogram-odbioru-odpadow/odbior/sektor-iii-piaseczno-od-ul-brzezinskiej-do-ul-zeglinskiego-papier/
SUMMARY:SEKTOR III: PIASECZNO od ul. Brzezińskiej do ul. Żeglińskiego
END:VEVENT
BEGIN:VEVENT
DTSTART:20260121T060000Z
DTEND:20260121T190000Z
DTSTAMP:20260421T023332Z
UID:69e6e1fcbc0f0
CATEGORIES:odpady segregowane - papier
LOCATION:SEKTOR III: PIASECZNO od ul. Brzezińskiej do ul. Żeglińskiego PIASECZNO, MAZOWIECKIE
ORGANIZER;CN=WGO Gminy Piaseczno:MAILTO:go@piaseczno.eu
DESCRIPTION: Odbiór odpadów 
URL;VALUE=URI:https://odpady.piaseczno.eu/harmonogram-odbioru-odpadow/odbior/sektor-iii-piaseczno-od-ul-brzezinskiej-do-ul-zeglinskiego-papier/
SUMMARY:SEKTOR III: PIASECZNO od ul. Brzezińskiej do ul. Żeglińskiego
END:VEVENT
BEGIN:VEVENT
DTSTART:20260218T060000Z
DTEND:20260218T190000Z
DTSTAMP:20260421T023332Z
UID:69e6e1fcbc11b
CATEGORIES:odpady segregowane - papier
LOCATION:SEKTOR III: PIASECZNO od ul. Brzezińskiej do ul. Żeglińskiego PIASECZNO, MAZOWIECKIE
ORGANIZER;CN=WGO Gminy Piaseczno:MAILTO:go@piaseczno.eu
DESCRIPTION: Odbiór odpadów 
URL;VALUE=URI:https://odpady.piaseczno.eu/harmonogram-odbioru-odpadow/odbior/sektor-iii-piaseczno-od-ul-brzezinskiej-do-ul-zeglinskiego-papier/
SUMMARY:SEKTOR III: PIASECZNO od ul. Brzezińskiej do ul. Żeglińskiego
END:VEVENT
BEGIN:VEVENT
DTSTART:20260318T060000Z
DTEND:20260318T190000Z
DTSTAMP:20260421T023332Z
UID:69e6e1fcbc13c
CATEGORIES:odpady segregowane - papier
LOCATION:SEKTOR III: PIASECZNO od ul. Brzezińskiej do ul. Żeglińskiego PIASECZNO, MAZOWIECKIE
ORGANIZER;CN=WGO Gminy Piaseczno:MAILTO:go@piaseczno.eu
DESCRIPTION: Odbiór odpadów 
URL;VALUE=URI:https://odpady.piaseczno.eu/harmonogram-odbioru-odpadow/odbior/sektor-iii-piaseczno-od-ul-brzezinskiej-do-ul-zeglinskiego-papier/
SUMMARY:SEKTOR III: PIASECZNO od ul. Brzezińskiej do ul. Żeglińskiego
END:VEVENT
BEGIN:VEVENT
DTSTART:20260415T060000Z
DTEND:20260415T190000Z
DTSTAMP:20260421T023332Z
UID:69e6e1fcbc159
CATEGORIES:odpady segregowane - papier
LOCATION:SEKTOR III: PIASECZNO od ul. Brzezińskiej do ul. Żeglińskiego PIASECZNO, MAZOWIECKIE
ORGANIZER;CN=WGO Gminy Piaseczno:MAILTO:go@piaseczno.eu
DESCRIPTION: Odbiór odpadów 
URL;VALUE=URI:https://odpady.piaseczno.eu/harmonogram-odbioru-odpadow/odbior/sektor-iii-piaseczno-od-ul-brzezinskiej-do-ul-zeglinskiego-papier/
SUMMARY:SEKTOR III: PIASECZNO od ul. Brzezińskiej do ul. Żeglińskiego
END:VEVENT
BEGIN:VEVENT
DTSTART:20260513T060000Z
DTEND:20260513T190000Z
DTSTAMP:20260421T023332Z
UID:69e6e1fcbc175
CATEGORIES:odpady segregowane - papier
LOCATION:SEKTOR III: PIASECZNO od ul. Brzezińskiej do ul. Żeglińskiego PIASECZNO, MAZOWIECKIE
ORGANIZER;CN=WGO Gminy Piaseczno:MAILTO:go@piaseczno.eu
DESCRIPTION: Odbiór odpadów 
URL;VALUE=URI:https://odpady.piaseczno.eu/harmonogram-odbioru-odpadow/odbior/sektor-iii-piaseczno-od-ul-brzezinskiej-do-ul-zeglinskiego-papier/
SUMMARY:SEKTOR III: PIASECZNO od ul. Brzezińskiej do ul. Żeglińskiego
END:VEVENT
BEGIN:VEVENT
DTSTART:20260610T060000Z
DTEND:20260610T190000Z
DTSTAMP:20260421T023332Z
UID:69e6e1fcbc191
CATEGORIES:odpady segregowane - papier
LOCATION:SEKTOR III: PIASECZNO od ul. Brzezińskiej do ul. Żeglińskiego PIASECZNO, MAZOWIECKIE
ORGANIZER;CN=WGO Gminy Piaseczno:MAILTO:go@piaseczno.eu
DESCRIPTION: Odbiór odpadów 
URL;VALUE=URI:https://odpady.piaseczno.eu/harmonogram-odbioru-odpadow/odbior/sektor-iii-piaseczno-od-ul-brzezinskiej-do-ul-zeglinskiego-papier/
SUMMARY:SEKTOR III: PIASECZNO od ul. Brzezińskiej do ul. Żeglińskiego
END:VEVENT
BEGIN:VEVENT
DTSTART:20260708T060000Z
DTEND:20260708T190000Z
DTSTAMP:20260421T023332Z
UID:69e6e1fcbc1ad
CATEGORIES:odpady segregowane - papier
LOCATION:SEKTOR III: PIASECZNO od ul. Brzezińskiej do ul. Żeglińskiego PIASECZNO, MAZOWIECKIE
ORGANIZER;CN=WGO Gminy Piaseczno:MAILTO:go@piaseczno.eu
DESCRIPTION: Odbiór odpadów 
URL;VALUE=URI:https://odpady.piaseczno.eu/harmonogram-odbioru-odpadow/odbior/sektor-iii-piaseczno-od-ul-brzezinskiej-do-ul-zeglinskiego-papier/
SUMMARY:SEKTOR III: PIASECZNO od ul. Brzezińskiej do ul. Żeglińskiego
END:VEVENT
BEGIN:VEVENT
DTSTART:20260805T060000Z
DTEND:20260805T190000Z
DTSTAMP:20260421T023332Z
UID:69e6e1fcbc1f1
CATEGORIES:odpady segregowane - papier
LOCATION:SEKTOR III: PIASECZNO od ul. Brzezińskiej do ul. Żeglińskiego PIASECZNO, MAZOWIECKIE
ORGANIZER;CN=WGO Gminy Piaseczno:MAILTO:go@piaseczno.eu
DESCRIPTION: Odbiór odpadów 
URL;VALUE=URI:https://odpady.piaseczno.eu/harmonogram-odbioru-odpadow/odbior/sektor-iii-piaseczno-od-ul-brzezinskiej-do-ul-zeglinskiego-papier/
SUMMARY:SEKTOR III: PIASECZNO od ul. Brzezińskiej do ul. Żeglińskiego
END:VEVENT
BEGIN:VEVENT
DTSTART:20260902T060000Z
DTEND:20260902T190000Z
DTSTAMP:20260421T023332Z
UID:69e6e1fcbc224
CATEGORIES:odpady segregowane - papier
LOCATION:SEKTOR III: PIASECZNO od ul. Brzezińskiej do ul. Żeglińskiego PIASECZNO, MAZOWIECKIE
ORGANIZER;CN=WGO Gminy Piaseczno:MAILTO:go@piaseczno.eu
DESCRIPTION: Odbiór odpadów 
URL;VALUE=URI:https://odpady.piaseczno.eu/harmonogram-odbioru-odpadow/odbior/sektor-iii-piaseczno-od-ul-brzezinskiej-do-ul-zeglinskiego-papier/
SUMMARY:SEKTOR III: PIASECZNO od ul. Brzezińskiej do ul. Żeglińskiego
END:VEVENT
BEGIN:VEVENT
DTSTART:20260930T060000Z
DTEND:20260930T190000Z
DTSTAMP:20260421T023332Z
UID:69e6e1fcbc240
CATEGORIES:odpady segregowane - papier
LOCATION:SEKTOR III: PIASECZNO od ul. Brzezińskiej do ul. Żeglińskiego PIASECZNO, MAZOWIECKIE
ORGANIZER;CN=WGO Gminy Piaseczno:MAILTO:go@piaseczno.eu
DESCRIPTION: Odbiór odpadów 
URL;VALUE=URI:https://odpady.piaseczno.eu/harmonogram-odbioru-odpadow/odbior/sektor-iii-piaseczno-od-ul-brzezinskiej-do-ul-zeglinskiego-papier/
SUMMARY:SEKTOR III: PIASECZNO od ul. Brzezińskiej do ul. Żeglińskiego
END:VEVENT
BEGIN:VEVENT
DTSTART:20261028T060000Z
DTEND:20261028T190000Z
DTSTAMP:20260421T023332Z
UID:69e6e1fcbc25b
CATEGORIES:odpady segregowane - papier
LOCATION:SEKTOR III: PIASECZNO od ul. Brzezińskiej do ul. Żeglińskiego PIASECZNO, MAZOWIECKIE
ORGANIZER;CN=WGO Gminy Piaseczno:MAILTO:go@piaseczno.eu
DESCRIPTION: Odbiór odpadów 
URL;VALUE=URI:https://odpady.piaseczno.eu/harmonogram-odbioru-odpadow/odbior/sektor-iii-piaseczno-od-ul-brzezinskiej-do-ul-zeglinskiego-papier/
SUMMARY:SEKTOR III: PIASECZNO od ul. Brzezińskiej do ul. Żeglińskiego
END:VEVENT
BEGIN:VEVENT
DTSTART:20261125T060000Z
DTEND:20261125T190000Z
DTSTAMP:20260421T023332Z
UID:69e6e1fcbc28a
CATEGORIES:odpady segregowane - papier
LOCATION:SEKTOR III: PIASECZNO od ul. Brzezińskiej do ul. Żeglińskiego PIASECZNO, MAZOWIECKIE
ORGANIZER;CN=WGO Gminy Piaseczno:MAILTO:go@piaseczno.eu
DESCRIPTION: Odbiór odpadów 
URL;VALUE=URI:https://odpady.piaseczno.eu/harmonogram-odbioru-odpadow/odbior/sektor-iii-piaseczno-od-ul-brzezinskiej-do-ul-zeglinskiego-papier/
SUMMARY:SEKTOR III: PIASECZNO od ul. Brzezińskiej do ul. Żeglińskiego
END:VEVENT
END:VCALENDAR
