BEGIN:VCALENDAR
VERSION:2.0
PRODID:-//DIGITAL FACTORY//EVENTS MAKER V1.6.12//EN
CALSCALE:GREGORIAN
METHOD:PUBLISH
BEGIN:VEVENT
DTSTART:20251212T060000Z
DTEND:20251212T190000Z
DTSTAMP:20260422T045829Z
UID:69e85575a8ec4
CATEGORIES:Odpady zmieszane
LOCATION:SEKTOR III: PIASECZNO od ul. Brzezińskiej do ul. Żeglińskiego PIASECZNO, MAZOWIECKIE
ORGANIZER;CN=WGO Gminy Piaseczno:MAILTO:go@piaseczno.eu
DESCRIPTION: Odbiór odpadów 
URL;VALUE=URI:https://odpady.piaseczno.eu/harmonogram-odbioru-odpadow/odbior/sektor-iii-piaseczno-od-ul-brzezinskiej-do-ul-zeglinskiego-odpady-zmieszane/
SUMMARY:SEKTOR III: PIASECZNO od ul. Brzezińskiej do ul. Żeglińskiego
END:VEVENT
BEGIN:VEVENT
DTSTART:20251227T060000Z
DTEND:20251227T190000Z
DTSTAMP:20260422T045829Z
UID:69e85575a8f7b
CATEGORIES:Odpady zmieszane
LOCATION:SEKTOR III: PIASECZNO od ul. Brzezińskiej do ul. Żeglińskiego PIASECZNO, MAZOWIECKIE
ORGANIZER;CN=WGO Gminy Piaseczno:MAILTO:go@piaseczno.eu
DESCRIPTION: Odbiór odpadów 
URL;VALUE=URI:https://odpady.piaseczno.eu/harmonogram-odbioru-odpadow/odbior/sektor-iii-piaseczno-od-ul-brzezinskiej-do-ul-zeglinskiego-odpady-zmieszane/
SUMMARY:SEKTOR III: PIASECZNO od ul. Brzezińskiej do ul. Żeglińskiego
END:VEVENT
BEGIN:VEVENT
DTSTART:20260109T060000Z
DTEND:20260109T190000Z
DTSTAMP:20260422T045829Z
UID:69e85575a8fa8
CATEGORIES:Odpady zmieszane
LOCATION:SEKTOR III: PIASECZNO od ul. Brzezińskiej do ul. Żeglińskiego PIASECZNO, MAZOWIECKIE
ORGANIZER;CN=WGO Gminy Piaseczno:MAILTO:go@piaseczno.eu
DESCRIPTION: Odbiór odpadów 
URL;VALUE=URI:https://odpady.piaseczno.eu/harmonogram-odbioru-odpadow/odbior/sektor-iii-piaseczno-od-ul-brzezinskiej-do-ul-zeglinskiego-odpady-zmieszane/
SUMMARY:SEKTOR III: PIASECZNO od ul. Brzezińskiej do ul. Żeglińskiego
END:VEVENT
BEGIN:VEVENT
DTSTART:20260123T060000Z
DTEND:20260123T190000Z
DTSTAMP:20260422T045829Z
UID:69e85575a8fcb
CATEGORIES:Odpady zmieszane
LOCATION:SEKTOR III: PIASECZNO od ul. Brzezińskiej do ul. Żeglińskiego PIASECZNO, MAZOWIECKIE
ORGANIZER;CN=WGO Gminy Piaseczno:MAILTO:go@piaseczno.eu
DESCRIPTION: Odbiór odpadów 
URL;VALUE=URI:https://odpady.piaseczno.eu/harmonogram-odbioru-odpadow/odbior/sektor-iii-piaseczno-od-ul-brzezinskiej-do-ul-zeglinskiego-odpady-zmieszane/
SUMMARY:SEKTOR III: PIASECZNO od ul. Brzezińskiej do ul. Żeglińskiego
END:VEVENT
BEGIN:VEVENT
DTSTART:20260206T060000Z
DTEND:20260206T190000Z
DTSTAMP:20260422T045829Z
UID:69e85575a8fe9
CATEGORIES:Odpady zmieszane
LOCATION:SEKTOR III: PIASECZNO od ul. Brzezińskiej do ul. Żeglińskiego PIASECZNO, MAZOWIECKIE
ORGANIZER;CN=WGO Gminy Piaseczno:MAILTO:go@piaseczno.eu
DESCRIPTION: Odbiór odpadów 
URL;VALUE=URI:https://odpady.piaseczno.eu/harmonogram-odbioru-odpadow/odbior/sektor-iii-piaseczno-od-ul-brzezinskiej-do-ul-zeglinskiego-odpady-zmieszane/
SUMMARY:SEKTOR III: PIASECZNO od ul. Brzezińskiej do ul. Żeglińskiego
END:VEVENT
BEGIN:VEVENT
DTSTART:20260220T060000Z
DTEND:20260220T190000Z
DTSTAMP:20260422T045829Z
UID:69e85575a903e
CATEGORIES:Odpady zmieszane
LOCATION:SEKTOR III: PIASECZNO od ul. Brzezińskiej do ul. Żeglińskiego PIASECZNO, MAZOWIECKIE
ORGANIZER;CN=WGO Gminy Piaseczno:MAILTO:go@piaseczno.eu
DESCRIPTION: Odbiór odpadów 
URL;VALUE=URI:https://odpady.piaseczno.eu/harmonogram-odbioru-odpadow/odbior/sektor-iii-piaseczno-od-ul-brzezinskiej-do-ul-zeglinskiego-odpady-zmieszane/
SUMMARY:SEKTOR III: PIASECZNO od ul. Brzezińskiej do ul. Żeglińskiego
END:VEVENT
BEGIN:VEVENT
DTSTART:20260306T060000Z
DTEND:20260306T190000Z
DTSTAMP:20260422T045829Z
UID:69e85575a905b
CATEGORIES:Odpady zmieszane
LOCATION:SEKTOR III: PIASECZNO od ul. Brzezińskiej do ul. Żeglińskiego PIASECZNO, MAZOWIECKIE
ORGANIZER;CN=WGO Gminy Piaseczno:MAILTO:go@piaseczno.eu
DESCRIPTION: Odbiór odpadów 
URL;VALUE=URI:https://odpady.piaseczno.eu/harmonogram-odbioru-odpadow/odbior/sektor-iii-piaseczno-od-ul-brzezinskiej-do-ul-zeglinskiego-odpady-zmieszane/
SUMMARY:SEKTOR III: PIASECZNO od ul. Brzezińskiej do ul. Żeglińskiego
END:VEVENT
BEGIN:VEVENT
DTSTART:20260320T060000Z
DTEND:20260320T190000Z
DTSTAMP:20260422T045829Z
UID:69e85575a9076
CATEGORIES:Odpady zmieszane
LOCATION:SEKTOR III: PIASECZNO od ul. Brzezińskiej do ul. Żeglińskiego PIASECZNO, MAZOWIECKIE
ORGANIZER;CN=WGO Gminy Piaseczno:MAILTO:go@piaseczno.eu
DESCRIPTION: Odbiór odpadów 
URL;VALUE=URI:https://odpady.piaseczno.eu/harmonogram-odbioru-odpadow/odbior/sektor-iii-piaseczno-od-ul-brzezinskiej-do-ul-zeglinskiego-odpady-zmieszane/
SUMMARY:SEKTOR III: PIASECZNO od ul. Brzezińskiej do ul. Żeglińskiego
END:VEVENT
BEGIN:VEVENT
DTSTART:20260403T060000Z
DTEND:20260403T190000Z
DTSTAMP:20260422T045829Z
UID:69e85575a90a1
CATEGORIES:Odpady zmieszane
LOCATION:SEKTOR III: PIASECZNO od ul. Brzezińskiej do ul. Żeglińskiego PIASECZNO, MAZOWIECKIE
ORGANIZER;CN=WGO Gminy Piaseczno:MAILTO:go@piaseczno.eu
DESCRIPTION: Odbiór odpadów 
URL;VALUE=URI:https://odpady.piaseczno.eu/harmonogram-odbioru-odpadow/odbior/sektor-iii-piaseczno-od-ul-brzezinskiej-do-ul-zeglinskiego-odpady-zmieszane/
SUMMARY:SEKTOR III: PIASECZNO od ul. Brzezińskiej do ul. Żeglińskiego
END:VEVENT
BEGIN:VEVENT
DTSTART:20260417T060000Z
DTEND:20260417T190000Z
DTSTAMP:20260422T045829Z
UID:69e85575a90bc
CATEGORIES:Odpady zmieszane
LOCATION:SEKTOR III: PIASECZNO od ul. Brzezińskiej do ul. Żeglińskiego PIASECZNO, MAZOWIECKIE
ORGANIZER;CN=WGO Gminy Piaseczno:MAILTO:go@piaseczno.eu
DESCRIPTION: Odbiór odpadów 
URL;VALUE=URI:https://odpady.piaseczno.eu/harmonogram-odbioru-odpadow/odbior/sektor-iii-piaseczno-od-ul-brzezinskiej-do-ul-zeglinskiego-odpady-zmieszane/
SUMMARY:SEKTOR III: PIASECZNO od ul. Brzezińskiej do ul. Żeglińskiego
END:VEVENT
BEGIN:VEVENT
DTSTART:20260430T060000Z
DTEND:20260430T190000Z
DTSTAMP:20260422T045829Z
UID:69e85575a90d7
CATEGORIES:Odpady zmieszane
LOCATION:SEKTOR III: PIASECZNO od ul. Brzezińskiej do ul. Żeglińskiego PIASECZNO, MAZOWIECKIE
ORGANIZER;CN=WGO Gminy Piaseczno:MAILTO:go@piaseczno.eu
DESCRIPTION: Odbiór odpadów 
URL;VALUE=URI:https://odpady.piaseczno.eu/harmonogram-odbioru-odpadow/odbior/sektor-iii-piaseczno-od-ul-brzezinskiej-do-ul-zeglinskiego-odpady-zmieszane/
SUMMARY:SEKTOR III: PIASECZNO od ul. Brzezińskiej do ul. Żeglińskiego
END:VEVENT
BEGIN:VEVENT
DTSTART:20260515T060000Z
DTEND:20260515T190000Z
DTSTAMP:20260422T045829Z
UID:69e85575a90f1
CATEGORIES:Odpady zmieszane
LOCATION:SEKTOR III: PIASECZNO od ul. Brzezińskiej do ul. Żeglińskiego PIASECZNO, MAZOWIECKIE
ORGANIZER;CN=WGO Gminy Piaseczno:MAILTO:go@piaseczno.eu
DESCRIPTION: Odbiór odpadów 
URL;VALUE=URI:https://odpady.piaseczno.eu/harmonogram-odbioru-odpadow/odbior/sektor-iii-piaseczno-od-ul-brzezinskiej-do-ul-zeglinskiego-odpady-zmieszane/
SUMMARY:SEKTOR III: PIASECZNO od ul. Brzezińskiej do ul. Żeglińskiego
END:VEVENT
BEGIN:VEVENT
DTSTART:20260529T060000Z
DTEND:20260529T190000Z
DTSTAMP:20260422T045829Z
UID:69e85575a910b
CATEGORIES:Odpady zmieszane
LOCATION:SEKTOR III: PIASECZNO od ul. Brzezińskiej do ul. Żeglińskiego PIASECZNO, MAZOWIECKIE
ORGANIZER;CN=WGO Gminy Piaseczno:MAILTO:go@piaseczno.eu
DESCRIPTION: Odbiór odpadów 
URL;VALUE=URI:https://odpady.piaseczno.eu/harmonogram-odbioru-odpadow/odbior/sektor-iii-piaseczno-od-ul-brzezinskiej-do-ul-zeglinskiego-odpady-zmieszane/
SUMMARY:SEKTOR III: PIASECZNO od ul. Brzezińskiej do ul. Żeglińskiego
END:VEVENT
BEGIN:VEVENT
DTSTART:20260605T060000Z
DTEND:20260605T190000Z
DTSTAMP:20260422T045829Z
UID:69e85575a9125
CATEGORIES:Odpady zmieszane
LOCATION:SEKTOR III: PIASECZNO od ul. Brzezińskiej do ul. Żeglińskiego PIASECZNO, MAZOWIECKIE
ORGANIZER;CN=WGO Gminy Piaseczno:MAILTO:go@piaseczno.eu
DESCRIPTION: Odbiór odpadów 
URL;VALUE=URI:https://odpady.piaseczno.eu/harmonogram-odbioru-odpadow/odbior/sektor-iii-piaseczno-od-ul-brzezinskiej-do-ul-zeglinskiego-odpady-zmieszane/
SUMMARY:SEKTOR III: PIASECZNO od ul. Brzezińskiej do ul. Żeglińskiego
END:VEVENT
BEGIN:VEVENT
DTSTART:20260612T060000Z
DTEND:20260612T190000Z
DTSTAMP:20260422T045829Z
UID:69e85575a913e
CATEGORIES:Odpady zmieszane
LOCATION:SEKTOR III: PIASECZNO od ul. Brzezińskiej do ul. Żeglińskiego PIASECZNO, MAZOWIECKIE
ORGANIZER;CN=WGO Gminy Piaseczno:MAILTO:go@piaseczno.eu
DESCRIPTION: Odbiór odpadów 
URL;VALUE=URI:https://odpady.piaseczno.eu/harmonogram-odbioru-odpadow/odbior/sektor-iii-piaseczno-od-ul-brzezinskiej-do-ul-zeglinskiego-odpady-zmieszane/
SUMMARY:SEKTOR III: PIASECZNO od ul. Brzezińskiej do ul. Żeglińskiego
END:VEVENT
BEGIN:VEVENT
DTSTART:20260619T060000Z
DTEND:20260619T190000Z
DTSTAMP:20260422T045829Z
UID:69e85575a915e
CATEGORIES:Odpady zmieszane
LOCATION:SEKTOR III: PIASECZNO od ul. Brzezińskiej do ul. Żeglińskiego PIASECZNO, MAZOWIECKIE
ORGANIZER;CN=WGO Gminy Piaseczno:MAILTO:go@piaseczno.eu
DESCRIPTION: Odbiór odpadów 
URL;VALUE=URI:https://odpady.piaseczno.eu/harmonogram-odbioru-odpadow/odbior/sektor-iii-piaseczno-od-ul-brzezinskiej-do-ul-zeglinskiego-odpady-zmieszane/
SUMMARY:SEKTOR III: PIASECZNO od ul. Brzezińskiej do ul. Żeglińskiego
END:VEVENT
BEGIN:VEVENT
DTSTART:20260626T060000Z
DTEND:20260626T190000Z
DTSTAMP:20260422T045829Z
UID:69e85575a9179
CATEGORIES:Odpady zmieszane
LOCATION:SEKTOR III: PIASECZNO od ul. Brzezińskiej do ul. Żeglińskiego PIASECZNO, MAZOWIECKIE
ORGANIZER;CN=WGO Gminy Piaseczno:MAILTO:go@piaseczno.eu
DESCRIPTION: Odbiór odpadów 
URL;VALUE=URI:https://odpady.piaseczno.eu/harmonogram-odbioru-odpadow/odbior/sektor-iii-piaseczno-od-ul-brzezinskiej-do-ul-zeglinskiego-odpady-zmieszane/
SUMMARY:SEKTOR III: PIASECZNO od ul. Brzezińskiej do ul. Żeglińskiego
END:VEVENT
BEGIN:VEVENT
DTSTART:20260703T060000Z
DTEND:20260703T190000Z
DTSTAMP:20260422T045829Z
UID:69e85575a9193
CATEGORIES:Odpady zmieszane
LOCATION:SEKTOR III: PIASECZNO od ul. Brzezińskiej do ul. Żeglińskiego PIASECZNO, MAZOWIECKIE
ORGANIZER;CN=WGO Gminy Piaseczno:MAILTO:go@piaseczno.eu
DESCRIPTION: Odbiór odpadów 
URL;VALUE=URI:https://odpady.piaseczno.eu/harmonogram-odbioru-odpadow/odbior/sektor-iii-piaseczno-od-ul-brzezinskiej-do-ul-zeglinskiego-odpady-zmieszane/
SUMMARY:SEKTOR III: PIASECZNO od ul. Brzezińskiej do ul. Żeglińskiego
END:VEVENT
BEGIN:VEVENT
DTSTART:20260710T060000Z
DTEND:20260710T190000Z
DTSTAMP:20260422T045829Z
UID:69e85575a91ae
CATEGORIES:Odpady zmieszane
LOCATION:SEKTOR III: PIASECZNO od ul. Brzezińskiej do ul. Żeglińskiego PIASECZNO, MAZOWIECKIE
ORGANIZER;CN=WGO Gminy Piaseczno:MAILTO:go@piaseczno.eu
DESCRIPTION: Odbiór odpadów 
URL;VALUE=URI:https://odpady.piaseczno.eu/harmonogram-odbioru-odpadow/odbior/sektor-iii-piaseczno-od-ul-brzezinskiej-do-ul-zeglinskiego-odpady-zmieszane/
SUMMARY:SEKTOR III: PIASECZNO od ul. Brzezińskiej do ul. Żeglińskiego
END:VEVENT
BEGIN:VEVENT
DTSTART:20260717T060000Z
DTEND:20260717T190000Z
DTSTAMP:20260422T045829Z
UID:69e85575a91c8
CATEGORIES:Odpady zmieszane
LOCATION:SEKTOR III: PIASECZNO od ul. Brzezińskiej do ul. Żeglińskiego PIASECZNO, MAZOWIECKIE
ORGANIZER;CN=WGO Gminy Piaseczno:MAILTO:go@piaseczno.eu
DESCRIPTION: Odbiór odpadów 
URL;VALUE=URI:https://odpady.piaseczno.eu/harmonogram-odbioru-odpadow/odbior/sektor-iii-piaseczno-od-ul-brzezinskiej-do-ul-zeglinskiego-odpady-zmieszane/
SUMMARY:SEKTOR III: PIASECZNO od ul. Brzezińskiej do ul. Żeglińskiego
END:VEVENT
BEGIN:VEVENT
DTSTART:20260724T060000Z
DTEND:20260724T190000Z
DTSTAMP:20260422T045829Z
UID:69e85575a91e2
CATEGORIES:Odpady zmieszane
LOCATION:SEKTOR III: PIASECZNO od ul. Brzezińskiej do ul. Żeglińskiego PIASECZNO, MAZOWIECKIE
ORGANIZER;CN=WGO Gminy Piaseczno:MAILTO:go@piaseczno.eu
DESCRIPTION: Odbiór odpadów 
URL;VALUE=URI:https://odpady.piaseczno.eu/harmonogram-odbioru-odpadow/odbior/sektor-iii-piaseczno-od-ul-brzezinskiej-do-ul-zeglinskiego-odpady-zmieszane/
SUMMARY:SEKTOR III: PIASECZNO od ul. Brzezińskiej do ul. Żeglińskiego
END:VEVENT
BEGIN:VEVENT
DTSTART:20260731T060000Z
DTEND:20260731T190000Z
DTSTAMP:20260422T045829Z
UID:69e85575a91fc
CATEGORIES:Odpady zmieszane
LOCATION:SEKTOR III: PIASECZNO od ul. Brzezińskiej do ul. Żeglińskiego PIASECZNO, MAZOWIECKIE
ORGANIZER;CN=WGO Gminy Piaseczno:MAILTO:go@piaseczno.eu
DESCRIPTION: Odbiór odpadów 
URL;VALUE=URI:https://odpady.piaseczno.eu/harmonogram-odbioru-odpadow/odbior/sektor-iii-piaseczno-od-ul-brzezinskiej-do-ul-zeglinskiego-odpady-zmieszane/
SUMMARY:SEKTOR III: PIASECZNO od ul. Brzezińskiej do ul. Żeglińskiego
END:VEVENT
BEGIN:VEVENT
DTSTART:20260807T060000Z
DTEND:20260807T190000Z
DTSTAMP:20260422T045829Z
UID:69e85575a921b
CATEGORIES:Odpady zmieszane
LOCATION:SEKTOR III: PIASECZNO od ul. Brzezińskiej do ul. Żeglińskiego PIASECZNO, MAZOWIECKIE
ORGANIZER;CN=WGO Gminy Piaseczno:MAILTO:go@piaseczno.eu
DESCRIPTION: Odbiór odpadów 
URL;VALUE=URI:https://odpady.piaseczno.eu/harmonogram-odbioru-odpadow/odbior/sektor-iii-piaseczno-od-ul-brzezinskiej-do-ul-zeglinskiego-odpady-zmieszane/
SUMMARY:SEKTOR III: PIASECZNO od ul. Brzezińskiej do ul. Żeglińskiego
END:VEVENT
BEGIN:VEVENT
DTSTART:20260814T060000Z
DTEND:20260814T190000Z
DTSTAMP:20260422T045829Z
UID:69e85575a9236
CATEGORIES:Odpady zmieszane
LOCATION:SEKTOR III: PIASECZNO od ul. Brzezińskiej do ul. Żeglińskiego PIASECZNO, MAZOWIECKIE
ORGANIZER;CN=WGO Gminy Piaseczno:MAILTO:go@piaseczno.eu
DESCRIPTION: Odbiór odpadów 
URL;VALUE=URI:https://odpady.piaseczno.eu/harmonogram-odbioru-odpadow/odbior/sektor-iii-piaseczno-od-ul-brzezinskiej-do-ul-zeglinskiego-odpady-zmieszane/
SUMMARY:SEKTOR III: PIASECZNO od ul. Brzezińskiej do ul. Żeglińskiego
END:VEVENT
BEGIN:VEVENT
DTSTART:20260821T060000Z
DTEND:20260821T190000Z
DTSTAMP:20260422T045829Z
UID:69e85575a9251
CATEGORIES:Odpady zmieszane
LOCATION:SEKTOR III: PIASECZNO od ul. Brzezińskiej do ul. Żeglińskiego PIASECZNO, MAZOWIECKIE
ORGANIZER;CN=WGO Gminy Piaseczno:MAILTO:go@piaseczno.eu
DESCRIPTION: Odbiór odpadów 
URL;VALUE=URI:https://odpady.piaseczno.eu/harmonogram-odbioru-odpadow/odbior/sektor-iii-piaseczno-od-ul-brzezinskiej-do-ul-zeglinskiego-odpady-zmieszane/
SUMMARY:SEKTOR III: PIASECZNO od ul. Brzezińskiej do ul. Żeglińskiego
END:VEVENT
BEGIN:VEVENT
DTSTART:20260828T060000Z
DTEND:20260828T190000Z
DTSTAMP:20260422T045829Z
UID:69e85575a926b
CATEGORIES:Odpady zmieszane
LOCATION:SEKTOR III: PIASECZNO od ul. Brzezińskiej do ul. Żeglińskiego PIASECZNO, MAZOWIECKIE
ORGANIZER;CN=WGO Gminy Piaseczno:MAILTO:go@piaseczno.eu
DESCRIPTION: Odbiór odpadów 
URL;VALUE=URI:https://odpady.piaseczno.eu/harmonogram-odbioru-odpadow/odbior/sektor-iii-piaseczno-od-ul-brzezinskiej-do-ul-zeglinskiego-odpady-zmieszane/
SUMMARY:SEKTOR III: PIASECZNO od ul. Brzezińskiej do ul. Żeglińskiego
END:VEVENT
BEGIN:VEVENT
DTSTART:20260904T060000Z
DTEND:20260904T190000Z
DTSTAMP:20260422T045829Z
UID:69e85575a9285
CATEGORIES:Odpady zmieszane
LOCATION:SEKTOR III: PIASECZNO od ul. Brzezińskiej do ul. Żeglińskiego PIASECZNO, MAZOWIECKIE
ORGANIZER;CN=WGO Gminy Piaseczno:MAILTO:go@piaseczno.eu
DESCRIPTION: Odbiór odpadów 
URL;VALUE=URI:https://odpady.piaseczno.eu/harmonogram-odbioru-odpadow/odbior/sektor-iii-piaseczno-od-ul-brzezinskiej-do-ul-zeglinskiego-odpady-zmieszane/
SUMMARY:SEKTOR III: PIASECZNO od ul. Brzezińskiej do ul. Żeglińskiego
END:VEVENT
BEGIN:VEVENT
DTSTART:20260918T060000Z
DTEND:20260918T190000Z
DTSTAMP:20260422T045829Z
UID:69e85575a929f
CATEGORIES:Odpady zmieszane
LOCATION:SEKTOR III: PIASECZNO od ul. Brzezińskiej do ul. Żeglińskiego PIASECZNO, MAZOWIECKIE
ORGANIZER;CN=WGO Gminy Piaseczno:MAILTO:go@piaseczno.eu
DESCRIPTION: Odbiór odpadów 
URL;VALUE=URI:https://odpady.piaseczno.eu/harmonogram-odbioru-odpadow/odbior/sektor-iii-piaseczno-od-ul-brzezinskiej-do-ul-zeglinskiego-odpady-zmieszane/
SUMMARY:SEKTOR III: PIASECZNO od ul. Brzezińskiej do ul. Żeglińskiego
END:VEVENT
BEGIN:VEVENT
DTSTART:20261002T060000Z
DTEND:20261002T190000Z
DTSTAMP:20260422T045829Z
UID:69e85575a92b9
CATEGORIES:Odpady zmieszane
LOCATION:SEKTOR III: PIASECZNO od ul. Brzezińskiej do ul. Żeglińskiego PIASECZNO, MAZOWIECKIE
ORGANIZER;CN=WGO Gminy Piaseczno:MAILTO:go@piaseczno.eu
DESCRIPTION: Odbiór odpadów 
URL;VALUE=URI:https://odpady.piaseczno.eu/harmonogram-odbioru-odpadow/odbior/sektor-iii-piaseczno-od-ul-brzezinskiej-do-ul-zeglinskiego-odpady-zmieszane/
SUMMARY:SEKTOR III: PIASECZNO od ul. Brzezińskiej do ul. Żeglińskiego
END:VEVENT
BEGIN:VEVENT
DTSTART:20261016T060000Z
DTEND:20261016T190000Z
DTSTAMP:20260422T045829Z
UID:69e85575a92d6
CATEGORIES:Odpady zmieszane
LOCATION:SEKTOR III: PIASECZNO od ul. Brzezińskiej do ul. Żeglińskiego PIASECZNO, MAZOWIECKIE
ORGANIZER;CN=WGO Gminy Piaseczno:MAILTO:go@piaseczno.eu
DESCRIPTION: Odbiór odpadów 
URL;VALUE=URI:https://odpady.piaseczno.eu/harmonogram-odbioru-odpadow/odbior/sektor-iii-piaseczno-od-ul-brzezinskiej-do-ul-zeglinskiego-odpady-zmieszane/
SUMMARY:SEKTOR III: PIASECZNO od ul. Brzezińskiej do ul. Żeglińskiego
END:VEVENT
BEGIN:VEVENT
DTSTART:20261030T060000Z
DTEND:20261030T190000Z
DTSTAMP:20260422T045829Z
UID:69e85575a92f1
CATEGORIES:Odpady zmieszane
LOCATION:SEKTOR III: PIASECZNO od ul. Brzezińskiej do ul. Żeglińskiego PIASECZNO, MAZOWIECKIE
ORGANIZER;CN=WGO Gminy Piaseczno:MAILTO:go@piaseczno.eu
DESCRIPTION: Odbiór odpadów 
URL;VALUE=URI:https://odpady.piaseczno.eu/harmonogram-odbioru-odpadow/odbior/sektor-iii-piaseczno-od-ul-brzezinskiej-do-ul-zeglinskiego-odpady-zmieszane/
SUMMARY:SEKTOR III: PIASECZNO od ul. Brzezińskiej do ul. Żeglińskiego
END:VEVENT
BEGIN:VEVENT
DTSTART:20261113T060000Z
DTEND:20261113T190000Z
DTSTAMP:20260422T045829Z
UID:69e85575a930a
CATEGORIES:Odpady zmieszane
LOCATION:SEKTOR III: PIASECZNO od ul. Brzezińskiej do ul. Żeglińskiego PIASECZNO, MAZOWIECKIE
ORGANIZER;CN=WGO Gminy Piaseczno:MAILTO:go@piaseczno.eu
DESCRIPTION: Odbiór odpadów 
URL;VALUE=URI:https://odpady.piaseczno.eu/harmonogram-odbioru-odpadow/odbior/sektor-iii-piaseczno-od-ul-brzezinskiej-do-ul-zeglinskiego-odpady-zmieszane/
SUMMARY:SEKTOR III: PIASECZNO od ul. Brzezińskiej do ul. Żeglińskiego
END:VEVENT
BEGIN:VEVENT
DTSTART:20261127T060000Z
DTEND:20261127T190000Z
DTSTAMP:20260422T045829Z
UID:69e85575a9324
CATEGORIES:Odpady zmieszane
LOCATION:SEKTOR III: PIASECZNO od ul. Brzezińskiej do ul. Żeglińskiego PIASECZNO, MAZOWIECKIE
ORGANIZER;CN=WGO Gminy Piaseczno:MAILTO:go@piaseczno.eu
DESCRIPTION: Odbiór odpadów 
URL;VALUE=URI:https://odpady.piaseczno.eu/harmonogram-odbioru-odpadow/odbior/sektor-iii-piaseczno-od-ul-brzezinskiej-do-ul-zeglinskiego-odpady-zmieszane/
SUMMARY:SEKTOR III: PIASECZNO od ul. Brzezińskiej do ul. Żeglińskiego
END:VEVENT
END:VCALENDAR
