BEGIN:VCALENDAR
VERSION:2.0
PRODID:-//DIGITAL FACTORY//EVENTS MAKER V1.6.12//EN
CALSCALE:GREGORIAN
METHOD:PUBLISH
BEGIN:VEVENT
DTSTART:20251220T060000Z
DTEND:20251220T190000Z
DTSTAMP:20260425T005711Z
UID:69ec11671b927
CATEGORIES:Odpady wielkogabarytowe
LOCATION:SEKTOR III: PIASECZNO - od ul. Armii Krajowej do ul. Żeromskiego Piaseczno, Mazowieckie
ORGANIZER;CN=WGO Gminy Piaseczno:MAILTO:go@piaseczno.eu
DESCRIPTION: Odbiór odpadów 
URL;VALUE=URI:https://odpady.piaseczno.eu/harmonogram-odbioru-odpadow/odbior/sektor-iii-piaseczno-od-ul-armii-krajowej-do-ul-zeromskiego-7/
SUMMARY:SEKTOR III - PIASECZNO od ul. Armii Krajowej do ul. Żeromskiego
END:VEVENT
BEGIN:VEVENT
DTSTART:20260316T060000Z
DTEND:20260316T190000Z
DTSTAMP:20260425T005711Z
UID:69ec11671b9b1
CATEGORIES:Odpady wielkogabarytowe
LOCATION:SEKTOR III: PIASECZNO - od ul. Armii Krajowej do ul. Żeromskiego Piaseczno, Mazowieckie
ORGANIZER;CN=WGO Gminy Piaseczno:MAILTO:go@piaseczno.eu
DESCRIPTION: Odbiór odpadów 
URL;VALUE=URI:https://odpady.piaseczno.eu/harmonogram-odbioru-odpadow/odbior/sektor-iii-piaseczno-od-ul-armii-krajowej-do-ul-zeromskiego-7/
SUMMARY:SEKTOR III - PIASECZNO od ul. Armii Krajowej do ul. Żeromskiego
END:VEVENT
BEGIN:VEVENT
DTSTART:20260608T060000Z
DTEND:20260608T190000Z
DTSTAMP:20260425T005711Z
UID:69ec11671b9d9
CATEGORIES:Odpady wielkogabarytowe
LOCATION:SEKTOR III: PIASECZNO - od ul. Armii Krajowej do ul. Żeromskiego Piaseczno, Mazowieckie
ORGANIZER;CN=WGO Gminy Piaseczno:MAILTO:go@piaseczno.eu
DESCRIPTION: Odbiór odpadów 
URL;VALUE=URI:https://odpady.piaseczno.eu/harmonogram-odbioru-odpadow/odbior/sektor-iii-piaseczno-od-ul-armii-krajowej-do-ul-zeromskiego-7/
SUMMARY:SEKTOR III - PIASECZNO od ul. Armii Krajowej do ul. Żeromskiego
END:VEVENT
BEGIN:VEVENT
DTSTART:20260831T060000Z
DTEND:20260831T190000Z
DTSTAMP:20260425T005711Z
UID:69ec11671ba20
CATEGORIES:Odpady wielkogabarytowe
LOCATION:SEKTOR III: PIASECZNO - od ul. Armii Krajowej do ul. Żeromskiego Piaseczno, Mazowieckie
ORGANIZER;CN=WGO Gminy Piaseczno:MAILTO:go@piaseczno.eu
DESCRIPTION: Odbiór odpadów 
URL;VALUE=URI:https://odpady.piaseczno.eu/harmonogram-odbioru-odpadow/odbior/sektor-iii-piaseczno-od-ul-armii-krajowej-do-ul-zeromskiego-7/
SUMMARY:SEKTOR III - PIASECZNO od ul. Armii Krajowej do ul. Żeromskiego
END:VEVENT
BEGIN:VEVENT
DTSTART:20261123T060000Z
DTEND:20261123T190000Z
DTSTAMP:20260425T005711Z
UID:69ec11671ba53
CATEGORIES:Odpady wielkogabarytowe
LOCATION:SEKTOR III: PIASECZNO - od ul. Armii Krajowej do ul. Żeromskiego Piaseczno, Mazowieckie
ORGANIZER;CN=WGO Gminy Piaseczno:MAILTO:go@piaseczno.eu
DESCRIPTION: Odbiór odpadów 
URL;VALUE=URI:https://odpady.piaseczno.eu/harmonogram-odbioru-odpadow/odbior/sektor-iii-piaseczno-od-ul-armii-krajowej-do-ul-zeromskiego-7/
SUMMARY:SEKTOR III - PIASECZNO od ul. Armii Krajowej do ul. Żeromskiego
END:VEVENT
END:VCALENDAR
