BEGIN:VCALENDAR
VERSION:2.0
PRODID:-//DIGITAL FACTORY//EVENTS MAKER V1.6.12//EN
CALSCALE:GREGORIAN
METHOD:PUBLISH
BEGIN:VEVENT
DTSTART:20251217T060000Z
DTEND:20251217T190000Z
DTSTAMP:20260420T200657Z
UID:69e687619d33a
CATEGORIES:Odpady segregowane - szkło
LOCATION:SEKTOR III: PIASECZNO - od ul. Armii Krajowej do ul. Żeromskiego Piaseczno, Mazowieckie
ORGANIZER;CN=WGO Gminy Piaseczno:MAILTO:go@piaseczno.eu
DESCRIPTION: Odbiór odpadów 
URL;VALUE=URI:https://odpady.piaseczno.eu/harmonogram-odbioru-odpadow/odbior/sektor-iii-piaseczno-od-ul-armii-krajowej-do-ul-zeromskiego-5/
SUMMARY:SEKTOR III - PIASECZNO od ul. Armii Krajowej do ul. Żeromskiego
END:VEVENT
BEGIN:VEVENT
DTSTART:20260114T060000Z
DTEND:20260114T190000Z
DTSTAMP:20260420T200657Z
UID:69e687619d3ed
CATEGORIES:Odpady segregowane - szkło
LOCATION:SEKTOR III: PIASECZNO - od ul. Armii Krajowej do ul. Żeromskiego Piaseczno, Mazowieckie
ORGANIZER;CN=WGO Gminy Piaseczno:MAILTO:go@piaseczno.eu
DESCRIPTION: Odbiór odpadów 
URL;VALUE=URI:https://odpady.piaseczno.eu/harmonogram-odbioru-odpadow/odbior/sektor-iii-piaseczno-od-ul-armii-krajowej-do-ul-zeromskiego-5/
SUMMARY:SEKTOR III - PIASECZNO od ul. Armii Krajowej do ul. Żeromskiego
END:VEVENT
BEGIN:VEVENT
DTSTART:20260211T060000Z
DTEND:20260211T190000Z
DTSTAMP:20260420T200657Z
UID:69e687619d433
CATEGORIES:Odpady segregowane - szkło
LOCATION:SEKTOR III: PIASECZNO - od ul. Armii Krajowej do ul. Żeromskiego Piaseczno, Mazowieckie
ORGANIZER;CN=WGO Gminy Piaseczno:MAILTO:go@piaseczno.eu
DESCRIPTION: Odbiór odpadów 
URL;VALUE=URI:https://odpady.piaseczno.eu/harmonogram-odbioru-odpadow/odbior/sektor-iii-piaseczno-od-ul-armii-krajowej-do-ul-zeromskiego-5/
SUMMARY:SEKTOR III - PIASECZNO od ul. Armii Krajowej do ul. Żeromskiego
END:VEVENT
BEGIN:VEVENT
DTSTART:20260311T060000Z
DTEND:20260311T190000Z
DTSTAMP:20260420T200657Z
UID:69e687619d462
CATEGORIES:Odpady segregowane - szkło
LOCATION:SEKTOR III: PIASECZNO - od ul. Armii Krajowej do ul. Żeromskiego Piaseczno, Mazowieckie
ORGANIZER;CN=WGO Gminy Piaseczno:MAILTO:go@piaseczno.eu
DESCRIPTION: Odbiór odpadów 
URL;VALUE=URI:https://odpady.piaseczno.eu/harmonogram-odbioru-odpadow/odbior/sektor-iii-piaseczno-od-ul-armii-krajowej-do-ul-zeromskiego-5/
SUMMARY:SEKTOR III - PIASECZNO od ul. Armii Krajowej do ul. Żeromskiego
END:VEVENT
BEGIN:VEVENT
DTSTART:20260408T060000Z
DTEND:20260408T190000Z
DTSTAMP:20260420T200657Z
UID:69e687619d480
CATEGORIES:Odpady segregowane - szkło
LOCATION:SEKTOR III: PIASECZNO - od ul. Armii Krajowej do ul. Żeromskiego Piaseczno, Mazowieckie
ORGANIZER;CN=WGO Gminy Piaseczno:MAILTO:go@piaseczno.eu
DESCRIPTION: Odbiór odpadów 
URL;VALUE=URI:https://odpady.piaseczno.eu/harmonogram-odbioru-odpadow/odbior/sektor-iii-piaseczno-od-ul-armii-krajowej-do-ul-zeromskiego-5/
SUMMARY:SEKTOR III - PIASECZNO od ul. Armii Krajowej do ul. Żeromskiego
END:VEVENT
BEGIN:VEVENT
DTSTART:20260506T060000Z
DTEND:20260506T190000Z
DTSTAMP:20260420T200657Z
UID:69e687619d49c
CATEGORIES:Odpady segregowane - szkło
LOCATION:SEKTOR III: PIASECZNO - od ul. Armii Krajowej do ul. Żeromskiego Piaseczno, Mazowieckie
ORGANIZER;CN=WGO Gminy Piaseczno:MAILTO:go@piaseczno.eu
DESCRIPTION: Odbiór odpadów 
URL;VALUE=URI:https://odpady.piaseczno.eu/harmonogram-odbioru-odpadow/odbior/sektor-iii-piaseczno-od-ul-armii-krajowej-do-ul-zeromskiego-5/
SUMMARY:SEKTOR III - PIASECZNO od ul. Armii Krajowej do ul. Żeromskiego
END:VEVENT
BEGIN:VEVENT
DTSTART:20260603T060000Z
DTEND:20260603T190000Z
DTSTAMP:20260420T200657Z
UID:69e687619d4b8
CATEGORIES:Odpady segregowane - szkło
LOCATION:SEKTOR III: PIASECZNO - od ul. Armii Krajowej do ul. Żeromskiego Piaseczno, Mazowieckie
ORGANIZER;CN=WGO Gminy Piaseczno:MAILTO:go@piaseczno.eu
DESCRIPTION: Odbiór odpadów 
URL;VALUE=URI:https://odpady.piaseczno.eu/harmonogram-odbioru-odpadow/odbior/sektor-iii-piaseczno-od-ul-armii-krajowej-do-ul-zeromskiego-5/
SUMMARY:SEKTOR III - PIASECZNO od ul. Armii Krajowej do ul. Żeromskiego
END:VEVENT
BEGIN:VEVENT
DTSTART:20260701T060000Z
DTEND:20260701T190000Z
DTSTAMP:20260420T200657Z
UID:69e687619d4d2
CATEGORIES:Odpady segregowane - szkło
LOCATION:SEKTOR III: PIASECZNO - od ul. Armii Krajowej do ul. Żeromskiego Piaseczno, Mazowieckie
ORGANIZER;CN=WGO Gminy Piaseczno:MAILTO:go@piaseczno.eu
DESCRIPTION: Odbiór odpadów 
URL;VALUE=URI:https://odpady.piaseczno.eu/harmonogram-odbioru-odpadow/odbior/sektor-iii-piaseczno-od-ul-armii-krajowej-do-ul-zeromskiego-5/
SUMMARY:SEKTOR III - PIASECZNO od ul. Armii Krajowej do ul. Żeromskiego
END:VEVENT
BEGIN:VEVENT
DTSTART:20260729T060000Z
DTEND:20260729T190000Z
DTSTAMP:20260420T200657Z
UID:69e687619d4f2
CATEGORIES:Odpady segregowane - szkło
LOCATION:SEKTOR III: PIASECZNO - od ul. Armii Krajowej do ul. Żeromskiego Piaseczno, Mazowieckie
ORGANIZER;CN=WGO Gminy Piaseczno:MAILTO:go@piaseczno.eu
DESCRIPTION: Odbiór odpadów 
URL;VALUE=URI:https://odpady.piaseczno.eu/harmonogram-odbioru-odpadow/odbior/sektor-iii-piaseczno-od-ul-armii-krajowej-do-ul-zeromskiego-5/
SUMMARY:SEKTOR III - PIASECZNO od ul. Armii Krajowej do ul. Żeromskiego
END:VEVENT
BEGIN:VEVENT
DTSTART:20260826T060000Z
DTEND:20260826T190000Z
DTSTAMP:20260420T200657Z
UID:69e687619d50c
CATEGORIES:Odpady segregowane - szkło
LOCATION:SEKTOR III: PIASECZNO - od ul. Armii Krajowej do ul. Żeromskiego Piaseczno, Mazowieckie
ORGANIZER;CN=WGO Gminy Piaseczno:MAILTO:go@piaseczno.eu
DESCRIPTION: Odbiór odpadów 
URL;VALUE=URI:https://odpady.piaseczno.eu/harmonogram-odbioru-odpadow/odbior/sektor-iii-piaseczno-od-ul-armii-krajowej-do-ul-zeromskiego-5/
SUMMARY:SEKTOR III - PIASECZNO od ul. Armii Krajowej do ul. Żeromskiego
END:VEVENT
BEGIN:VEVENT
DTSTART:20260923T060000Z
DTEND:20260923T190000Z
DTSTAMP:20260420T200657Z
UID:69e687619d526
CATEGORIES:Odpady segregowane - szkło
LOCATION:SEKTOR III: PIASECZNO - od ul. Armii Krajowej do ul. Żeromskiego Piaseczno, Mazowieckie
ORGANIZER;CN=WGO Gminy Piaseczno:MAILTO:go@piaseczno.eu
DESCRIPTION: Odbiór odpadów 
URL;VALUE=URI:https://odpady.piaseczno.eu/harmonogram-odbioru-odpadow/odbior/sektor-iii-piaseczno-od-ul-armii-krajowej-do-ul-zeromskiego-5/
SUMMARY:SEKTOR III - PIASECZNO od ul. Armii Krajowej do ul. Żeromskiego
END:VEVENT
BEGIN:VEVENT
DTSTART:20261021T060000Z
DTEND:20261021T190000Z
DTSTAMP:20260420T200657Z
UID:69e687619d540
CATEGORIES:Odpady segregowane - szkło
LOCATION:SEKTOR III: PIASECZNO - od ul. Armii Krajowej do ul. Żeromskiego Piaseczno, Mazowieckie
ORGANIZER;CN=WGO Gminy Piaseczno:MAILTO:go@piaseczno.eu
DESCRIPTION: Odbiór odpadów 
URL;VALUE=URI:https://odpady.piaseczno.eu/harmonogram-odbioru-odpadow/odbior/sektor-iii-piaseczno-od-ul-armii-krajowej-do-ul-zeromskiego-5/
SUMMARY:SEKTOR III - PIASECZNO od ul. Armii Krajowej do ul. Żeromskiego
END:VEVENT
BEGIN:VEVENT
DTSTART:20261118T060000Z
DTEND:20261118T190000Z
DTSTAMP:20260420T200657Z
UID:69e687619d559
CATEGORIES:Odpady segregowane - szkło
LOCATION:SEKTOR III: PIASECZNO - od ul. Armii Krajowej do ul. Żeromskiego Piaseczno, Mazowieckie
ORGANIZER;CN=WGO Gminy Piaseczno:MAILTO:go@piaseczno.eu
DESCRIPTION: Odbiór odpadów 
URL;VALUE=URI:https://odpady.piaseczno.eu/harmonogram-odbioru-odpadow/odbior/sektor-iii-piaseczno-od-ul-armii-krajowej-do-ul-zeromskiego-5/
SUMMARY:SEKTOR III - PIASECZNO od ul. Armii Krajowej do ul. Żeromskiego
END:VEVENT
END:VCALENDAR
