BEGIN:VCALENDAR
VERSION:2.0
PRODID:-//DIGITAL FACTORY//EVENTS MAKER V1.6.12//EN
CALSCALE:GREGORIAN
METHOD:PUBLISH
BEGIN:VEVENT
DTSTART:20251210T060000Z
DTEND:20251210T190000Z
DTSTAMP:20260420T214505Z
UID:69e69e61d269e
CATEGORIES:odpady segregowane - papier
LOCATION:SEKTOR III: PIASECZNO - od ul. Armii Krajowej do ul. Żeromskiego Piaseczno, Mazowieckie
ORGANIZER;CN=WGO Gminy Piaseczno:MAILTO:go@piaseczno.eu
DESCRIPTION: Odbiór odpadów 
URL;VALUE=URI:https://odpady.piaseczno.eu/harmonogram-odbioru-odpadow/odbior/sektor-iii-piaseczno-od-ul-armii-krajowej-do-ul-zeromskiego-4/
SUMMARY:SEKTOR III - PIASECZNO od ul. Armii Krajowej do ul. Żeromskiego
END:VEVENT
BEGIN:VEVENT
DTSTART:20260107T060000Z
DTEND:20260107T190000Z
DTSTAMP:20260420T214505Z
UID:69e69e61d273a
CATEGORIES:odpady segregowane - papier
LOCATION:SEKTOR III: PIASECZNO - od ul. Armii Krajowej do ul. Żeromskiego Piaseczno, Mazowieckie
ORGANIZER;CN=WGO Gminy Piaseczno:MAILTO:go@piaseczno.eu
DESCRIPTION: Odbiór odpadów 
URL;VALUE=URI:https://odpady.piaseczno.eu/harmonogram-odbioru-odpadow/odbior/sektor-iii-piaseczno-od-ul-armii-krajowej-do-ul-zeromskiego-4/
SUMMARY:SEKTOR III - PIASECZNO od ul. Armii Krajowej do ul. Żeromskiego
END:VEVENT
BEGIN:VEVENT
DTSTART:20260204T060000Z
DTEND:20260204T190000Z
DTSTAMP:20260420T214505Z
UID:69e69e61d276d
CATEGORIES:odpady segregowane - papier
LOCATION:SEKTOR III: PIASECZNO - od ul. Armii Krajowej do ul. Żeromskiego Piaseczno, Mazowieckie
ORGANIZER;CN=WGO Gminy Piaseczno:MAILTO:go@piaseczno.eu
DESCRIPTION: Odbiór odpadów 
URL;VALUE=URI:https://odpady.piaseczno.eu/harmonogram-odbioru-odpadow/odbior/sektor-iii-piaseczno-od-ul-armii-krajowej-do-ul-zeromskiego-4/
SUMMARY:SEKTOR III - PIASECZNO od ul. Armii Krajowej do ul. Żeromskiego
END:VEVENT
BEGIN:VEVENT
DTSTART:20260304T060000Z
DTEND:20260304T190000Z
DTSTAMP:20260420T214505Z
UID:69e69e61d279d
CATEGORIES:odpady segregowane - papier
LOCATION:SEKTOR III: PIASECZNO - od ul. Armii Krajowej do ul. Żeromskiego Piaseczno, Mazowieckie
ORGANIZER;CN=WGO Gminy Piaseczno:MAILTO:go@piaseczno.eu
DESCRIPTION: Odbiór odpadów 
URL;VALUE=URI:https://odpady.piaseczno.eu/harmonogram-odbioru-odpadow/odbior/sektor-iii-piaseczno-od-ul-armii-krajowej-do-ul-zeromskiego-4/
SUMMARY:SEKTOR III - PIASECZNO od ul. Armii Krajowej do ul. Żeromskiego
END:VEVENT
BEGIN:VEVENT
DTSTART:20260401T060000Z
DTEND:20260401T190000Z
DTSTAMP:20260420T214505Z
UID:69e69e61d27ba
CATEGORIES:odpady segregowane - papier
LOCATION:SEKTOR III: PIASECZNO - od ul. Armii Krajowej do ul. Żeromskiego Piaseczno, Mazowieckie
ORGANIZER;CN=WGO Gminy Piaseczno:MAILTO:go@piaseczno.eu
DESCRIPTION: Odbiór odpadów 
URL;VALUE=URI:https://odpady.piaseczno.eu/harmonogram-odbioru-odpadow/odbior/sektor-iii-piaseczno-od-ul-armii-krajowej-do-ul-zeromskiego-4/
SUMMARY:SEKTOR III - PIASECZNO od ul. Armii Krajowej do ul. Żeromskiego
END:VEVENT
BEGIN:VEVENT
DTSTART:20260429T060000Z
DTEND:20260429T190000Z
DTSTAMP:20260420T214505Z
UID:69e69e61d27d6
CATEGORIES:odpady segregowane - papier
LOCATION:SEKTOR III: PIASECZNO - od ul. Armii Krajowej do ul. Żeromskiego Piaseczno, Mazowieckie
ORGANIZER;CN=WGO Gminy Piaseczno:MAILTO:go@piaseczno.eu
DESCRIPTION: Odbiór odpadów 
URL;VALUE=URI:https://odpady.piaseczno.eu/harmonogram-odbioru-odpadow/odbior/sektor-iii-piaseczno-od-ul-armii-krajowej-do-ul-zeromskiego-4/
SUMMARY:SEKTOR III - PIASECZNO od ul. Armii Krajowej do ul. Żeromskiego
END:VEVENT
BEGIN:VEVENT
DTSTART:20260527T060000Z
DTEND:20260527T190000Z
DTSTAMP:20260420T214505Z
UID:69e69e61d27f2
CATEGORIES:odpady segregowane - papier
LOCATION:SEKTOR III: PIASECZNO - od ul. Armii Krajowej do ul. Żeromskiego Piaseczno, Mazowieckie
ORGANIZER;CN=WGO Gminy Piaseczno:MAILTO:go@piaseczno.eu
DESCRIPTION: Odbiór odpadów 
URL;VALUE=URI:https://odpady.piaseczno.eu/harmonogram-odbioru-odpadow/odbior/sektor-iii-piaseczno-od-ul-armii-krajowej-do-ul-zeromskiego-4/
SUMMARY:SEKTOR III - PIASECZNO od ul. Armii Krajowej do ul. Żeromskiego
END:VEVENT
BEGIN:VEVENT
DTSTART:20260624T060000Z
DTEND:20260624T190000Z
DTSTAMP:20260420T214505Z
UID:69e69e61d281a
CATEGORIES:odpady segregowane - papier
LOCATION:SEKTOR III: PIASECZNO - od ul. Armii Krajowej do ul. Żeromskiego Piaseczno, Mazowieckie
ORGANIZER;CN=WGO Gminy Piaseczno:MAILTO:go@piaseczno.eu
DESCRIPTION: Odbiór odpadów 
URL;VALUE=URI:https://odpady.piaseczno.eu/harmonogram-odbioru-odpadow/odbior/sektor-iii-piaseczno-od-ul-armii-krajowej-do-ul-zeromskiego-4/
SUMMARY:SEKTOR III - PIASECZNO od ul. Armii Krajowej do ul. Żeromskiego
END:VEVENT
BEGIN:VEVENT
DTSTART:20260722T060000Z
DTEND:20260722T190000Z
DTSTAMP:20260420T214505Z
UID:69e69e61d283b
CATEGORIES:odpady segregowane - papier
LOCATION:SEKTOR III: PIASECZNO - od ul. Armii Krajowej do ul. Żeromskiego Piaseczno, Mazowieckie
ORGANIZER;CN=WGO Gminy Piaseczno:MAILTO:go@piaseczno.eu
DESCRIPTION: Odbiór odpadów 
URL;VALUE=URI:https://odpady.piaseczno.eu/harmonogram-odbioru-odpadow/odbior/sektor-iii-piaseczno-od-ul-armii-krajowej-do-ul-zeromskiego-4/
SUMMARY:SEKTOR III - PIASECZNO od ul. Armii Krajowej do ul. Żeromskiego
END:VEVENT
BEGIN:VEVENT
DTSTART:20260819T060000Z
DTEND:20260819T190000Z
DTSTAMP:20260420T214505Z
UID:69e69e61d2855
CATEGORIES:odpady segregowane - papier
LOCATION:SEKTOR III: PIASECZNO - od ul. Armii Krajowej do ul. Żeromskiego Piaseczno, Mazowieckie
ORGANIZER;CN=WGO Gminy Piaseczno:MAILTO:go@piaseczno.eu
DESCRIPTION: Odbiór odpadów 
URL;VALUE=URI:https://odpady.piaseczno.eu/harmonogram-odbioru-odpadow/odbior/sektor-iii-piaseczno-od-ul-armii-krajowej-do-ul-zeromskiego-4/
SUMMARY:SEKTOR III - PIASECZNO od ul. Armii Krajowej do ul. Żeromskiego
END:VEVENT
BEGIN:VEVENT
DTSTART:20260916T060000Z
DTEND:20260916T190000Z
DTSTAMP:20260420T214505Z
UID:69e69e61d286f
CATEGORIES:odpady segregowane - papier
LOCATION:SEKTOR III: PIASECZNO - od ul. Armii Krajowej do ul. Żeromskiego Piaseczno, Mazowieckie
ORGANIZER;CN=WGO Gminy Piaseczno:MAILTO:go@piaseczno.eu
DESCRIPTION: Odbiór odpadów 
URL;VALUE=URI:https://odpady.piaseczno.eu/harmonogram-odbioru-odpadow/odbior/sektor-iii-piaseczno-od-ul-armii-krajowej-do-ul-zeromskiego-4/
SUMMARY:SEKTOR III - PIASECZNO od ul. Armii Krajowej do ul. Żeromskiego
END:VEVENT
BEGIN:VEVENT
DTSTART:20261014T060000Z
DTEND:20261014T190000Z
DTSTAMP:20260420T214505Z
UID:69e69e61d2889
CATEGORIES:odpady segregowane - papier
LOCATION:SEKTOR III: PIASECZNO - od ul. Armii Krajowej do ul. Żeromskiego Piaseczno, Mazowieckie
ORGANIZER;CN=WGO Gminy Piaseczno:MAILTO:go@piaseczno.eu
DESCRIPTION: Odbiór odpadów 
URL;VALUE=URI:https://odpady.piaseczno.eu/harmonogram-odbioru-odpadow/odbior/sektor-iii-piaseczno-od-ul-armii-krajowej-do-ul-zeromskiego-4/
SUMMARY:SEKTOR III - PIASECZNO od ul. Armii Krajowej do ul. Żeromskiego
END:VEVENT
BEGIN:VEVENT
DTSTART:20261114T060000Z
DTEND:20261114T190000Z
DTSTAMP:20260420T214505Z
UID:69e69e61d28a4
CATEGORIES:odpady segregowane - papier
LOCATION:SEKTOR III: PIASECZNO - od ul. Armii Krajowej do ul. Żeromskiego Piaseczno, Mazowieckie
ORGANIZER;CN=WGO Gminy Piaseczno:MAILTO:go@piaseczno.eu
DESCRIPTION: Odbiór odpadów 
URL;VALUE=URI:https://odpady.piaseczno.eu/harmonogram-odbioru-odpadow/odbior/sektor-iii-piaseczno-od-ul-armii-krajowej-do-ul-zeromskiego-4/
SUMMARY:SEKTOR III - PIASECZNO od ul. Armii Krajowej do ul. Żeromskiego
END:VEVENT
END:VCALENDAR
