BEGIN:VCALENDAR
VERSION:2.0
PRODID:-//DIGITAL FACTORY//EVENTS MAKER V1.6.12//EN
CALSCALE:GREGORIAN
METHOD:PUBLISH
BEGIN:VEVENT
DTSTART:20251217T060000Z
DTEND:20251217T190000Z
DTSTAMP:20260421T023400Z
UID:69e6e21832e3a
CATEGORIES:odpady segregowane - papier
LOCATION:SEKTOR III: PIASECZNO - od ul. 1 Maja do Zagrodowa 
ORGANIZER;CN=WGO Gminy Piaseczno:MAILTO:go@piaseczno.eu
DESCRIPTION: Odbiór odpadów 
URL;VALUE=URI:https://odpady.piaseczno.eu/harmonogram-odbioru-odpadow/odbior/sektor-iii-piaseczno-od-ul-1-maja-do-ul-zagrodowa/
SUMMARY:Sektor III: PIASECZNO - od ul. 1 Maja do ul. Zagrodowa
END:VEVENT
BEGIN:VEVENT
DTSTART:20260114T060000Z
DTEND:20260114T190000Z
DTSTAMP:20260421T023400Z
UID:69e6e21832f01
CATEGORIES:odpady segregowane - papier
LOCATION:SEKTOR III: PIASECZNO - od ul. 1 Maja do Zagrodowa 
ORGANIZER;CN=WGO Gminy Piaseczno:MAILTO:go@piaseczno.eu
DESCRIPTION: Odbiór odpadów 
URL;VALUE=URI:https://odpady.piaseczno.eu/harmonogram-odbioru-odpadow/odbior/sektor-iii-piaseczno-od-ul-1-maja-do-ul-zagrodowa/
SUMMARY:Sektor III: PIASECZNO - od ul. 1 Maja do ul. Zagrodowa
END:VEVENT
BEGIN:VEVENT
DTSTART:20260211T060000Z
DTEND:20260211T190000Z
DTSTAMP:20260421T023400Z
UID:69e6e21832f42
CATEGORIES:odpady segregowane - papier
LOCATION:SEKTOR III: PIASECZNO - od ul. 1 Maja do Zagrodowa 
ORGANIZER;CN=WGO Gminy Piaseczno:MAILTO:go@piaseczno.eu
DESCRIPTION: Odbiór odpadów 
URL;VALUE=URI:https://odpady.piaseczno.eu/harmonogram-odbioru-odpadow/odbior/sektor-iii-piaseczno-od-ul-1-maja-do-ul-zagrodowa/
SUMMARY:Sektor III: PIASECZNO - od ul. 1 Maja do ul. Zagrodowa
END:VEVENT
BEGIN:VEVENT
DTSTART:20260311T060000Z
DTEND:20260311T190000Z
DTSTAMP:20260421T023400Z
UID:69e6e21832f84
CATEGORIES:odpady segregowane - papier
LOCATION:SEKTOR III: PIASECZNO - od ul. 1 Maja do Zagrodowa 
ORGANIZER;CN=WGO Gminy Piaseczno:MAILTO:go@piaseczno.eu
DESCRIPTION: Odbiór odpadów 
URL;VALUE=URI:https://odpady.piaseczno.eu/harmonogram-odbioru-odpadow/odbior/sektor-iii-piaseczno-od-ul-1-maja-do-ul-zagrodowa/
SUMMARY:Sektor III: PIASECZNO - od ul. 1 Maja do ul. Zagrodowa
END:VEVENT
BEGIN:VEVENT
DTSTART:20260408T060000Z
DTEND:20260408T190000Z
DTSTAMP:20260421T023400Z
UID:69e6e21832fb1
CATEGORIES:odpady segregowane - papier
LOCATION:SEKTOR III: PIASECZNO - od ul. 1 Maja do Zagrodowa 
ORGANIZER;CN=WGO Gminy Piaseczno:MAILTO:go@piaseczno.eu
DESCRIPTION: Odbiór odpadów 
URL;VALUE=URI:https://odpady.piaseczno.eu/harmonogram-odbioru-odpadow/odbior/sektor-iii-piaseczno-od-ul-1-maja-do-ul-zagrodowa/
SUMMARY:Sektor III: PIASECZNO - od ul. 1 Maja do ul. Zagrodowa
END:VEVENT
BEGIN:VEVENT
DTSTART:20260506T060000Z
DTEND:20260506T190000Z
DTSTAMP:20260421T023400Z
UID:69e6e21832fda
CATEGORIES:odpady segregowane - papier
LOCATION:SEKTOR III: PIASECZNO - od ul. 1 Maja do Zagrodowa 
ORGANIZER;CN=WGO Gminy Piaseczno:MAILTO:go@piaseczno.eu
DESCRIPTION: Odbiór odpadów 
URL;VALUE=URI:https://odpady.piaseczno.eu/harmonogram-odbioru-odpadow/odbior/sektor-iii-piaseczno-od-ul-1-maja-do-ul-zagrodowa/
SUMMARY:Sektor III: PIASECZNO - od ul. 1 Maja do ul. Zagrodowa
END:VEVENT
BEGIN:VEVENT
DTSTART:20260603T060000Z
DTEND:20260603T190000Z
DTSTAMP:20260421T023400Z
UID:69e6e21833005
CATEGORIES:odpady segregowane - papier
LOCATION:SEKTOR III: PIASECZNO - od ul. 1 Maja do Zagrodowa 
ORGANIZER;CN=WGO Gminy Piaseczno:MAILTO:go@piaseczno.eu
DESCRIPTION: Odbiór odpadów 
URL;VALUE=URI:https://odpady.piaseczno.eu/harmonogram-odbioru-odpadow/odbior/sektor-iii-piaseczno-od-ul-1-maja-do-ul-zagrodowa/
SUMMARY:Sektor III: PIASECZNO - od ul. 1 Maja do ul. Zagrodowa
END:VEVENT
BEGIN:VEVENT
DTSTART:20260701T060000Z
DTEND:20260701T190000Z
DTSTAMP:20260421T023400Z
UID:69e6e21833030
CATEGORIES:odpady segregowane - papier
LOCATION:SEKTOR III: PIASECZNO - od ul. 1 Maja do Zagrodowa 
ORGANIZER;CN=WGO Gminy Piaseczno:MAILTO:go@piaseczno.eu
DESCRIPTION: Odbiór odpadów 
URL;VALUE=URI:https://odpady.piaseczno.eu/harmonogram-odbioru-odpadow/odbior/sektor-iii-piaseczno-od-ul-1-maja-do-ul-zagrodowa/
SUMMARY:Sektor III: PIASECZNO - od ul. 1 Maja do ul. Zagrodowa
END:VEVENT
BEGIN:VEVENT
DTSTART:20260729T060000Z
DTEND:20260729T190000Z
DTSTAMP:20260421T023400Z
UID:69e6e21833067
CATEGORIES:odpady segregowane - papier
LOCATION:SEKTOR III: PIASECZNO - od ul. 1 Maja do Zagrodowa 
ORGANIZER;CN=WGO Gminy Piaseczno:MAILTO:go@piaseczno.eu
DESCRIPTION: Odbiór odpadów 
URL;VALUE=URI:https://odpady.piaseczno.eu/harmonogram-odbioru-odpadow/odbior/sektor-iii-piaseczno-od-ul-1-maja-do-ul-zagrodowa/
SUMMARY:Sektor III: PIASECZNO - od ul. 1 Maja do ul. Zagrodowa
END:VEVENT
BEGIN:VEVENT
DTSTART:20260826T060000Z
DTEND:20260826T190000Z
DTSTAMP:20260421T023400Z
UID:69e6e2183308f
CATEGORIES:odpady segregowane - papier
LOCATION:SEKTOR III: PIASECZNO - od ul. 1 Maja do Zagrodowa 
ORGANIZER;CN=WGO Gminy Piaseczno:MAILTO:go@piaseczno.eu
DESCRIPTION: Odbiór odpadów 
URL;VALUE=URI:https://odpady.piaseczno.eu/harmonogram-odbioru-odpadow/odbior/sektor-iii-piaseczno-od-ul-1-maja-do-ul-zagrodowa/
SUMMARY:Sektor III: PIASECZNO - od ul. 1 Maja do ul. Zagrodowa
END:VEVENT
BEGIN:VEVENT
DTSTART:20260923T060000Z
DTEND:20260923T190000Z
DTSTAMP:20260421T023400Z
UID:69e6e218330ba
CATEGORIES:odpady segregowane - papier
LOCATION:SEKTOR III: PIASECZNO - od ul. 1 Maja do Zagrodowa 
ORGANIZER;CN=WGO Gminy Piaseczno:MAILTO:go@piaseczno.eu
DESCRIPTION: Odbiór odpadów 
URL;VALUE=URI:https://odpady.piaseczno.eu/harmonogram-odbioru-odpadow/odbior/sektor-iii-piaseczno-od-ul-1-maja-do-ul-zagrodowa/
SUMMARY:Sektor III: PIASECZNO - od ul. 1 Maja do ul. Zagrodowa
END:VEVENT
BEGIN:VEVENT
DTSTART:20261021T060000Z
DTEND:20261021T190000Z
DTSTAMP:20260421T023400Z
UID:69e6e218330e3
CATEGORIES:odpady segregowane - papier
LOCATION:SEKTOR III: PIASECZNO - od ul. 1 Maja do Zagrodowa 
ORGANIZER;CN=WGO Gminy Piaseczno:MAILTO:go@piaseczno.eu
DESCRIPTION: Odbiór odpadów 
URL;VALUE=URI:https://odpady.piaseczno.eu/harmonogram-odbioru-odpadow/odbior/sektor-iii-piaseczno-od-ul-1-maja-do-ul-zagrodowa/
SUMMARY:Sektor III: PIASECZNO - od ul. 1 Maja do ul. Zagrodowa
END:VEVENT
BEGIN:VEVENT
DTSTART:20261118T060000Z
DTEND:20261118T190000Z
DTSTAMP:20260421T023400Z
UID:69e6e21833109
CATEGORIES:odpady segregowane - papier
LOCATION:SEKTOR III: PIASECZNO - od ul. 1 Maja do Zagrodowa 
ORGANIZER;CN=WGO Gminy Piaseczno:MAILTO:go@piaseczno.eu
DESCRIPTION: Odbiór odpadów 
URL;VALUE=URI:https://odpady.piaseczno.eu/harmonogram-odbioru-odpadow/odbior/sektor-iii-piaseczno-od-ul-1-maja-do-ul-zagrodowa/
SUMMARY:Sektor III: PIASECZNO - od ul. 1 Maja do ul. Zagrodowa
END:VEVENT
END:VCALENDAR
