BEGIN:VCALENDAR
VERSION:2.0
PRODID:-//DIGITAL FACTORY//EVENTS MAKER V1.6.12//EN
CALSCALE:GREGORIAN
METHOD:PUBLISH
BEGIN:VEVENT
DTSTART:20260119T060000Z
DTEND:20260119T190000Z
DTSTAMP:20260422T045303Z
UID:69e8542f1327b
CATEGORIES:Odbiór choinek
LOCATION:SEKTOR III: PIASECZNO od ul. Aleja Lotników do ul. Wojska Polskiego PIASECZNO, MAZOWIECKIE
ORGANIZER;CN=WGO Gminy Piaseczno:MAILTO:go@piaseczno.eu
DESCRIPTION: Odbiór odpadów 
URL;VALUE=URI:https://odpady.piaseczno.eu/harmonogram-odbioru-odpadow/odbior/sektor-iii-piaseczno-od-aleja-lotnikow-do-ul-wojska-polskiego-7/
SUMMARY:SEKTOR III - PIASECZNO od Aleja Lotników do ul. Wojska Polskiego
END:VEVENT
BEGIN:VEVENT
DTSTART:20260202T060000Z
DTEND:20260202T190000Z
DTSTAMP:20260422T045303Z
UID:69e8542f1334c
CATEGORIES:Odbiór choinek
LOCATION:SEKTOR III: PIASECZNO od ul. Aleja Lotników do ul. Wojska Polskiego PIASECZNO, MAZOWIECKIE
ORGANIZER;CN=WGO Gminy Piaseczno:MAILTO:go@piaseczno.eu
DESCRIPTION: Odbiór odpadów 
URL;VALUE=URI:https://odpady.piaseczno.eu/harmonogram-odbioru-odpadow/odbior/sektor-iii-piaseczno-od-aleja-lotnikow-do-ul-wojska-polskiego-7/
SUMMARY:SEKTOR III - PIASECZNO od Aleja Lotników do ul. Wojska Polskiego
END:VEVENT
END:VCALENDAR
