BEGIN:VCALENDAR
VERSION:2.0
PRODID:-//DIGITAL FACTORY//EVENTS MAKER V1.6.12//EN
CALSCALE:GREGORIAN
METHOD:PUBLISH
BEGIN:VEVENT
DTSTART:20260105T060000Z
DTEND:20260105T190000Z
DTSTAMP:20260424T083821Z
UID:69eb2bfdd823b
CATEGORIES:Odpady wielkogabarytowe
LOCATION:SEKTOR III: PIASECZNO od ul. Aleja Lotników do ul. Wojska Polskiego PIASECZNO, MAZOWIECKIE
ORGANIZER;CN=WGO Gminy Piaseczno:MAILTO:go@piaseczno.eu
DESCRIPTION: Odbiór odpadów 
URL;VALUE=URI:https://odpady.piaseczno.eu/harmonogram-odbioru-odpadow/odbior/sektor-iii-piaseczno-od-aleja-lotnikow-do-ul-wojska-polskiego-6/
SUMMARY:SEKTOR III - PIASECZNO od Aleja Lotników do ul. Wojska Polskiego
END:VEVENT
BEGIN:VEVENT
DTSTART:20260330T060000Z
DTEND:20260330T190000Z
DTSTAMP:20260424T083821Z
UID:69eb2bfdd82ce
CATEGORIES:Odpady wielkogabarytowe
LOCATION:SEKTOR III: PIASECZNO od ul. Aleja Lotników do ul. Wojska Polskiego PIASECZNO, MAZOWIECKIE
ORGANIZER;CN=WGO Gminy Piaseczno:MAILTO:go@piaseczno.eu
DESCRIPTION: Odbiór odpadów 
URL;VALUE=URI:https://odpady.piaseczno.eu/harmonogram-odbioru-odpadow/odbior/sektor-iii-piaseczno-od-aleja-lotnikow-do-ul-wojska-polskiego-6/
SUMMARY:SEKTOR III - PIASECZNO od Aleja Lotników do ul. Wojska Polskiego
END:VEVENT
BEGIN:VEVENT
DTSTART:20260622T060000Z
DTEND:20260622T190000Z
DTSTAMP:20260424T083821Z
UID:69eb2bfdd82f9
CATEGORIES:Odpady wielkogabarytowe
LOCATION:SEKTOR III: PIASECZNO od ul. Aleja Lotników do ul. Wojska Polskiego PIASECZNO, MAZOWIECKIE
ORGANIZER;CN=WGO Gminy Piaseczno:MAILTO:go@piaseczno.eu
DESCRIPTION: Odbiór odpadów 
URL;VALUE=URI:https://odpady.piaseczno.eu/harmonogram-odbioru-odpadow/odbior/sektor-iii-piaseczno-od-aleja-lotnikow-do-ul-wojska-polskiego-6/
SUMMARY:SEKTOR III - PIASECZNO od Aleja Lotników do ul. Wojska Polskiego
END:VEVENT
BEGIN:VEVENT
DTSTART:20260914T060000Z
DTEND:20260914T190000Z
DTSTAMP:20260424T083821Z
UID:69eb2bfdd8319
CATEGORIES:Odpady wielkogabarytowe
LOCATION:SEKTOR III: PIASECZNO od ul. Aleja Lotników do ul. Wojska Polskiego PIASECZNO, MAZOWIECKIE
ORGANIZER;CN=WGO Gminy Piaseczno:MAILTO:go@piaseczno.eu
DESCRIPTION: Odbiór odpadów 
URL;VALUE=URI:https://odpady.piaseczno.eu/harmonogram-odbioru-odpadow/odbior/sektor-iii-piaseczno-od-aleja-lotnikow-do-ul-wojska-polskiego-6/
SUMMARY:SEKTOR III - PIASECZNO od Aleja Lotników do ul. Wojska Polskiego
END:VEVENT
END:VCALENDAR
