BEGIN:VCALENDAR
VERSION:2.0
PRODID:-//DIGITAL FACTORY//EVENTS MAKER V1.6.12//EN
CALSCALE:GREGORIAN
METHOD:PUBLISH
BEGIN:VEVENT
DTSTART:20251223T060000Z
DTEND:20251223T190000Z
DTSTAMP:20260423T123322Z
UID:69ea1192b3032
CATEGORIES:Odpady segregowane - szkło
LOCATION:SEKTOR III: PIASECZNO od ul. Aleja Lotników do ul. Wojska Polskiego PIASECZNO, MAZOWIECKIE
ORGANIZER;CN=WGO Gminy Piaseczno:MAILTO:go@piaseczno.eu
DESCRIPTION: Odbiór odpadów 
URL;VALUE=URI:https://odpady.piaseczno.eu/harmonogram-odbioru-odpadow/odbior/sektor-iii-piaseczno-od-aleja-lotnikow-do-ul-wojska-polskiego-4/
SUMMARY:SEKTOR III - PIASECZNO od Aleja Lotników do ul. Wojska Polskiego
END:VEVENT
BEGIN:VEVENT
DTSTART:20260121T060000Z
DTEND:20260121T190000Z
DTSTAMP:20260423T123322Z
UID:69ea1192b30be
CATEGORIES:Odpady segregowane - szkło
LOCATION:SEKTOR III: PIASECZNO od ul. Aleja Lotników do ul. Wojska Polskiego PIASECZNO, MAZOWIECKIE
ORGANIZER;CN=WGO Gminy Piaseczno:MAILTO:go@piaseczno.eu
DESCRIPTION: Odbiór odpadów 
URL;VALUE=URI:https://odpady.piaseczno.eu/harmonogram-odbioru-odpadow/odbior/sektor-iii-piaseczno-od-aleja-lotnikow-do-ul-wojska-polskiego-4/
SUMMARY:SEKTOR III - PIASECZNO od Aleja Lotników do ul. Wojska Polskiego
END:VEVENT
BEGIN:VEVENT
DTSTART:20260218T060000Z
DTEND:20260218T190000Z
DTSTAMP:20260423T123322Z
UID:69ea1192b30e5
CATEGORIES:Odpady segregowane - szkło
LOCATION:SEKTOR III: PIASECZNO od ul. Aleja Lotników do ul. Wojska Polskiego PIASECZNO, MAZOWIECKIE
ORGANIZER;CN=WGO Gminy Piaseczno:MAILTO:go@piaseczno.eu
DESCRIPTION: Odbiór odpadów 
URL;VALUE=URI:https://odpady.piaseczno.eu/harmonogram-odbioru-odpadow/odbior/sektor-iii-piaseczno-od-aleja-lotnikow-do-ul-wojska-polskiego-4/
SUMMARY:SEKTOR III - PIASECZNO od Aleja Lotników do ul. Wojska Polskiego
END:VEVENT
BEGIN:VEVENT
DTSTART:20260318T060000Z
DTEND:20260318T190000Z
DTSTAMP:20260423T123322Z
UID:69ea1192b3106
CATEGORIES:Odpady segregowane - szkło
LOCATION:SEKTOR III: PIASECZNO od ul. Aleja Lotników do ul. Wojska Polskiego PIASECZNO, MAZOWIECKIE
ORGANIZER;CN=WGO Gminy Piaseczno:MAILTO:go@piaseczno.eu
DESCRIPTION: Odbiór odpadów 
URL;VALUE=URI:https://odpady.piaseczno.eu/harmonogram-odbioru-odpadow/odbior/sektor-iii-piaseczno-od-aleja-lotnikow-do-ul-wojska-polskiego-4/
SUMMARY:SEKTOR III - PIASECZNO od Aleja Lotników do ul. Wojska Polskiego
END:VEVENT
BEGIN:VEVENT
DTSTART:20260415T060000Z
DTEND:20260415T190000Z
DTSTAMP:20260423T123322Z
UID:69ea1192b3122
CATEGORIES:Odpady segregowane - szkło
LOCATION:SEKTOR III: PIASECZNO od ul. Aleja Lotników do ul. Wojska Polskiego PIASECZNO, MAZOWIECKIE
ORGANIZER;CN=WGO Gminy Piaseczno:MAILTO:go@piaseczno.eu
DESCRIPTION: Odbiór odpadów 
URL;VALUE=URI:https://odpady.piaseczno.eu/harmonogram-odbioru-odpadow/odbior/sektor-iii-piaseczno-od-aleja-lotnikow-do-ul-wojska-polskiego-4/
SUMMARY:SEKTOR III - PIASECZNO od Aleja Lotników do ul. Wojska Polskiego
END:VEVENT
BEGIN:VEVENT
DTSTART:20260513T060000Z
DTEND:20260513T190000Z
DTSTAMP:20260423T123322Z
UID:69ea1192b313e
CATEGORIES:Odpady segregowane - szkło
LOCATION:SEKTOR III: PIASECZNO od ul. Aleja Lotników do ul. Wojska Polskiego PIASECZNO, MAZOWIECKIE
ORGANIZER;CN=WGO Gminy Piaseczno:MAILTO:go@piaseczno.eu
DESCRIPTION: Odbiór odpadów 
URL;VALUE=URI:https://odpady.piaseczno.eu/harmonogram-odbioru-odpadow/odbior/sektor-iii-piaseczno-od-aleja-lotnikow-do-ul-wojska-polskiego-4/
SUMMARY:SEKTOR III - PIASECZNO od Aleja Lotników do ul. Wojska Polskiego
END:VEVENT
BEGIN:VEVENT
DTSTART:20260610T060000Z
DTEND:20260610T190000Z
DTSTAMP:20260423T123322Z
UID:69ea1192b3159
CATEGORIES:Odpady segregowane - szkło
LOCATION:SEKTOR III: PIASECZNO od ul. Aleja Lotników do ul. Wojska Polskiego PIASECZNO, MAZOWIECKIE
ORGANIZER;CN=WGO Gminy Piaseczno:MAILTO:go@piaseczno.eu
DESCRIPTION: Odbiór odpadów 
URL;VALUE=URI:https://odpady.piaseczno.eu/harmonogram-odbioru-odpadow/odbior/sektor-iii-piaseczno-od-aleja-lotnikow-do-ul-wojska-polskiego-4/
SUMMARY:SEKTOR III - PIASECZNO od Aleja Lotników do ul. Wojska Polskiego
END:VEVENT
BEGIN:VEVENT
DTSTART:20260708T060000Z
DTEND:20260708T190000Z
DTSTAMP:20260423T123322Z
UID:69ea1192b3173
CATEGORIES:Odpady segregowane - szkło
LOCATION:SEKTOR III: PIASECZNO od ul. Aleja Lotników do ul. Wojska Polskiego PIASECZNO, MAZOWIECKIE
ORGANIZER;CN=WGO Gminy Piaseczno:MAILTO:go@piaseczno.eu
DESCRIPTION: Odbiór odpadów 
URL;VALUE=URI:https://odpady.piaseczno.eu/harmonogram-odbioru-odpadow/odbior/sektor-iii-piaseczno-od-aleja-lotnikow-do-ul-wojska-polskiego-4/
SUMMARY:SEKTOR III - PIASECZNO od Aleja Lotników do ul. Wojska Polskiego
END:VEVENT
BEGIN:VEVENT
DTSTART:20260805T060000Z
DTEND:20260805T190000Z
DTSTAMP:20260423T123322Z
UID:69ea1192b318d
CATEGORIES:Odpady segregowane - szkło
LOCATION:SEKTOR III: PIASECZNO od ul. Aleja Lotników do ul. Wojska Polskiego PIASECZNO, MAZOWIECKIE
ORGANIZER;CN=WGO Gminy Piaseczno:MAILTO:go@piaseczno.eu
DESCRIPTION: Odbiór odpadów 
URL;VALUE=URI:https://odpady.piaseczno.eu/harmonogram-odbioru-odpadow/odbior/sektor-iii-piaseczno-od-aleja-lotnikow-do-ul-wojska-polskiego-4/
SUMMARY:SEKTOR III - PIASECZNO od Aleja Lotników do ul. Wojska Polskiego
END:VEVENT
BEGIN:VEVENT
DTSTART:20260902T060000Z
DTEND:20260902T190000Z
DTSTAMP:20260423T123322Z
UID:69ea1192b31a7
CATEGORIES:Odpady segregowane - szkło
LOCATION:SEKTOR III: PIASECZNO od ul. Aleja Lotników do ul. Wojska Polskiego PIASECZNO, MAZOWIECKIE
ORGANIZER;CN=WGO Gminy Piaseczno:MAILTO:go@piaseczno.eu
DESCRIPTION: Odbiór odpadów 
URL;VALUE=URI:https://odpady.piaseczno.eu/harmonogram-odbioru-odpadow/odbior/sektor-iii-piaseczno-od-aleja-lotnikow-do-ul-wojska-polskiego-4/
SUMMARY:SEKTOR III - PIASECZNO od Aleja Lotników do ul. Wojska Polskiego
END:VEVENT
BEGIN:VEVENT
DTSTART:20260930T060000Z
DTEND:20260930T190000Z
DTSTAMP:20260423T123322Z
UID:69ea1192b31c0
CATEGORIES:Odpady segregowane - szkło
LOCATION:SEKTOR III: PIASECZNO od ul. Aleja Lotników do ul. Wojska Polskiego PIASECZNO, MAZOWIECKIE
ORGANIZER;CN=WGO Gminy Piaseczno:MAILTO:go@piaseczno.eu
DESCRIPTION: Odbiór odpadów 
URL;VALUE=URI:https://odpady.piaseczno.eu/harmonogram-odbioru-odpadow/odbior/sektor-iii-piaseczno-od-aleja-lotnikow-do-ul-wojska-polskiego-4/
SUMMARY:SEKTOR III - PIASECZNO od Aleja Lotników do ul. Wojska Polskiego
END:VEVENT
BEGIN:VEVENT
DTSTART:20261028T060000Z
DTEND:20261028T190000Z
DTSTAMP:20260423T123322Z
UID:69ea1192b31da
CATEGORIES:Odpady segregowane - szkło
LOCATION:SEKTOR III: PIASECZNO od ul. Aleja Lotników do ul. Wojska Polskiego PIASECZNO, MAZOWIECKIE
ORGANIZER;CN=WGO Gminy Piaseczno:MAILTO:go@piaseczno.eu
DESCRIPTION: Odbiór odpadów 
URL;VALUE=URI:https://odpady.piaseczno.eu/harmonogram-odbioru-odpadow/odbior/sektor-iii-piaseczno-od-aleja-lotnikow-do-ul-wojska-polskiego-4/
SUMMARY:SEKTOR III - PIASECZNO od Aleja Lotników do ul. Wojska Polskiego
END:VEVENT
BEGIN:VEVENT
DTSTART:20261125T060000Z
DTEND:20261125T190000Z
DTSTAMP:20260423T123322Z
UID:69ea1192b31f3
CATEGORIES:Odpady segregowane - szkło
LOCATION:SEKTOR III: PIASECZNO od ul. Aleja Lotników do ul. Wojska Polskiego PIASECZNO, MAZOWIECKIE
ORGANIZER;CN=WGO Gminy Piaseczno:MAILTO:go@piaseczno.eu
DESCRIPTION: Odbiór odpadów 
URL;VALUE=URI:https://odpady.piaseczno.eu/harmonogram-odbioru-odpadow/odbior/sektor-iii-piaseczno-od-aleja-lotnikow-do-ul-wojska-polskiego-4/
SUMMARY:SEKTOR III - PIASECZNO od Aleja Lotników do ul. Wojska Polskiego
END:VEVENT
END:VCALENDAR
