BEGIN:VCALENDAR
VERSION:2.0
PRODID:-//DIGITAL FACTORY//EVENTS MAKER V1.6.12//EN
CALSCALE:GREGORIAN
METHOD:PUBLISH
BEGIN:VEVENT
DTSTART:20251209T060000Z
DTEND:20251209T190000Z
DTSTAMP:20260424T102114Z
UID:69eb441aab9ab
CATEGORIES:Odpady segregowane -tworzywa sztuczne i metale
LOCATION:SEKTOR III: PIASECZNO od ul. Aleja Lotników do ul. Wojska Polskiego PIASECZNO, MAZOWIECKIE
ORGANIZER;CN=WGO Gminy Piaseczno:MAILTO:go@piaseczno.eu
DESCRIPTION: Odbiór odpadów 
URL;VALUE=URI:https://odpady.piaseczno.eu/harmonogram-odbioru-odpadow/odbior/sektor-iii-piaseczno-od-aleja-lotnikow-do-ul-wojska-polskiego-2/
SUMMARY:SEKTOR III - PIASECZNO od Aleja Lotników do ul. Wojska Polskiego
END:VEVENT
BEGIN:VEVENT
DTSTART:20251223T060000Z
DTEND:20251223T190000Z
DTSTAMP:20260424T102114Z
UID:69eb441aaba6a
CATEGORIES:Odpady segregowane -tworzywa sztuczne i metale
LOCATION:SEKTOR III: PIASECZNO od ul. Aleja Lotników do ul. Wojska Polskiego PIASECZNO, MAZOWIECKIE
ORGANIZER;CN=WGO Gminy Piaseczno:MAILTO:go@piaseczno.eu
DESCRIPTION: Odbiór odpadów 
URL;VALUE=URI:https://odpady.piaseczno.eu/harmonogram-odbioru-odpadow/odbior/sektor-iii-piaseczno-od-aleja-lotnikow-do-ul-wojska-polskiego-2/
SUMMARY:SEKTOR III - PIASECZNO od Aleja Lotników do ul. Wojska Polskiego
END:VEVENT
BEGIN:VEVENT
DTSTART:20260109T060000Z
DTEND:20260109T190000Z
DTSTAMP:20260424T102114Z
UID:69eb441aabaa8
CATEGORIES:Odpady segregowane -tworzywa sztuczne i metale
LOCATION:SEKTOR III: PIASECZNO od ul. Aleja Lotników do ul. Wojska Polskiego PIASECZNO, MAZOWIECKIE
ORGANIZER;CN=WGO Gminy Piaseczno:MAILTO:go@piaseczno.eu
DESCRIPTION: Odbiór odpadów 
URL;VALUE=URI:https://odpady.piaseczno.eu/harmonogram-odbioru-odpadow/odbior/sektor-iii-piaseczno-od-aleja-lotnikow-do-ul-wojska-polskiego-2/
SUMMARY:SEKTOR III - PIASECZNO od Aleja Lotników do ul. Wojska Polskiego
END:VEVENT
BEGIN:VEVENT
DTSTART:20260120T060000Z
DTEND:20260120T190000Z
DTSTAMP:20260424T102114Z
UID:69eb441aabac9
CATEGORIES:Odpady segregowane -tworzywa sztuczne i metale
LOCATION:SEKTOR III: PIASECZNO od ul. Aleja Lotników do ul. Wojska Polskiego PIASECZNO, MAZOWIECKIE
ORGANIZER;CN=WGO Gminy Piaseczno:MAILTO:go@piaseczno.eu
DESCRIPTION: Odbiór odpadów 
URL;VALUE=URI:https://odpady.piaseczno.eu/harmonogram-odbioru-odpadow/odbior/sektor-iii-piaseczno-od-aleja-lotnikow-do-ul-wojska-polskiego-2/
SUMMARY:SEKTOR III - PIASECZNO od Aleja Lotników do ul. Wojska Polskiego
END:VEVENT
BEGIN:VEVENT
DTSTART:20260203T060000Z
DTEND:20260203T190000Z
DTSTAMP:20260424T102114Z
UID:69eb441aabae7
CATEGORIES:Odpady segregowane -tworzywa sztuczne i metale
LOCATION:SEKTOR III: PIASECZNO od ul. Aleja Lotników do ul. Wojska Polskiego PIASECZNO, MAZOWIECKIE
ORGANIZER;CN=WGO Gminy Piaseczno:MAILTO:go@piaseczno.eu
DESCRIPTION: Odbiór odpadów 
URL;VALUE=URI:https://odpady.piaseczno.eu/harmonogram-odbioru-odpadow/odbior/sektor-iii-piaseczno-od-aleja-lotnikow-do-ul-wojska-polskiego-2/
SUMMARY:SEKTOR III - PIASECZNO od Aleja Lotników do ul. Wojska Polskiego
END:VEVENT
BEGIN:VEVENT
DTSTART:20260217T060000Z
DTEND:20260217T190000Z
DTSTAMP:20260424T102114Z
UID:69eb441aabb03
CATEGORIES:Odpady segregowane -tworzywa sztuczne i metale
LOCATION:SEKTOR III: PIASECZNO od ul. Aleja Lotników do ul. Wojska Polskiego PIASECZNO, MAZOWIECKIE
ORGANIZER;CN=WGO Gminy Piaseczno:MAILTO:go@piaseczno.eu
DESCRIPTION: Odbiór odpadów 
URL;VALUE=URI:https://odpady.piaseczno.eu/harmonogram-odbioru-odpadow/odbior/sektor-iii-piaseczno-od-aleja-lotnikow-do-ul-wojska-polskiego-2/
SUMMARY:SEKTOR III - PIASECZNO od Aleja Lotników do ul. Wojska Polskiego
END:VEVENT
BEGIN:VEVENT
DTSTART:20260303T060000Z
DTEND:20260303T190000Z
DTSTAMP:20260424T102114Z
UID:69eb441aabb25
CATEGORIES:Odpady segregowane -tworzywa sztuczne i metale
LOCATION:SEKTOR III: PIASECZNO od ul. Aleja Lotników do ul. Wojska Polskiego PIASECZNO, MAZOWIECKIE
ORGANIZER;CN=WGO Gminy Piaseczno:MAILTO:go@piaseczno.eu
DESCRIPTION: Odbiór odpadów 
URL;VALUE=URI:https://odpady.piaseczno.eu/harmonogram-odbioru-odpadow/odbior/sektor-iii-piaseczno-od-aleja-lotnikow-do-ul-wojska-polskiego-2/
SUMMARY:SEKTOR III - PIASECZNO od Aleja Lotników do ul. Wojska Polskiego
END:VEVENT
BEGIN:VEVENT
DTSTART:20260317T060000Z
DTEND:20260317T190000Z
DTSTAMP:20260424T102114Z
UID:69eb441aabb46
CATEGORIES:Odpady segregowane -tworzywa sztuczne i metale
LOCATION:SEKTOR III: PIASECZNO od ul. Aleja Lotników do ul. Wojska Polskiego PIASECZNO, MAZOWIECKIE
ORGANIZER;CN=WGO Gminy Piaseczno:MAILTO:go@piaseczno.eu
DESCRIPTION: Odbiór odpadów 
URL;VALUE=URI:https://odpady.piaseczno.eu/harmonogram-odbioru-odpadow/odbior/sektor-iii-piaseczno-od-aleja-lotnikow-do-ul-wojska-polskiego-2/
SUMMARY:SEKTOR III - PIASECZNO od Aleja Lotników do ul. Wojska Polskiego
END:VEVENT
BEGIN:VEVENT
DTSTART:20260331T060000Z
DTEND:20260331T190000Z
DTSTAMP:20260424T102114Z
UID:69eb441aabb62
CATEGORIES:Odpady segregowane -tworzywa sztuczne i metale
LOCATION:SEKTOR III: PIASECZNO od ul. Aleja Lotników do ul. Wojska Polskiego PIASECZNO, MAZOWIECKIE
ORGANIZER;CN=WGO Gminy Piaseczno:MAILTO:go@piaseczno.eu
DESCRIPTION: Odbiór odpadów 
URL;VALUE=URI:https://odpady.piaseczno.eu/harmonogram-odbioru-odpadow/odbior/sektor-iii-piaseczno-od-aleja-lotnikow-do-ul-wojska-polskiego-2/
SUMMARY:SEKTOR III - PIASECZNO od Aleja Lotników do ul. Wojska Polskiego
END:VEVENT
BEGIN:VEVENT
DTSTART:20260414T060000Z
DTEND:20260414T190000Z
DTSTAMP:20260424T102114Z
UID:69eb441aabb7d
CATEGORIES:Odpady segregowane -tworzywa sztuczne i metale
LOCATION:SEKTOR III: PIASECZNO od ul. Aleja Lotników do ul. Wojska Polskiego PIASECZNO, MAZOWIECKIE
ORGANIZER;CN=WGO Gminy Piaseczno:MAILTO:go@piaseczno.eu
DESCRIPTION: Odbiór odpadów 
URL;VALUE=URI:https://odpady.piaseczno.eu/harmonogram-odbioru-odpadow/odbior/sektor-iii-piaseczno-od-aleja-lotnikow-do-ul-wojska-polskiego-2/
SUMMARY:SEKTOR III - PIASECZNO od Aleja Lotników do ul. Wojska Polskiego
END:VEVENT
BEGIN:VEVENT
DTSTART:20260428T060000Z
DTEND:20260428T190000Z
DTSTAMP:20260424T102114Z
UID:69eb441aabb97
CATEGORIES:Odpady segregowane -tworzywa sztuczne i metale
LOCATION:SEKTOR III: PIASECZNO od ul. Aleja Lotników do ul. Wojska Polskiego PIASECZNO, MAZOWIECKIE
ORGANIZER;CN=WGO Gminy Piaseczno:MAILTO:go@piaseczno.eu
DESCRIPTION: Odbiór odpadów 
URL;VALUE=URI:https://odpady.piaseczno.eu/harmonogram-odbioru-odpadow/odbior/sektor-iii-piaseczno-od-aleja-lotnikow-do-ul-wojska-polskiego-2/
SUMMARY:SEKTOR III - PIASECZNO od Aleja Lotników do ul. Wojska Polskiego
END:VEVENT
BEGIN:VEVENT
DTSTART:20260512T060000Z
DTEND:20260512T190000Z
DTSTAMP:20260424T102114Z
UID:69eb441aabbb1
CATEGORIES:Odpady segregowane -tworzywa sztuczne i metale
LOCATION:SEKTOR III: PIASECZNO od ul. Aleja Lotników do ul. Wojska Polskiego PIASECZNO, MAZOWIECKIE
ORGANIZER;CN=WGO Gminy Piaseczno:MAILTO:go@piaseczno.eu
DESCRIPTION: Odbiór odpadów 
URL;VALUE=URI:https://odpady.piaseczno.eu/harmonogram-odbioru-odpadow/odbior/sektor-iii-piaseczno-od-aleja-lotnikow-do-ul-wojska-polskiego-2/
SUMMARY:SEKTOR III - PIASECZNO od Aleja Lotników do ul. Wojska Polskiego
END:VEVENT
BEGIN:VEVENT
DTSTART:20260526T060000Z
DTEND:20260526T190000Z
DTSTAMP:20260424T102114Z
UID:69eb441aabbcb
CATEGORIES:Odpady segregowane -tworzywa sztuczne i metale
LOCATION:SEKTOR III: PIASECZNO od ul. Aleja Lotników do ul. Wojska Polskiego PIASECZNO, MAZOWIECKIE
ORGANIZER;CN=WGO Gminy Piaseczno:MAILTO:go@piaseczno.eu
DESCRIPTION: Odbiór odpadów 
URL;VALUE=URI:https://odpady.piaseczno.eu/harmonogram-odbioru-odpadow/odbior/sektor-iii-piaseczno-od-aleja-lotnikow-do-ul-wojska-polskiego-2/
SUMMARY:SEKTOR III - PIASECZNO od Aleja Lotników do ul. Wojska Polskiego
END:VEVENT
BEGIN:VEVENT
DTSTART:20260609T060000Z
DTEND:20260609T190000Z
DTSTAMP:20260424T102114Z
UID:69eb441aabbe5
CATEGORIES:Odpady segregowane -tworzywa sztuczne i metale
LOCATION:SEKTOR III: PIASECZNO od ul. Aleja Lotników do ul. Wojska Polskiego PIASECZNO, MAZOWIECKIE
ORGANIZER;CN=WGO Gminy Piaseczno:MAILTO:go@piaseczno.eu
DESCRIPTION: Odbiór odpadów 
URL;VALUE=URI:https://odpady.piaseczno.eu/harmonogram-odbioru-odpadow/odbior/sektor-iii-piaseczno-od-aleja-lotnikow-do-ul-wojska-polskiego-2/
SUMMARY:SEKTOR III - PIASECZNO od Aleja Lotników do ul. Wojska Polskiego
END:VEVENT
BEGIN:VEVENT
DTSTART:20260623T060000Z
DTEND:20260623T190000Z
DTSTAMP:20260424T102114Z
UID:69eb441aabc04
CATEGORIES:Odpady segregowane -tworzywa sztuczne i metale
LOCATION:SEKTOR III: PIASECZNO od ul. Aleja Lotników do ul. Wojska Polskiego PIASECZNO, MAZOWIECKIE
ORGANIZER;CN=WGO Gminy Piaseczno:MAILTO:go@piaseczno.eu
DESCRIPTION: Odbiór odpadów 
URL;VALUE=URI:https://odpady.piaseczno.eu/harmonogram-odbioru-odpadow/odbior/sektor-iii-piaseczno-od-aleja-lotnikow-do-ul-wojska-polskiego-2/
SUMMARY:SEKTOR III - PIASECZNO od Aleja Lotników do ul. Wojska Polskiego
END:VEVENT
BEGIN:VEVENT
DTSTART:20260707T060000Z
DTEND:20260707T190000Z
DTSTAMP:20260424T102114Z
UID:69eb441aabc1f
CATEGORIES:Odpady segregowane -tworzywa sztuczne i metale
LOCATION:SEKTOR III: PIASECZNO od ul. Aleja Lotników do ul. Wojska Polskiego PIASECZNO, MAZOWIECKIE
ORGANIZER;CN=WGO Gminy Piaseczno:MAILTO:go@piaseczno.eu
DESCRIPTION: Odbiór odpadów 
URL;VALUE=URI:https://odpady.piaseczno.eu/harmonogram-odbioru-odpadow/odbior/sektor-iii-piaseczno-od-aleja-lotnikow-do-ul-wojska-polskiego-2/
SUMMARY:SEKTOR III - PIASECZNO od Aleja Lotników do ul. Wojska Polskiego
END:VEVENT
BEGIN:VEVENT
DTSTART:20260721T060000Z
DTEND:20260721T190000Z
DTSTAMP:20260424T102114Z
UID:69eb441aabc42
CATEGORIES:Odpady segregowane -tworzywa sztuczne i metale
LOCATION:SEKTOR III: PIASECZNO od ul. Aleja Lotników do ul. Wojska Polskiego PIASECZNO, MAZOWIECKIE
ORGANIZER;CN=WGO Gminy Piaseczno:MAILTO:go@piaseczno.eu
DESCRIPTION: Odbiór odpadów 
URL;VALUE=URI:https://odpady.piaseczno.eu/harmonogram-odbioru-odpadow/odbior/sektor-iii-piaseczno-od-aleja-lotnikow-do-ul-wojska-polskiego-2/
SUMMARY:SEKTOR III - PIASECZNO od Aleja Lotników do ul. Wojska Polskiego
END:VEVENT
BEGIN:VEVENT
DTSTART:20260804T060000Z
DTEND:20260804T190000Z
DTSTAMP:20260424T102114Z
UID:69eb441aabc5c
CATEGORIES:Odpady segregowane -tworzywa sztuczne i metale
LOCATION:SEKTOR III: PIASECZNO od ul. Aleja Lotników do ul. Wojska Polskiego PIASECZNO, MAZOWIECKIE
ORGANIZER;CN=WGO Gminy Piaseczno:MAILTO:go@piaseczno.eu
DESCRIPTION: Odbiór odpadów 
URL;VALUE=URI:https://odpady.piaseczno.eu/harmonogram-odbioru-odpadow/odbior/sektor-iii-piaseczno-od-aleja-lotnikow-do-ul-wojska-polskiego-2/
SUMMARY:SEKTOR III - PIASECZNO od Aleja Lotników do ul. Wojska Polskiego
END:VEVENT
BEGIN:VEVENT
DTSTART:20260818T060000Z
DTEND:20260818T190000Z
DTSTAMP:20260424T102114Z
UID:69eb441aabc76
CATEGORIES:Odpady segregowane -tworzywa sztuczne i metale
LOCATION:SEKTOR III: PIASECZNO od ul. Aleja Lotników do ul. Wojska Polskiego PIASECZNO, MAZOWIECKIE
ORGANIZER;CN=WGO Gminy Piaseczno:MAILTO:go@piaseczno.eu
DESCRIPTION: Odbiór odpadów 
URL;VALUE=URI:https://odpady.piaseczno.eu/harmonogram-odbioru-odpadow/odbior/sektor-iii-piaseczno-od-aleja-lotnikow-do-ul-wojska-polskiego-2/
SUMMARY:SEKTOR III - PIASECZNO od Aleja Lotników do ul. Wojska Polskiego
END:VEVENT
BEGIN:VEVENT
DTSTART:20260901T060000Z
DTEND:20260901T190000Z
DTSTAMP:20260424T102114Z
UID:69eb441aabc90
CATEGORIES:Odpady segregowane -tworzywa sztuczne i metale
LOCATION:SEKTOR III: PIASECZNO od ul. Aleja Lotników do ul. Wojska Polskiego PIASECZNO, MAZOWIECKIE
ORGANIZER;CN=WGO Gminy Piaseczno:MAILTO:go@piaseczno.eu
DESCRIPTION: Odbiór odpadów 
URL;VALUE=URI:https://odpady.piaseczno.eu/harmonogram-odbioru-odpadow/odbior/sektor-iii-piaseczno-od-aleja-lotnikow-do-ul-wojska-polskiego-2/
SUMMARY:SEKTOR III - PIASECZNO od Aleja Lotników do ul. Wojska Polskiego
END:VEVENT
BEGIN:VEVENT
DTSTART:20260915T060000Z
DTEND:20260915T190000Z
DTSTAMP:20260424T102114Z
UID:69eb441aabcaa
CATEGORIES:Odpady segregowane -tworzywa sztuczne i metale
LOCATION:SEKTOR III: PIASECZNO od ul. Aleja Lotników do ul. Wojska Polskiego PIASECZNO, MAZOWIECKIE
ORGANIZER;CN=WGO Gminy Piaseczno:MAILTO:go@piaseczno.eu
DESCRIPTION: Odbiór odpadów 
URL;VALUE=URI:https://odpady.piaseczno.eu/harmonogram-odbioru-odpadow/odbior/sektor-iii-piaseczno-od-aleja-lotnikow-do-ul-wojska-polskiego-2/
SUMMARY:SEKTOR III - PIASECZNO od Aleja Lotników do ul. Wojska Polskiego
END:VEVENT
BEGIN:VEVENT
DTSTART:20260929T060000Z
DTEND:20260929T190000Z
DTSTAMP:20260424T102114Z
UID:69eb441aabcc8
CATEGORIES:Odpady segregowane -tworzywa sztuczne i metale
LOCATION:SEKTOR III: PIASECZNO od ul. Aleja Lotników do ul. Wojska Polskiego PIASECZNO, MAZOWIECKIE
ORGANIZER;CN=WGO Gminy Piaseczno:MAILTO:go@piaseczno.eu
DESCRIPTION: Odbiór odpadów 
URL;VALUE=URI:https://odpady.piaseczno.eu/harmonogram-odbioru-odpadow/odbior/sektor-iii-piaseczno-od-aleja-lotnikow-do-ul-wojska-polskiego-2/
SUMMARY:SEKTOR III - PIASECZNO od Aleja Lotników do ul. Wojska Polskiego
END:VEVENT
BEGIN:VEVENT
DTSTART:20261013T060000Z
DTEND:20261013T190000Z
DTSTAMP:20260424T102114Z
UID:69eb441aabce2
CATEGORIES:Odpady segregowane -tworzywa sztuczne i metale
LOCATION:SEKTOR III: PIASECZNO od ul. Aleja Lotników do ul. Wojska Polskiego PIASECZNO, MAZOWIECKIE
ORGANIZER;CN=WGO Gminy Piaseczno:MAILTO:go@piaseczno.eu
DESCRIPTION: Odbiór odpadów 
URL;VALUE=URI:https://odpady.piaseczno.eu/harmonogram-odbioru-odpadow/odbior/sektor-iii-piaseczno-od-aleja-lotnikow-do-ul-wojska-polskiego-2/
SUMMARY:SEKTOR III - PIASECZNO od Aleja Lotników do ul. Wojska Polskiego
END:VEVENT
BEGIN:VEVENT
DTSTART:20261027T060000Z
DTEND:20261027T190000Z
DTSTAMP:20260424T102114Z
UID:69eb441aabcfc
CATEGORIES:Odpady segregowane -tworzywa sztuczne i metale
LOCATION:SEKTOR III: PIASECZNO od ul. Aleja Lotników do ul. Wojska Polskiego PIASECZNO, MAZOWIECKIE
ORGANIZER;CN=WGO Gminy Piaseczno:MAILTO:go@piaseczno.eu
DESCRIPTION: Odbiór odpadów 
URL;VALUE=URI:https://odpady.piaseczno.eu/harmonogram-odbioru-odpadow/odbior/sektor-iii-piaseczno-od-aleja-lotnikow-do-ul-wojska-polskiego-2/
SUMMARY:SEKTOR III - PIASECZNO od Aleja Lotników do ul. Wojska Polskiego
END:VEVENT
BEGIN:VEVENT
DTSTART:20261110T060000Z
DTEND:20261110T190000Z
DTSTAMP:20260424T102114Z
UID:69eb441aabd16
CATEGORIES:Odpady segregowane -tworzywa sztuczne i metale
LOCATION:SEKTOR III: PIASECZNO od ul. Aleja Lotników do ul. Wojska Polskiego PIASECZNO, MAZOWIECKIE
ORGANIZER;CN=WGO Gminy Piaseczno:MAILTO:go@piaseczno.eu
DESCRIPTION: Odbiór odpadów 
URL;VALUE=URI:https://odpady.piaseczno.eu/harmonogram-odbioru-odpadow/odbior/sektor-iii-piaseczno-od-aleja-lotnikow-do-ul-wojska-polskiego-2/
SUMMARY:SEKTOR III - PIASECZNO od Aleja Lotników do ul. Wojska Polskiego
END:VEVENT
BEGIN:VEVENT
DTSTART:20261124T060000Z
DTEND:20261124T190000Z
DTSTAMP:20260424T102114Z
UID:69eb441aabd30
CATEGORIES:Odpady segregowane -tworzywa sztuczne i metale
LOCATION:SEKTOR III: PIASECZNO od ul. Aleja Lotników do ul. Wojska Polskiego PIASECZNO, MAZOWIECKIE
ORGANIZER;CN=WGO Gminy Piaseczno:MAILTO:go@piaseczno.eu
DESCRIPTION: Odbiór odpadów 
URL;VALUE=URI:https://odpady.piaseczno.eu/harmonogram-odbioru-odpadow/odbior/sektor-iii-piaseczno-od-aleja-lotnikow-do-ul-wojska-polskiego-2/
SUMMARY:SEKTOR III - PIASECZNO od Aleja Lotników do ul. Wojska Polskiego
END:VEVENT
END:VCALENDAR
