BEGIN:VCALENDAR
VERSION:2.0
PRODID:-//DIGITAL FACTORY//EVENTS MAKER V1.6.12//EN
CALSCALE:GREGORIAN
METHOD:PUBLISH
BEGIN:VEVENT
DTSTART:20251212T060000Z
DTEND:20251212T190000Z
DTSTAMP:20260424T213237Z
UID:69ebe1757b727
CATEGORIES:odpady bio ogrodowe i kuchenne
LOCATION:SEKTOR III - PIASECZNO: Jabłoniowa, Łąbedzia, Mleczarska, Raszyńska, Sękocińska, Syrenki, Wiśniowa, Zielony Sad 
ORGANIZER;CN=WGO Gminy Piaseczno:MAILTO:go@piaseczno.eu
DESCRIPTION: Odbiór odpadów 
URL;VALUE=URI:https://odpady.piaseczno.eu/harmonogram-odbioru-odpadow/odbior/sektor-iii-piaseczno-jabloniowa-labedzia-mleczarska-raszynska-sekocinska-syrenki-wisniowa-zielony-sad-4/
SUMMARY:SEKTOR III - PIASECZNO: Jabłoniowa\, Łabędzia\, Mleczarska\, Raszyńska\, Sękocińska\, Syrenki\,  Wiśniowa\, Zielony Sad
END:VEVENT
BEGIN:VEVENT
DTSTART:20251227T060000Z
DTEND:20251227T190000Z
DTSTAMP:20260424T213237Z
UID:69ebe1757b7b1
CATEGORIES:odpady bio ogrodowe i kuchenne
LOCATION:SEKTOR III - PIASECZNO: Jabłoniowa, Łąbedzia, Mleczarska, Raszyńska, Sękocińska, Syrenki, Wiśniowa, Zielony Sad 
ORGANIZER;CN=WGO Gminy Piaseczno:MAILTO:go@piaseczno.eu
DESCRIPTION: Odbiór odpadów 
URL;VALUE=URI:https://odpady.piaseczno.eu/harmonogram-odbioru-odpadow/odbior/sektor-iii-piaseczno-jabloniowa-labedzia-mleczarska-raszynska-sekocinska-syrenki-wisniowa-zielony-sad-4/
SUMMARY:SEKTOR III - PIASECZNO: Jabłoniowa\, Łabędzia\, Mleczarska\, Raszyńska\, Sękocińska\, Syrenki\,  Wiśniowa\, Zielony Sad
END:VEVENT
BEGIN:VEVENT
DTSTART:20260109T060000Z
DTEND:20260109T190000Z
DTSTAMP:20260424T213237Z
UID:69ebe1757b7dd
CATEGORIES:odpady bio ogrodowe i kuchenne
LOCATION:SEKTOR III - PIASECZNO: Jabłoniowa, Łąbedzia, Mleczarska, Raszyńska, Sękocińska, Syrenki, Wiśniowa, Zielony Sad 
ORGANIZER;CN=WGO Gminy Piaseczno:MAILTO:go@piaseczno.eu
DESCRIPTION: Odbiór odpadów 
URL;VALUE=URI:https://odpady.piaseczno.eu/harmonogram-odbioru-odpadow/odbior/sektor-iii-piaseczno-jabloniowa-labedzia-mleczarska-raszynska-sekocinska-syrenki-wisniowa-zielony-sad-4/
SUMMARY:SEKTOR III - PIASECZNO: Jabłoniowa\, Łabędzia\, Mleczarska\, Raszyńska\, Sękocińska\, Syrenki\,  Wiśniowa\, Zielony Sad
END:VEVENT
BEGIN:VEVENT
DTSTART:20260123T060000Z
DTEND:20260123T190000Z
DTSTAMP:20260424T213237Z
UID:69ebe1757b801
CATEGORIES:odpady bio ogrodowe i kuchenne
LOCATION:SEKTOR III - PIASECZNO: Jabłoniowa, Łąbedzia, Mleczarska, Raszyńska, Sękocińska, Syrenki, Wiśniowa, Zielony Sad 
ORGANIZER;CN=WGO Gminy Piaseczno:MAILTO:go@piaseczno.eu
DESCRIPTION: Odbiór odpadów 
URL;VALUE=URI:https://odpady.piaseczno.eu/harmonogram-odbioru-odpadow/odbior/sektor-iii-piaseczno-jabloniowa-labedzia-mleczarska-raszynska-sekocinska-syrenki-wisniowa-zielony-sad-4/
SUMMARY:SEKTOR III - PIASECZNO: Jabłoniowa\, Łabędzia\, Mleczarska\, Raszyńska\, Sękocińska\, Syrenki\,  Wiśniowa\, Zielony Sad
END:VEVENT
BEGIN:VEVENT
DTSTART:20260206T060000Z
DTEND:20260206T190000Z
DTSTAMP:20260424T213237Z
UID:69ebe1757b821
CATEGORIES:odpady bio ogrodowe i kuchenne
LOCATION:SEKTOR III - PIASECZNO: Jabłoniowa, Łąbedzia, Mleczarska, Raszyńska, Sękocińska, Syrenki, Wiśniowa, Zielony Sad 
ORGANIZER;CN=WGO Gminy Piaseczno:MAILTO:go@piaseczno.eu
DESCRIPTION: Odbiór odpadów 
URL;VALUE=URI:https://odpady.piaseczno.eu/harmonogram-odbioru-odpadow/odbior/sektor-iii-piaseczno-jabloniowa-labedzia-mleczarska-raszynska-sekocinska-syrenki-wisniowa-zielony-sad-4/
SUMMARY:SEKTOR III - PIASECZNO: Jabłoniowa\, Łabędzia\, Mleczarska\, Raszyńska\, Sękocińska\, Syrenki\,  Wiśniowa\, Zielony Sad
END:VEVENT
BEGIN:VEVENT
DTSTART:20260220T060000Z
DTEND:20260220T190000Z
DTSTAMP:20260424T213237Z
UID:69ebe1757b849
CATEGORIES:odpady bio ogrodowe i kuchenne
LOCATION:SEKTOR III - PIASECZNO: Jabłoniowa, Łąbedzia, Mleczarska, Raszyńska, Sękocińska, Syrenki, Wiśniowa, Zielony Sad 
ORGANIZER;CN=WGO Gminy Piaseczno:MAILTO:go@piaseczno.eu
DESCRIPTION: Odbiór odpadów 
URL;VALUE=URI:https://odpady.piaseczno.eu/harmonogram-odbioru-odpadow/odbior/sektor-iii-piaseczno-jabloniowa-labedzia-mleczarska-raszynska-sekocinska-syrenki-wisniowa-zielony-sad-4/
SUMMARY:SEKTOR III - PIASECZNO: Jabłoniowa\, Łabędzia\, Mleczarska\, Raszyńska\, Sękocińska\, Syrenki\,  Wiśniowa\, Zielony Sad
END:VEVENT
BEGIN:VEVENT
DTSTART:20260306T060000Z
DTEND:20260306T190000Z
DTSTAMP:20260424T213237Z
UID:69ebe1757b87a
CATEGORIES:odpady bio ogrodowe i kuchenne
LOCATION:SEKTOR III - PIASECZNO: Jabłoniowa, Łąbedzia, Mleczarska, Raszyńska, Sękocińska, Syrenki, Wiśniowa, Zielony Sad 
ORGANIZER;CN=WGO Gminy Piaseczno:MAILTO:go@piaseczno.eu
DESCRIPTION: Odbiór odpadów 
URL;VALUE=URI:https://odpady.piaseczno.eu/harmonogram-odbioru-odpadow/odbior/sektor-iii-piaseczno-jabloniowa-labedzia-mleczarska-raszynska-sekocinska-syrenki-wisniowa-zielony-sad-4/
SUMMARY:SEKTOR III - PIASECZNO: Jabłoniowa\, Łabędzia\, Mleczarska\, Raszyńska\, Sękocińska\, Syrenki\,  Wiśniowa\, Zielony Sad
END:VEVENT
BEGIN:VEVENT
DTSTART:20260320T060000Z
DTEND:20260320T190000Z
DTSTAMP:20260424T213237Z
UID:69ebe1757b899
CATEGORIES:odpady bio ogrodowe i kuchenne
LOCATION:SEKTOR III - PIASECZNO: Jabłoniowa, Łąbedzia, Mleczarska, Raszyńska, Sękocińska, Syrenki, Wiśniowa, Zielony Sad 
ORGANIZER;CN=WGO Gminy Piaseczno:MAILTO:go@piaseczno.eu
DESCRIPTION: Odbiór odpadów 
URL;VALUE=URI:https://odpady.piaseczno.eu/harmonogram-odbioru-odpadow/odbior/sektor-iii-piaseczno-jabloniowa-labedzia-mleczarska-raszynska-sekocinska-syrenki-wisniowa-zielony-sad-4/
SUMMARY:SEKTOR III - PIASECZNO: Jabłoniowa\, Łabędzia\, Mleczarska\, Raszyńska\, Sękocińska\, Syrenki\,  Wiśniowa\, Zielony Sad
END:VEVENT
BEGIN:VEVENT
DTSTART:20260403T060000Z
DTEND:20260403T190000Z
DTSTAMP:20260424T213237Z
UID:69ebe1757b8b6
CATEGORIES:odpady bio ogrodowe i kuchenne
LOCATION:SEKTOR III - PIASECZNO: Jabłoniowa, Łąbedzia, Mleczarska, Raszyńska, Sękocińska, Syrenki, Wiśniowa, Zielony Sad 
ORGANIZER;CN=WGO Gminy Piaseczno:MAILTO:go@piaseczno.eu
DESCRIPTION: Odbiór odpadów 
URL;VALUE=URI:https://odpady.piaseczno.eu/harmonogram-odbioru-odpadow/odbior/sektor-iii-piaseczno-jabloniowa-labedzia-mleczarska-raszynska-sekocinska-syrenki-wisniowa-zielony-sad-4/
SUMMARY:SEKTOR III - PIASECZNO: Jabłoniowa\, Łabędzia\, Mleczarska\, Raszyńska\, Sękocińska\, Syrenki\,  Wiśniowa\, Zielony Sad
END:VEVENT
BEGIN:VEVENT
DTSTART:20260417T060000Z
DTEND:20260417T190000Z
DTSTAMP:20260424T213237Z
UID:69ebe1757b8e0
CATEGORIES:odpady bio ogrodowe i kuchenne
LOCATION:SEKTOR III - PIASECZNO: Jabłoniowa, Łąbedzia, Mleczarska, Raszyńska, Sękocińska, Syrenki, Wiśniowa, Zielony Sad 
ORGANIZER;CN=WGO Gminy Piaseczno:MAILTO:go@piaseczno.eu
DESCRIPTION: Odbiór odpadów 
URL;VALUE=URI:https://odpady.piaseczno.eu/harmonogram-odbioru-odpadow/odbior/sektor-iii-piaseczno-jabloniowa-labedzia-mleczarska-raszynska-sekocinska-syrenki-wisniowa-zielony-sad-4/
SUMMARY:SEKTOR III - PIASECZNO: Jabłoniowa\, Łabędzia\, Mleczarska\, Raszyńska\, Sękocińska\, Syrenki\,  Wiśniowa\, Zielony Sad
END:VEVENT
BEGIN:VEVENT
DTSTART:20260429T060000Z
DTEND:20260429T190000Z
DTSTAMP:20260424T213237Z
UID:69ebe1757b8fc
CATEGORIES:odpady bio ogrodowe i kuchenne
LOCATION:SEKTOR III - PIASECZNO: Jabłoniowa, Łąbedzia, Mleczarska, Raszyńska, Sękocińska, Syrenki, Wiśniowa, Zielony Sad 
ORGANIZER;CN=WGO Gminy Piaseczno:MAILTO:go@piaseczno.eu
DESCRIPTION: Odbiór odpadów 
URL;VALUE=URI:https://odpady.piaseczno.eu/harmonogram-odbioru-odpadow/odbior/sektor-iii-piaseczno-jabloniowa-labedzia-mleczarska-raszynska-sekocinska-syrenki-wisniowa-zielony-sad-4/
SUMMARY:SEKTOR III - PIASECZNO: Jabłoniowa\, Łabędzia\, Mleczarska\, Raszyńska\, Sękocińska\, Syrenki\,  Wiśniowa\, Zielony Sad
END:VEVENT
BEGIN:VEVENT
DTSTART:20260515T060000Z
DTEND:20260515T190000Z
DTSTAMP:20260424T213237Z
UID:69ebe1757b918
CATEGORIES:odpady bio ogrodowe i kuchenne
LOCATION:SEKTOR III - PIASECZNO: Jabłoniowa, Łąbedzia, Mleczarska, Raszyńska, Sękocińska, Syrenki, Wiśniowa, Zielony Sad 
ORGANIZER;CN=WGO Gminy Piaseczno:MAILTO:go@piaseczno.eu
DESCRIPTION: Odbiór odpadów 
URL;VALUE=URI:https://odpady.piaseczno.eu/harmonogram-odbioru-odpadow/odbior/sektor-iii-piaseczno-jabloniowa-labedzia-mleczarska-raszynska-sekocinska-syrenki-wisniowa-zielony-sad-4/
SUMMARY:SEKTOR III - PIASECZNO: Jabłoniowa\, Łabędzia\, Mleczarska\, Raszyńska\, Sękocińska\, Syrenki\,  Wiśniowa\, Zielony Sad
END:VEVENT
BEGIN:VEVENT
DTSTART:20260529T060000Z
DTEND:20260529T190000Z
DTSTAMP:20260424T213237Z
UID:69ebe1757b93a
CATEGORIES:odpady bio ogrodowe i kuchenne
LOCATION:SEKTOR III - PIASECZNO: Jabłoniowa, Łąbedzia, Mleczarska, Raszyńska, Sękocińska, Syrenki, Wiśniowa, Zielony Sad 
ORGANIZER;CN=WGO Gminy Piaseczno:MAILTO:go@piaseczno.eu
DESCRIPTION: Odbiór odpadów 
URL;VALUE=URI:https://odpady.piaseczno.eu/harmonogram-odbioru-odpadow/odbior/sektor-iii-piaseczno-jabloniowa-labedzia-mleczarska-raszynska-sekocinska-syrenki-wisniowa-zielony-sad-4/
SUMMARY:SEKTOR III - PIASECZNO: Jabłoniowa\, Łabędzia\, Mleczarska\, Raszyńska\, Sękocińska\, Syrenki\,  Wiśniowa\, Zielony Sad
END:VEVENT
BEGIN:VEVENT
DTSTART:20260612T060000Z
DTEND:20260612T190000Z
DTSTAMP:20260424T213237Z
UID:69ebe1757b957
CATEGORIES:odpady bio ogrodowe i kuchenne
LOCATION:SEKTOR III - PIASECZNO: Jabłoniowa, Łąbedzia, Mleczarska, Raszyńska, Sękocińska, Syrenki, Wiśniowa, Zielony Sad 
ORGANIZER;CN=WGO Gminy Piaseczno:MAILTO:go@piaseczno.eu
DESCRIPTION: Odbiór odpadów 
URL;VALUE=URI:https://odpady.piaseczno.eu/harmonogram-odbioru-odpadow/odbior/sektor-iii-piaseczno-jabloniowa-labedzia-mleczarska-raszynska-sekocinska-syrenki-wisniowa-zielony-sad-4/
SUMMARY:SEKTOR III - PIASECZNO: Jabłoniowa\, Łabędzia\, Mleczarska\, Raszyńska\, Sękocińska\, Syrenki\,  Wiśniowa\, Zielony Sad
END:VEVENT
BEGIN:VEVENT
DTSTART:20260626T060000Z
DTEND:20260626T190000Z
DTSTAMP:20260424T213237Z
UID:69ebe1757b973
CATEGORIES:odpady bio ogrodowe i kuchenne
LOCATION:SEKTOR III - PIASECZNO: Jabłoniowa, Łąbedzia, Mleczarska, Raszyńska, Sękocińska, Syrenki, Wiśniowa, Zielony Sad 
ORGANIZER;CN=WGO Gminy Piaseczno:MAILTO:go@piaseczno.eu
DESCRIPTION: Odbiór odpadów 
URL;VALUE=URI:https://odpady.piaseczno.eu/harmonogram-odbioru-odpadow/odbior/sektor-iii-piaseczno-jabloniowa-labedzia-mleczarska-raszynska-sekocinska-syrenki-wisniowa-zielony-sad-4/
SUMMARY:SEKTOR III - PIASECZNO: Jabłoniowa\, Łabędzia\, Mleczarska\, Raszyńska\, Sękocińska\, Syrenki\,  Wiśniowa\, Zielony Sad
END:VEVENT
BEGIN:VEVENT
DTSTART:20260710T060000Z
DTEND:20260710T190000Z
DTSTAMP:20260424T213237Z
UID:69ebe1757b98f
CATEGORIES:odpady bio ogrodowe i kuchenne
LOCATION:SEKTOR III - PIASECZNO: Jabłoniowa, Łąbedzia, Mleczarska, Raszyńska, Sękocińska, Syrenki, Wiśniowa, Zielony Sad 
ORGANIZER;CN=WGO Gminy Piaseczno:MAILTO:go@piaseczno.eu
DESCRIPTION: Odbiór odpadów 
URL;VALUE=URI:https://odpady.piaseczno.eu/harmonogram-odbioru-odpadow/odbior/sektor-iii-piaseczno-jabloniowa-labedzia-mleczarska-raszynska-sekocinska-syrenki-wisniowa-zielony-sad-4/
SUMMARY:SEKTOR III - PIASECZNO: Jabłoniowa\, Łabędzia\, Mleczarska\, Raszyńska\, Sękocińska\, Syrenki\,  Wiśniowa\, Zielony Sad
END:VEVENT
BEGIN:VEVENT
DTSTART:20260724T060000Z
DTEND:20260724T190000Z
DTSTAMP:20260424T213237Z
UID:69ebe1757b9ab
CATEGORIES:odpady bio ogrodowe i kuchenne
LOCATION:SEKTOR III - PIASECZNO: Jabłoniowa, Łąbedzia, Mleczarska, Raszyńska, Sękocińska, Syrenki, Wiśniowa, Zielony Sad 
ORGANIZER;CN=WGO Gminy Piaseczno:MAILTO:go@piaseczno.eu
DESCRIPTION: Odbiór odpadów 
URL;VALUE=URI:https://odpady.piaseczno.eu/harmonogram-odbioru-odpadow/odbior/sektor-iii-piaseczno-jabloniowa-labedzia-mleczarska-raszynska-sekocinska-syrenki-wisniowa-zielony-sad-4/
SUMMARY:SEKTOR III - PIASECZNO: Jabłoniowa\, Łabędzia\, Mleczarska\, Raszyńska\, Sękocińska\, Syrenki\,  Wiśniowa\, Zielony Sad
END:VEVENT
BEGIN:VEVENT
DTSTART:20260807T060000Z
DTEND:20260807T190000Z
DTSTAMP:20260424T213237Z
UID:69ebe1757b9c7
CATEGORIES:odpady bio ogrodowe i kuchenne
LOCATION:SEKTOR III - PIASECZNO: Jabłoniowa, Łąbedzia, Mleczarska, Raszyńska, Sękocińska, Syrenki, Wiśniowa, Zielony Sad 
ORGANIZER;CN=WGO Gminy Piaseczno:MAILTO:go@piaseczno.eu
DESCRIPTION: Odbiór odpadów 
URL;VALUE=URI:https://odpady.piaseczno.eu/harmonogram-odbioru-odpadow/odbior/sektor-iii-piaseczno-jabloniowa-labedzia-mleczarska-raszynska-sekocinska-syrenki-wisniowa-zielony-sad-4/
SUMMARY:SEKTOR III - PIASECZNO: Jabłoniowa\, Łabędzia\, Mleczarska\, Raszyńska\, Sękocińska\, Syrenki\,  Wiśniowa\, Zielony Sad
END:VEVENT
BEGIN:VEVENT
DTSTART:20260821T060000Z
DTEND:20260821T190000Z
DTSTAMP:20260424T213237Z
UID:69ebe1757b9e7
CATEGORIES:odpady bio ogrodowe i kuchenne
LOCATION:SEKTOR III - PIASECZNO: Jabłoniowa, Łąbedzia, Mleczarska, Raszyńska, Sękocińska, Syrenki, Wiśniowa, Zielony Sad 
ORGANIZER;CN=WGO Gminy Piaseczno:MAILTO:go@piaseczno.eu
DESCRIPTION: Odbiór odpadów 
URL;VALUE=URI:https://odpady.piaseczno.eu/harmonogram-odbioru-odpadow/odbior/sektor-iii-piaseczno-jabloniowa-labedzia-mleczarska-raszynska-sekocinska-syrenki-wisniowa-zielony-sad-4/
SUMMARY:SEKTOR III - PIASECZNO: Jabłoniowa\, Łabędzia\, Mleczarska\, Raszyńska\, Sękocińska\, Syrenki\,  Wiśniowa\, Zielony Sad
END:VEVENT
BEGIN:VEVENT
DTSTART:20260904T060000Z
DTEND:20260904T190000Z
DTSTAMP:20260424T213237Z
UID:69ebe1757ba03
CATEGORIES:odpady bio ogrodowe i kuchenne
LOCATION:SEKTOR III - PIASECZNO: Jabłoniowa, Łąbedzia, Mleczarska, Raszyńska, Sękocińska, Syrenki, Wiśniowa, Zielony Sad 
ORGANIZER;CN=WGO Gminy Piaseczno:MAILTO:go@piaseczno.eu
DESCRIPTION: Odbiór odpadów 
URL;VALUE=URI:https://odpady.piaseczno.eu/harmonogram-odbioru-odpadow/odbior/sektor-iii-piaseczno-jabloniowa-labedzia-mleczarska-raszynska-sekocinska-syrenki-wisniowa-zielony-sad-4/
SUMMARY:SEKTOR III - PIASECZNO: Jabłoniowa\, Łabędzia\, Mleczarska\, Raszyńska\, Sękocińska\, Syrenki\,  Wiśniowa\, Zielony Sad
END:VEVENT
BEGIN:VEVENT
DTSTART:20260918T060000Z
DTEND:20260918T190000Z
DTSTAMP:20260424T213237Z
UID:69ebe1757ba1f
CATEGORIES:odpady bio ogrodowe i kuchenne
LOCATION:SEKTOR III - PIASECZNO: Jabłoniowa, Łąbedzia, Mleczarska, Raszyńska, Sękocińska, Syrenki, Wiśniowa, Zielony Sad 
ORGANIZER;CN=WGO Gminy Piaseczno:MAILTO:go@piaseczno.eu
DESCRIPTION: Odbiór odpadów 
URL;VALUE=URI:https://odpady.piaseczno.eu/harmonogram-odbioru-odpadow/odbior/sektor-iii-piaseczno-jabloniowa-labedzia-mleczarska-raszynska-sekocinska-syrenki-wisniowa-zielony-sad-4/
SUMMARY:SEKTOR III - PIASECZNO: Jabłoniowa\, Łabędzia\, Mleczarska\, Raszyńska\, Sękocińska\, Syrenki\,  Wiśniowa\, Zielony Sad
END:VEVENT
BEGIN:VEVENT
DTSTART:20261002T060000Z
DTEND:20261002T190000Z
DTSTAMP:20260424T213237Z
UID:69ebe1757ba3a
CATEGORIES:odpady bio ogrodowe i kuchenne
LOCATION:SEKTOR III - PIASECZNO: Jabłoniowa, Łąbedzia, Mleczarska, Raszyńska, Sękocińska, Syrenki, Wiśniowa, Zielony Sad 
ORGANIZER;CN=WGO Gminy Piaseczno:MAILTO:go@piaseczno.eu
DESCRIPTION: Odbiór odpadów 
URL;VALUE=URI:https://odpady.piaseczno.eu/harmonogram-odbioru-odpadow/odbior/sektor-iii-piaseczno-jabloniowa-labedzia-mleczarska-raszynska-sekocinska-syrenki-wisniowa-zielony-sad-4/
SUMMARY:SEKTOR III - PIASECZNO: Jabłoniowa\, Łabędzia\, Mleczarska\, Raszyńska\, Sękocińska\, Syrenki\,  Wiśniowa\, Zielony Sad
END:VEVENT
BEGIN:VEVENT
DTSTART:20261016T060000Z
DTEND:20261016T190000Z
DTSTAMP:20260424T213237Z
UID:69ebe1757ba56
CATEGORIES:odpady bio ogrodowe i kuchenne
LOCATION:SEKTOR III - PIASECZNO: Jabłoniowa, Łąbedzia, Mleczarska, Raszyńska, Sękocińska, Syrenki, Wiśniowa, Zielony Sad 
ORGANIZER;CN=WGO Gminy Piaseczno:MAILTO:go@piaseczno.eu
DESCRIPTION: Odbiór odpadów 
URL;VALUE=URI:https://odpady.piaseczno.eu/harmonogram-odbioru-odpadow/odbior/sektor-iii-piaseczno-jabloniowa-labedzia-mleczarska-raszynska-sekocinska-syrenki-wisniowa-zielony-sad-4/
SUMMARY:SEKTOR III - PIASECZNO: Jabłoniowa\, Łabędzia\, Mleczarska\, Raszyńska\, Sękocińska\, Syrenki\,  Wiśniowa\, Zielony Sad
END:VEVENT
BEGIN:VEVENT
DTSTART:20261030T060000Z
DTEND:20261030T190000Z
DTSTAMP:20260424T213237Z
UID:69ebe1757ba73
CATEGORIES:odpady bio ogrodowe i kuchenne
LOCATION:SEKTOR III - PIASECZNO: Jabłoniowa, Łąbedzia, Mleczarska, Raszyńska, Sękocińska, Syrenki, Wiśniowa, Zielony Sad 
ORGANIZER;CN=WGO Gminy Piaseczno:MAILTO:go@piaseczno.eu
DESCRIPTION: Odbiór odpadów 
URL;VALUE=URI:https://odpady.piaseczno.eu/harmonogram-odbioru-odpadow/odbior/sektor-iii-piaseczno-jabloniowa-labedzia-mleczarska-raszynska-sekocinska-syrenki-wisniowa-zielony-sad-4/
SUMMARY:SEKTOR III - PIASECZNO: Jabłoniowa\, Łabędzia\, Mleczarska\, Raszyńska\, Sękocińska\, Syrenki\,  Wiśniowa\, Zielony Sad
END:VEVENT
BEGIN:VEVENT
DTSTART:20261113T060000Z
DTEND:20261113T190000Z
DTSTAMP:20260424T213237Z
UID:69ebe1757ba93
CATEGORIES:odpady bio ogrodowe i kuchenne
LOCATION:SEKTOR III - PIASECZNO: Jabłoniowa, Łąbedzia, Mleczarska, Raszyńska, Sękocińska, Syrenki, Wiśniowa, Zielony Sad 
ORGANIZER;CN=WGO Gminy Piaseczno:MAILTO:go@piaseczno.eu
DESCRIPTION: Odbiór odpadów 
URL;VALUE=URI:https://odpady.piaseczno.eu/harmonogram-odbioru-odpadow/odbior/sektor-iii-piaseczno-jabloniowa-labedzia-mleczarska-raszynska-sekocinska-syrenki-wisniowa-zielony-sad-4/
SUMMARY:SEKTOR III - PIASECZNO: Jabłoniowa\, Łabędzia\, Mleczarska\, Raszyńska\, Sękocińska\, Syrenki\,  Wiśniowa\, Zielony Sad
END:VEVENT
BEGIN:VEVENT
DTSTART:20261127T060000Z
DTEND:20261127T190000Z
DTSTAMP:20260424T213237Z
UID:69ebe1757baaf
CATEGORIES:odpady bio ogrodowe i kuchenne
LOCATION:SEKTOR III - PIASECZNO: Jabłoniowa, Łąbedzia, Mleczarska, Raszyńska, Sękocińska, Syrenki, Wiśniowa, Zielony Sad 
ORGANIZER;CN=WGO Gminy Piaseczno:MAILTO:go@piaseczno.eu
DESCRIPTION: Odbiór odpadów 
URL;VALUE=URI:https://odpady.piaseczno.eu/harmonogram-odbioru-odpadow/odbior/sektor-iii-piaseczno-jabloniowa-labedzia-mleczarska-raszynska-sekocinska-syrenki-wisniowa-zielony-sad-4/
SUMMARY:SEKTOR III - PIASECZNO: Jabłoniowa\, Łabędzia\, Mleczarska\, Raszyńska\, Sękocińska\, Syrenki\,  Wiśniowa\, Zielony Sad
END:VEVENT
END:VCALENDAR
