BEGIN:VCALENDAR
VERSION:2.0
PRODID:-//DIGITAL FACTORY//EVENTS MAKER V1.6.12//EN
CALSCALE:GREGORIAN
METHOD:PUBLISH
BEGIN:VEVENT
DTSTART:20260115T060000Z
DTEND:20260115T190000Z
DTSTAMP:20260424T213543Z
UID:69ebe22fa6438
CATEGORIES:Odpady wielkogabarytowe
LOCATION:SEKTOR III - PIASECZNO: Jabłoniowa, Łąbedzia, Mleczarska, Raszyńska, Sękocińska, Syrenki, Wiśniowa, Zielony Sad 
ORGANIZER;CN=WGO Gminy Piaseczno:MAILTO:go@piaseczno.eu
DESCRIPTION: Odbiór odpadów 
URL;VALUE=URI:https://odpady.piaseczno.eu/harmonogram-odbioru-odpadow/odbior/sektor-iii-piaseczno-jabloniowa-labedzia-mleczarska-raszynska-sekocinska-syrenki-wisniowa-zielony-sad-2/
SUMMARY:SEKTOR III - PIASECZNO: Jabłoniowa\, Łabędzia\, Mleczarska\, Raszyńska\, Sękocińska\, Syrenki\,  Wiśniowa\, Zielony Sad
END:VEVENT
BEGIN:VEVENT
DTSTART:20260409T060000Z
DTEND:20260409T190000Z
DTSTAMP:20260424T213543Z
UID:69ebe22fa64bc
CATEGORIES:Odpady wielkogabarytowe
LOCATION:SEKTOR III - PIASECZNO: Jabłoniowa, Łąbedzia, Mleczarska, Raszyńska, Sękocińska, Syrenki, Wiśniowa, Zielony Sad 
ORGANIZER;CN=WGO Gminy Piaseczno:MAILTO:go@piaseczno.eu
DESCRIPTION: Odbiór odpadów 
URL;VALUE=URI:https://odpady.piaseczno.eu/harmonogram-odbioru-odpadow/odbior/sektor-iii-piaseczno-jabloniowa-labedzia-mleczarska-raszynska-sekocinska-syrenki-wisniowa-zielony-sad-2/
SUMMARY:SEKTOR III - PIASECZNO: Jabłoniowa\, Łabędzia\, Mleczarska\, Raszyńska\, Sękocińska\, Syrenki\,  Wiśniowa\, Zielony Sad
END:VEVENT
BEGIN:VEVENT
DTSTART:20260702T060000Z
DTEND:20260702T190000Z
DTSTAMP:20260424T213543Z
UID:69ebe22fa64e3
CATEGORIES:Odpady wielkogabarytowe
LOCATION:SEKTOR III - PIASECZNO: Jabłoniowa, Łąbedzia, Mleczarska, Raszyńska, Sękocińska, Syrenki, Wiśniowa, Zielony Sad 
ORGANIZER;CN=WGO Gminy Piaseczno:MAILTO:go@piaseczno.eu
DESCRIPTION: Odbiór odpadów 
URL;VALUE=URI:https://odpady.piaseczno.eu/harmonogram-odbioru-odpadow/odbior/sektor-iii-piaseczno-jabloniowa-labedzia-mleczarska-raszynska-sekocinska-syrenki-wisniowa-zielony-sad-2/
SUMMARY:SEKTOR III - PIASECZNO: Jabłoniowa\, Łabędzia\, Mleczarska\, Raszyńska\, Sękocińska\, Syrenki\,  Wiśniowa\, Zielony Sad
END:VEVENT
BEGIN:VEVENT
DTSTART:20260924T060000Z
DTEND:20260924T190000Z
DTSTAMP:20260424T213543Z
UID:69ebe22fa6504
CATEGORIES:Odpady wielkogabarytowe
LOCATION:SEKTOR III - PIASECZNO: Jabłoniowa, Łąbedzia, Mleczarska, Raszyńska, Sękocińska, Syrenki, Wiśniowa, Zielony Sad 
ORGANIZER;CN=WGO Gminy Piaseczno:MAILTO:go@piaseczno.eu
DESCRIPTION: Odbiór odpadów 
URL;VALUE=URI:https://odpady.piaseczno.eu/harmonogram-odbioru-odpadow/odbior/sektor-iii-piaseczno-jabloniowa-labedzia-mleczarska-raszynska-sekocinska-syrenki-wisniowa-zielony-sad-2/
SUMMARY:SEKTOR III - PIASECZNO: Jabłoniowa\, Łabędzia\, Mleczarska\, Raszyńska\, Sękocińska\, Syrenki\,  Wiśniowa\, Zielony Sad
END:VEVENT
END:VCALENDAR
