BEGIN:VCALENDAR
VERSION:2.0
PRODID:-//DIGITAL FACTORY//EVENTS MAKER V1.6.12//EN
CALSCALE:GREGORIAN
METHOD:PUBLISH
BEGIN:VEVENT
DTSTART:20251217T060000Z
DTEND:20251217T190000Z
DTSTAMP:20260422T093450Z
UID:69e8963a512ff
CATEGORIES:Odpady segregowane - szkło
LOCATION:SEKTOR III: JÓZEFOSŁAW ul. Geodetów (od nr 1 do nr 9), Mieczykow, Ottawy, PIASECZNO ul. Agatowa do ul. Turkusowa JÓZEFOSŁAW\, PIASECZNO, MAZOWIECKIE
ORGANIZER;CN=WGO Gminy Piaseczno:MAILTO:go@piaseczno.eu
DESCRIPTION: Odbiór odpadów 
URL;VALUE=URI:https://odpady.piaseczno.eu/harmonogram-odbioru-odpadow/odbior/sektor-iii-jozefoslaw-ul-geodetow-od-nr-1-do-nr-21-mieczykow-sloneczny-sad-piaseczno-od-ul-agatowa-do-ul-zielony-sad-szklo/
SUMMARY:SEKTOR III: JÓZEFOSŁAW ul. Geodetów (od nr 1 do nr 9)\, Mieczyków\, PIASECZNO od ul. Agatowa do ul. Turkusowa
END:VEVENT
BEGIN:VEVENT
DTSTART:20260114T060000Z
DTEND:20260114T190000Z
DTSTAMP:20260422T093450Z
UID:69e8963a51397
CATEGORIES:Odpady segregowane - szkło
LOCATION:SEKTOR III: JÓZEFOSŁAW ul. Geodetów (od nr 1 do nr 9), Mieczykow, Ottawy, PIASECZNO ul. Agatowa do ul. Turkusowa JÓZEFOSŁAW\, PIASECZNO, MAZOWIECKIE
ORGANIZER;CN=WGO Gminy Piaseczno:MAILTO:go@piaseczno.eu
DESCRIPTION: Odbiór odpadów 
URL;VALUE=URI:https://odpady.piaseczno.eu/harmonogram-odbioru-odpadow/odbior/sektor-iii-jozefoslaw-ul-geodetow-od-nr-1-do-nr-21-mieczykow-sloneczny-sad-piaseczno-od-ul-agatowa-do-ul-zielony-sad-szklo/
SUMMARY:SEKTOR III: JÓZEFOSŁAW ul. Geodetów (od nr 1 do nr 9)\, Mieczyków\, PIASECZNO od ul. Agatowa do ul. Turkusowa
END:VEVENT
BEGIN:VEVENT
DTSTART:20260211T060000Z
DTEND:20260211T190000Z
DTSTAMP:20260422T093450Z
UID:69e8963a513c3
CATEGORIES:Odpady segregowane - szkło
LOCATION:SEKTOR III: JÓZEFOSŁAW ul. Geodetów (od nr 1 do nr 9), Mieczykow, Ottawy, PIASECZNO ul. Agatowa do ul. Turkusowa JÓZEFOSŁAW\, PIASECZNO, MAZOWIECKIE
ORGANIZER;CN=WGO Gminy Piaseczno:MAILTO:go@piaseczno.eu
DESCRIPTION: Odbiór odpadów 
URL;VALUE=URI:https://odpady.piaseczno.eu/harmonogram-odbioru-odpadow/odbior/sektor-iii-jozefoslaw-ul-geodetow-od-nr-1-do-nr-21-mieczykow-sloneczny-sad-piaseczno-od-ul-agatowa-do-ul-zielony-sad-szklo/
SUMMARY:SEKTOR III: JÓZEFOSŁAW ul. Geodetów (od nr 1 do nr 9)\, Mieczyków\, PIASECZNO od ul. Agatowa do ul. Turkusowa
END:VEVENT
BEGIN:VEVENT
DTSTART:20260311T060000Z
DTEND:20260311T190000Z
DTSTAMP:20260422T093450Z
UID:69e8963a513e5
CATEGORIES:Odpady segregowane - szkło
LOCATION:SEKTOR III: JÓZEFOSŁAW ul. Geodetów (od nr 1 do nr 9), Mieczykow, Ottawy, PIASECZNO ul. Agatowa do ul. Turkusowa JÓZEFOSŁAW\, PIASECZNO, MAZOWIECKIE
ORGANIZER;CN=WGO Gminy Piaseczno:MAILTO:go@piaseczno.eu
DESCRIPTION: Odbiór odpadów 
URL;VALUE=URI:https://odpady.piaseczno.eu/harmonogram-odbioru-odpadow/odbior/sektor-iii-jozefoslaw-ul-geodetow-od-nr-1-do-nr-21-mieczykow-sloneczny-sad-piaseczno-od-ul-agatowa-do-ul-zielony-sad-szklo/
SUMMARY:SEKTOR III: JÓZEFOSŁAW ul. Geodetów (od nr 1 do nr 9)\, Mieczyków\, PIASECZNO od ul. Agatowa do ul. Turkusowa
END:VEVENT
BEGIN:VEVENT
DTSTART:20260408T060000Z
DTEND:20260408T190000Z
DTSTAMP:20260422T093450Z
UID:69e8963a5140a
CATEGORIES:Odpady segregowane - szkło
LOCATION:SEKTOR III: JÓZEFOSŁAW ul. Geodetów (od nr 1 do nr 9), Mieczykow, Ottawy, PIASECZNO ul. Agatowa do ul. Turkusowa JÓZEFOSŁAW\, PIASECZNO, MAZOWIECKIE
ORGANIZER;CN=WGO Gminy Piaseczno:MAILTO:go@piaseczno.eu
DESCRIPTION: Odbiór odpadów 
URL;VALUE=URI:https://odpady.piaseczno.eu/harmonogram-odbioru-odpadow/odbior/sektor-iii-jozefoslaw-ul-geodetow-od-nr-1-do-nr-21-mieczykow-sloneczny-sad-piaseczno-od-ul-agatowa-do-ul-zielony-sad-szklo/
SUMMARY:SEKTOR III: JÓZEFOSŁAW ul. Geodetów (od nr 1 do nr 9)\, Mieczyków\, PIASECZNO od ul. Agatowa do ul. Turkusowa
END:VEVENT
BEGIN:VEVENT
DTSTART:20260506T060000Z
DTEND:20260506T190000Z
DTSTAMP:20260422T093450Z
UID:69e8963a51429
CATEGORIES:Odpady segregowane - szkło
LOCATION:SEKTOR III: JÓZEFOSŁAW ul. Geodetów (od nr 1 do nr 9), Mieczykow, Ottawy, PIASECZNO ul. Agatowa do ul. Turkusowa JÓZEFOSŁAW\, PIASECZNO, MAZOWIECKIE
ORGANIZER;CN=WGO Gminy Piaseczno:MAILTO:go@piaseczno.eu
DESCRIPTION: Odbiór odpadów 
URL;VALUE=URI:https://odpady.piaseczno.eu/harmonogram-odbioru-odpadow/odbior/sektor-iii-jozefoslaw-ul-geodetow-od-nr-1-do-nr-21-mieczykow-sloneczny-sad-piaseczno-od-ul-agatowa-do-ul-zielony-sad-szklo/
SUMMARY:SEKTOR III: JÓZEFOSŁAW ul. Geodetów (od nr 1 do nr 9)\, Mieczyków\, PIASECZNO od ul. Agatowa do ul. Turkusowa
END:VEVENT
BEGIN:VEVENT
DTSTART:20260603T060000Z
DTEND:20260603T190000Z
DTSTAMP:20260422T093450Z
UID:69e8963a51446
CATEGORIES:Odpady segregowane - szkło
LOCATION:SEKTOR III: JÓZEFOSŁAW ul. Geodetów (od nr 1 do nr 9), Mieczykow, Ottawy, PIASECZNO ul. Agatowa do ul. Turkusowa JÓZEFOSŁAW\, PIASECZNO, MAZOWIECKIE
ORGANIZER;CN=WGO Gminy Piaseczno:MAILTO:go@piaseczno.eu
DESCRIPTION: Odbiór odpadów 
URL;VALUE=URI:https://odpady.piaseczno.eu/harmonogram-odbioru-odpadow/odbior/sektor-iii-jozefoslaw-ul-geodetow-od-nr-1-do-nr-21-mieczykow-sloneczny-sad-piaseczno-od-ul-agatowa-do-ul-zielony-sad-szklo/
SUMMARY:SEKTOR III: JÓZEFOSŁAW ul. Geodetów (od nr 1 do nr 9)\, Mieczyków\, PIASECZNO od ul. Agatowa do ul. Turkusowa
END:VEVENT
BEGIN:VEVENT
DTSTART:20260701T060000Z
DTEND:20260701T190000Z
DTSTAMP:20260422T093450Z
UID:69e8963a51462
CATEGORIES:Odpady segregowane - szkło
LOCATION:SEKTOR III: JÓZEFOSŁAW ul. Geodetów (od nr 1 do nr 9), Mieczykow, Ottawy, PIASECZNO ul. Agatowa do ul. Turkusowa JÓZEFOSŁAW\, PIASECZNO, MAZOWIECKIE
ORGANIZER;CN=WGO Gminy Piaseczno:MAILTO:go@piaseczno.eu
DESCRIPTION: Odbiór odpadów 
URL;VALUE=URI:https://odpady.piaseczno.eu/harmonogram-odbioru-odpadow/odbior/sektor-iii-jozefoslaw-ul-geodetow-od-nr-1-do-nr-21-mieczykow-sloneczny-sad-piaseczno-od-ul-agatowa-do-ul-zielony-sad-szklo/
SUMMARY:SEKTOR III: JÓZEFOSŁAW ul. Geodetów (od nr 1 do nr 9)\, Mieczyków\, PIASECZNO od ul. Agatowa do ul. Turkusowa
END:VEVENT
BEGIN:VEVENT
DTSTART:20260729T060000Z
DTEND:20260729T190000Z
DTSTAMP:20260422T093450Z
UID:69e8963a5147d
CATEGORIES:Odpady segregowane - szkło
LOCATION:SEKTOR III: JÓZEFOSŁAW ul. Geodetów (od nr 1 do nr 9), Mieczykow, Ottawy, PIASECZNO ul. Agatowa do ul. Turkusowa JÓZEFOSŁAW\, PIASECZNO, MAZOWIECKIE
ORGANIZER;CN=WGO Gminy Piaseczno:MAILTO:go@piaseczno.eu
DESCRIPTION: Odbiór odpadów 
URL;VALUE=URI:https://odpady.piaseczno.eu/harmonogram-odbioru-odpadow/odbior/sektor-iii-jozefoslaw-ul-geodetow-od-nr-1-do-nr-21-mieczykow-sloneczny-sad-piaseczno-od-ul-agatowa-do-ul-zielony-sad-szklo/
SUMMARY:SEKTOR III: JÓZEFOSŁAW ul. Geodetów (od nr 1 do nr 9)\, Mieczyków\, PIASECZNO od ul. Agatowa do ul. Turkusowa
END:VEVENT
BEGIN:VEVENT
DTSTART:20260826T060000Z
DTEND:20260826T190000Z
DTSTAMP:20260422T093450Z
UID:69e8963a51498
CATEGORIES:Odpady segregowane - szkło
LOCATION:SEKTOR III: JÓZEFOSŁAW ul. Geodetów (od nr 1 do nr 9), Mieczykow, Ottawy, PIASECZNO ul. Agatowa do ul. Turkusowa JÓZEFOSŁAW\, PIASECZNO, MAZOWIECKIE
ORGANIZER;CN=WGO Gminy Piaseczno:MAILTO:go@piaseczno.eu
DESCRIPTION: Odbiór odpadów 
URL;VALUE=URI:https://odpady.piaseczno.eu/harmonogram-odbioru-odpadow/odbior/sektor-iii-jozefoslaw-ul-geodetow-od-nr-1-do-nr-21-mieczykow-sloneczny-sad-piaseczno-od-ul-agatowa-do-ul-zielony-sad-szklo/
SUMMARY:SEKTOR III: JÓZEFOSŁAW ul. Geodetów (od nr 1 do nr 9)\, Mieczyków\, PIASECZNO od ul. Agatowa do ul. Turkusowa
END:VEVENT
BEGIN:VEVENT
DTSTART:20260923T060000Z
DTEND:20260923T190000Z
DTSTAMP:20260422T093450Z
UID:69e8963a514b3
CATEGORIES:Odpady segregowane - szkło
LOCATION:SEKTOR III: JÓZEFOSŁAW ul. Geodetów (od nr 1 do nr 9), Mieczykow, Ottawy, PIASECZNO ul. Agatowa do ul. Turkusowa JÓZEFOSŁAW\, PIASECZNO, MAZOWIECKIE
ORGANIZER;CN=WGO Gminy Piaseczno:MAILTO:go@piaseczno.eu
DESCRIPTION: Odbiór odpadów 
URL;VALUE=URI:https://odpady.piaseczno.eu/harmonogram-odbioru-odpadow/odbior/sektor-iii-jozefoslaw-ul-geodetow-od-nr-1-do-nr-21-mieczykow-sloneczny-sad-piaseczno-od-ul-agatowa-do-ul-zielony-sad-szklo/
SUMMARY:SEKTOR III: JÓZEFOSŁAW ul. Geodetów (od nr 1 do nr 9)\, Mieczyków\, PIASECZNO od ul. Agatowa do ul. Turkusowa
END:VEVENT
BEGIN:VEVENT
DTSTART:20261021T060000Z
DTEND:20261021T190000Z
DTSTAMP:20260422T093450Z
UID:69e8963a514d5
CATEGORIES:Odpady segregowane - szkło
LOCATION:SEKTOR III: JÓZEFOSŁAW ul. Geodetów (od nr 1 do nr 9), Mieczykow, Ottawy, PIASECZNO ul. Agatowa do ul. Turkusowa JÓZEFOSŁAW\, PIASECZNO, MAZOWIECKIE
ORGANIZER;CN=WGO Gminy Piaseczno:MAILTO:go@piaseczno.eu
DESCRIPTION: Odbiór odpadów 
URL;VALUE=URI:https://odpady.piaseczno.eu/harmonogram-odbioru-odpadow/odbior/sektor-iii-jozefoslaw-ul-geodetow-od-nr-1-do-nr-21-mieczykow-sloneczny-sad-piaseczno-od-ul-agatowa-do-ul-zielony-sad-szklo/
SUMMARY:SEKTOR III: JÓZEFOSŁAW ul. Geodetów (od nr 1 do nr 9)\, Mieczyków\, PIASECZNO od ul. Agatowa do ul. Turkusowa
END:VEVENT
BEGIN:VEVENT
DTSTART:20261118T060000Z
DTEND:20261118T190000Z
DTSTAMP:20260422T093450Z
UID:69e8963a514f1
CATEGORIES:Odpady segregowane - szkło
LOCATION:SEKTOR III: JÓZEFOSŁAW ul. Geodetów (od nr 1 do nr 9), Mieczykow, Ottawy, PIASECZNO ul. Agatowa do ul. Turkusowa JÓZEFOSŁAW\, PIASECZNO, MAZOWIECKIE
ORGANIZER;CN=WGO Gminy Piaseczno:MAILTO:go@piaseczno.eu
DESCRIPTION: Odbiór odpadów 
URL;VALUE=URI:https://odpady.piaseczno.eu/harmonogram-odbioru-odpadow/odbior/sektor-iii-jozefoslaw-ul-geodetow-od-nr-1-do-nr-21-mieczykow-sloneczny-sad-piaseczno-od-ul-agatowa-do-ul-zielony-sad-szklo/
SUMMARY:SEKTOR III: JÓZEFOSŁAW ul. Geodetów (od nr 1 do nr 9)\, Mieczyków\, PIASECZNO od ul. Agatowa do ul. Turkusowa
END:VEVENT
END:VCALENDAR
