BEGIN:VCALENDAR
VERSION:2.0
PRODID:-//DIGITAL FACTORY//EVENTS MAKER V1.6.12//EN
CALSCALE:GREGORIAN
METHOD:PUBLISH
BEGIN:VEVENT
DTSTART:20251211T060000Z
DTEND:20251211T190000Z
DTSTAMP:20260422T044637Z
UID:69e852adbe401
CATEGORIES:Odpady zmieszane
LOCATION:SEKTOR III: JÓZEFOSŁAW ul. Geodetów (od nr 1 do nr 9), Mieczykow, Ottawy, PIASECZNO ul. Agatowa do ul. Turkusowa JÓZEFOSŁAW\, PIASECZNO, MAZOWIECKIE
ORGANIZER;CN=WGO Gminy Piaseczno:MAILTO:go@piaseczno.eu
DESCRIPTION: Odbiór odpadów 
URL;VALUE=URI:https://odpady.piaseczno.eu/harmonogram-odbioru-odpadow/odbior/sektor-iii-jozefoslaw-ul-geodetow-od-nr-1-do-nr-21-mieczykow-sloneczny-sad-piaseczno-od-ul-agatowa-do-ul-zielony-sad-odpady-zmieszane/
SUMMARY:SEKTOR III: JÓZEFOSŁAW ul. Geodetów (od nr 1 do nr 9)\, Mieczyków\, PIASECZNO od ul. Agatowa do ul. Turkusowa
END:VEVENT
BEGIN:VEVENT
DTSTART:20251223T060000Z
DTEND:20251223T190000Z
DTSTAMP:20260422T044637Z
UID:69e852adbe48d
CATEGORIES:Odpady zmieszane
LOCATION:SEKTOR III: JÓZEFOSŁAW ul. Geodetów (od nr 1 do nr 9), Mieczykow, Ottawy, PIASECZNO ul. Agatowa do ul. Turkusowa JÓZEFOSŁAW\, PIASECZNO, MAZOWIECKIE
ORGANIZER;CN=WGO Gminy Piaseczno:MAILTO:go@piaseczno.eu
DESCRIPTION: Odbiór odpadów 
URL;VALUE=URI:https://odpady.piaseczno.eu/harmonogram-odbioru-odpadow/odbior/sektor-iii-jozefoslaw-ul-geodetow-od-nr-1-do-nr-21-mieczykow-sloneczny-sad-piaseczno-od-ul-agatowa-do-ul-zielony-sad-odpady-zmieszane/
SUMMARY:SEKTOR III: JÓZEFOSŁAW ul. Geodetów (od nr 1 do nr 9)\, Mieczyków\, PIASECZNO od ul. Agatowa do ul. Turkusowa
END:VEVENT
BEGIN:VEVENT
DTSTART:20260108T060000Z
DTEND:20260108T190000Z
DTSTAMP:20260422T044637Z
UID:69e852adbe4b5
CATEGORIES:Odpady zmieszane
LOCATION:SEKTOR III: JÓZEFOSŁAW ul. Geodetów (od nr 1 do nr 9), Mieczykow, Ottawy, PIASECZNO ul. Agatowa do ul. Turkusowa JÓZEFOSŁAW\, PIASECZNO, MAZOWIECKIE
ORGANIZER;CN=WGO Gminy Piaseczno:MAILTO:go@piaseczno.eu
DESCRIPTION: Odbiór odpadów 
URL;VALUE=URI:https://odpady.piaseczno.eu/harmonogram-odbioru-odpadow/odbior/sektor-iii-jozefoslaw-ul-geodetow-od-nr-1-do-nr-21-mieczykow-sloneczny-sad-piaseczno-od-ul-agatowa-do-ul-zielony-sad-odpady-zmieszane/
SUMMARY:SEKTOR III: JÓZEFOSŁAW ul. Geodetów (od nr 1 do nr 9)\, Mieczyków\, PIASECZNO od ul. Agatowa do ul. Turkusowa
END:VEVENT
BEGIN:VEVENT
DTSTART:20260122T060000Z
DTEND:20260122T190000Z
DTSTAMP:20260422T044637Z
UID:69e852adbe4d6
CATEGORIES:Odpady zmieszane
LOCATION:SEKTOR III: JÓZEFOSŁAW ul. Geodetów (od nr 1 do nr 9), Mieczykow, Ottawy, PIASECZNO ul. Agatowa do ul. Turkusowa JÓZEFOSŁAW\, PIASECZNO, MAZOWIECKIE
ORGANIZER;CN=WGO Gminy Piaseczno:MAILTO:go@piaseczno.eu
DESCRIPTION: Odbiór odpadów 
URL;VALUE=URI:https://odpady.piaseczno.eu/harmonogram-odbioru-odpadow/odbior/sektor-iii-jozefoslaw-ul-geodetow-od-nr-1-do-nr-21-mieczykow-sloneczny-sad-piaseczno-od-ul-agatowa-do-ul-zielony-sad-odpady-zmieszane/
SUMMARY:SEKTOR III: JÓZEFOSŁAW ul. Geodetów (od nr 1 do nr 9)\, Mieczyków\, PIASECZNO od ul. Agatowa do ul. Turkusowa
END:VEVENT
BEGIN:VEVENT
DTSTART:20260205T060000Z
DTEND:20260205T190000Z
DTSTAMP:20260422T044637Z
UID:69e852adbe4f3
CATEGORIES:Odpady zmieszane
LOCATION:SEKTOR III: JÓZEFOSŁAW ul. Geodetów (od nr 1 do nr 9), Mieczykow, Ottawy, PIASECZNO ul. Agatowa do ul. Turkusowa JÓZEFOSŁAW\, PIASECZNO, MAZOWIECKIE
ORGANIZER;CN=WGO Gminy Piaseczno:MAILTO:go@piaseczno.eu
DESCRIPTION: Odbiór odpadów 
URL;VALUE=URI:https://odpady.piaseczno.eu/harmonogram-odbioru-odpadow/odbior/sektor-iii-jozefoslaw-ul-geodetow-od-nr-1-do-nr-21-mieczykow-sloneczny-sad-piaseczno-od-ul-agatowa-do-ul-zielony-sad-odpady-zmieszane/
SUMMARY:SEKTOR III: JÓZEFOSŁAW ul. Geodetów (od nr 1 do nr 9)\, Mieczyków\, PIASECZNO od ul. Agatowa do ul. Turkusowa
END:VEVENT
BEGIN:VEVENT
DTSTART:20260219T060000Z
DTEND:20260219T190000Z
DTSTAMP:20260422T044637Z
UID:69e852adbe510
CATEGORIES:Odpady zmieszane
LOCATION:SEKTOR III: JÓZEFOSŁAW ul. Geodetów (od nr 1 do nr 9), Mieczykow, Ottawy, PIASECZNO ul. Agatowa do ul. Turkusowa JÓZEFOSŁAW\, PIASECZNO, MAZOWIECKIE
ORGANIZER;CN=WGO Gminy Piaseczno:MAILTO:go@piaseczno.eu
DESCRIPTION: Odbiór odpadów 
URL;VALUE=URI:https://odpady.piaseczno.eu/harmonogram-odbioru-odpadow/odbior/sektor-iii-jozefoslaw-ul-geodetow-od-nr-1-do-nr-21-mieczykow-sloneczny-sad-piaseczno-od-ul-agatowa-do-ul-zielony-sad-odpady-zmieszane/
SUMMARY:SEKTOR III: JÓZEFOSŁAW ul. Geodetów (od nr 1 do nr 9)\, Mieczyków\, PIASECZNO od ul. Agatowa do ul. Turkusowa
END:VEVENT
BEGIN:VEVENT
DTSTART:20260305T060000Z
DTEND:20260305T190000Z
DTSTAMP:20260422T044637Z
UID:69e852adbe531
CATEGORIES:Odpady zmieszane
LOCATION:SEKTOR III: JÓZEFOSŁAW ul. Geodetów (od nr 1 do nr 9), Mieczykow, Ottawy, PIASECZNO ul. Agatowa do ul. Turkusowa JÓZEFOSŁAW\, PIASECZNO, MAZOWIECKIE
ORGANIZER;CN=WGO Gminy Piaseczno:MAILTO:go@piaseczno.eu
DESCRIPTION: Odbiór odpadów 
URL;VALUE=URI:https://odpady.piaseczno.eu/harmonogram-odbioru-odpadow/odbior/sektor-iii-jozefoslaw-ul-geodetow-od-nr-1-do-nr-21-mieczykow-sloneczny-sad-piaseczno-od-ul-agatowa-do-ul-zielony-sad-odpady-zmieszane/
SUMMARY:SEKTOR III: JÓZEFOSŁAW ul. Geodetów (od nr 1 do nr 9)\, Mieczyków\, PIASECZNO od ul. Agatowa do ul. Turkusowa
END:VEVENT
BEGIN:VEVENT
DTSTART:20260319T060000Z
DTEND:20260319T190000Z
DTSTAMP:20260422T044637Z
UID:69e852adbe54c
CATEGORIES:Odpady zmieszane
LOCATION:SEKTOR III: JÓZEFOSŁAW ul. Geodetów (od nr 1 do nr 9), Mieczykow, Ottawy, PIASECZNO ul. Agatowa do ul. Turkusowa JÓZEFOSŁAW\, PIASECZNO, MAZOWIECKIE
ORGANIZER;CN=WGO Gminy Piaseczno:MAILTO:go@piaseczno.eu
DESCRIPTION: Odbiór odpadów 
URL;VALUE=URI:https://odpady.piaseczno.eu/harmonogram-odbioru-odpadow/odbior/sektor-iii-jozefoslaw-ul-geodetow-od-nr-1-do-nr-21-mieczykow-sloneczny-sad-piaseczno-od-ul-agatowa-do-ul-zielony-sad-odpady-zmieszane/
SUMMARY:SEKTOR III: JÓZEFOSŁAW ul. Geodetów (od nr 1 do nr 9)\, Mieczyków\, PIASECZNO od ul. Agatowa do ul. Turkusowa
END:VEVENT
BEGIN:VEVENT
DTSTART:20260402T060000Z
DTEND:20260402T190000Z
DTSTAMP:20260422T044637Z
UID:69e852adbe566
CATEGORIES:Odpady zmieszane
LOCATION:SEKTOR III: JÓZEFOSŁAW ul. Geodetów (od nr 1 do nr 9), Mieczykow, Ottawy, PIASECZNO ul. Agatowa do ul. Turkusowa JÓZEFOSŁAW\, PIASECZNO, MAZOWIECKIE
ORGANIZER;CN=WGO Gminy Piaseczno:MAILTO:go@piaseczno.eu
DESCRIPTION: Odbiór odpadów 
URL;VALUE=URI:https://odpady.piaseczno.eu/harmonogram-odbioru-odpadow/odbior/sektor-iii-jozefoslaw-ul-geodetow-od-nr-1-do-nr-21-mieczykow-sloneczny-sad-piaseczno-od-ul-agatowa-do-ul-zielony-sad-odpady-zmieszane/
SUMMARY:SEKTOR III: JÓZEFOSŁAW ul. Geodetów (od nr 1 do nr 9)\, Mieczyków\, PIASECZNO od ul. Agatowa do ul. Turkusowa
END:VEVENT
BEGIN:VEVENT
DTSTART:20260416T060000Z
DTEND:20260416T190000Z
DTSTAMP:20260422T044637Z
UID:69e852adbe581
CATEGORIES:Odpady zmieszane
LOCATION:SEKTOR III: JÓZEFOSŁAW ul. Geodetów (od nr 1 do nr 9), Mieczykow, Ottawy, PIASECZNO ul. Agatowa do ul. Turkusowa JÓZEFOSŁAW\, PIASECZNO, MAZOWIECKIE
ORGANIZER;CN=WGO Gminy Piaseczno:MAILTO:go@piaseczno.eu
DESCRIPTION: Odbiór odpadów 
URL;VALUE=URI:https://odpady.piaseczno.eu/harmonogram-odbioru-odpadow/odbior/sektor-iii-jozefoslaw-ul-geodetow-od-nr-1-do-nr-21-mieczykow-sloneczny-sad-piaseczno-od-ul-agatowa-do-ul-zielony-sad-odpady-zmieszane/
SUMMARY:SEKTOR III: JÓZEFOSŁAW ul. Geodetów (od nr 1 do nr 9)\, Mieczyków\, PIASECZNO od ul. Agatowa do ul. Turkusowa
END:VEVENT
BEGIN:VEVENT
DTSTART:20260430T060000Z
DTEND:20260430T190000Z
DTSTAMP:20260422T044637Z
UID:69e852adbe59c
CATEGORIES:Odpady zmieszane
LOCATION:SEKTOR III: JÓZEFOSŁAW ul. Geodetów (od nr 1 do nr 9), Mieczykow, Ottawy, PIASECZNO ul. Agatowa do ul. Turkusowa JÓZEFOSŁAW\, PIASECZNO, MAZOWIECKIE
ORGANIZER;CN=WGO Gminy Piaseczno:MAILTO:go@piaseczno.eu
DESCRIPTION: Odbiór odpadów 
URL;VALUE=URI:https://odpady.piaseczno.eu/harmonogram-odbioru-odpadow/odbior/sektor-iii-jozefoslaw-ul-geodetow-od-nr-1-do-nr-21-mieczykow-sloneczny-sad-piaseczno-od-ul-agatowa-do-ul-zielony-sad-odpady-zmieszane/
SUMMARY:SEKTOR III: JÓZEFOSŁAW ul. Geodetów (od nr 1 do nr 9)\, Mieczyków\, PIASECZNO od ul. Agatowa do ul. Turkusowa
END:VEVENT
BEGIN:VEVENT
DTSTART:20260514T060000Z
DTEND:20260514T190000Z
DTSTAMP:20260422T044637Z
UID:69e852adbe5bd
CATEGORIES:Odpady zmieszane
LOCATION:SEKTOR III: JÓZEFOSŁAW ul. Geodetów (od nr 1 do nr 9), Mieczykow, Ottawy, PIASECZNO ul. Agatowa do ul. Turkusowa JÓZEFOSŁAW\, PIASECZNO, MAZOWIECKIE
ORGANIZER;CN=WGO Gminy Piaseczno:MAILTO:go@piaseczno.eu
DESCRIPTION: Odbiór odpadów 
URL;VALUE=URI:https://odpady.piaseczno.eu/harmonogram-odbioru-odpadow/odbior/sektor-iii-jozefoslaw-ul-geodetow-od-nr-1-do-nr-21-mieczykow-sloneczny-sad-piaseczno-od-ul-agatowa-do-ul-zielony-sad-odpady-zmieszane/
SUMMARY:SEKTOR III: JÓZEFOSŁAW ul. Geodetów (od nr 1 do nr 9)\, Mieczyków\, PIASECZNO od ul. Agatowa do ul. Turkusowa
END:VEVENT
BEGIN:VEVENT
DTSTART:20260528T060000Z
DTEND:20260528T190000Z
DTSTAMP:20260422T044637Z
UID:69e852adbe5d8
CATEGORIES:Odpady zmieszane
LOCATION:SEKTOR III: JÓZEFOSŁAW ul. Geodetów (od nr 1 do nr 9), Mieczykow, Ottawy, PIASECZNO ul. Agatowa do ul. Turkusowa JÓZEFOSŁAW\, PIASECZNO, MAZOWIECKIE
ORGANIZER;CN=WGO Gminy Piaseczno:MAILTO:go@piaseczno.eu
DESCRIPTION: Odbiór odpadów 
URL;VALUE=URI:https://odpady.piaseczno.eu/harmonogram-odbioru-odpadow/odbior/sektor-iii-jozefoslaw-ul-geodetow-od-nr-1-do-nr-21-mieczykow-sloneczny-sad-piaseczno-od-ul-agatowa-do-ul-zielony-sad-odpady-zmieszane/
SUMMARY:SEKTOR III: JÓZEFOSŁAW ul. Geodetów (od nr 1 do nr 9)\, Mieczyków\, PIASECZNO od ul. Agatowa do ul. Turkusowa
END:VEVENT
BEGIN:VEVENT
DTSTART:20260606T060000Z
DTEND:20260606T190000Z
DTSTAMP:20260422T044637Z
UID:69e852adbe5f3
CATEGORIES:Odpady zmieszane
LOCATION:SEKTOR III: JÓZEFOSŁAW ul. Geodetów (od nr 1 do nr 9), Mieczykow, Ottawy, PIASECZNO ul. Agatowa do ul. Turkusowa JÓZEFOSŁAW\, PIASECZNO, MAZOWIECKIE
ORGANIZER;CN=WGO Gminy Piaseczno:MAILTO:go@piaseczno.eu
DESCRIPTION: Odbiór odpadów 
URL;VALUE=URI:https://odpady.piaseczno.eu/harmonogram-odbioru-odpadow/odbior/sektor-iii-jozefoslaw-ul-geodetow-od-nr-1-do-nr-21-mieczykow-sloneczny-sad-piaseczno-od-ul-agatowa-do-ul-zielony-sad-odpady-zmieszane/
SUMMARY:SEKTOR III: JÓZEFOSŁAW ul. Geodetów (od nr 1 do nr 9)\, Mieczyków\, PIASECZNO od ul. Agatowa do ul. Turkusowa
END:VEVENT
BEGIN:VEVENT
DTSTART:20260611T060000Z
DTEND:20260611T190000Z
DTSTAMP:20260422T044637Z
UID:69e852adbe60c
CATEGORIES:Odpady zmieszane
LOCATION:SEKTOR III: JÓZEFOSŁAW ul. Geodetów (od nr 1 do nr 9), Mieczykow, Ottawy, PIASECZNO ul. Agatowa do ul. Turkusowa JÓZEFOSŁAW\, PIASECZNO, MAZOWIECKIE
ORGANIZER;CN=WGO Gminy Piaseczno:MAILTO:go@piaseczno.eu
DESCRIPTION: Odbiór odpadów 
URL;VALUE=URI:https://odpady.piaseczno.eu/harmonogram-odbioru-odpadow/odbior/sektor-iii-jozefoslaw-ul-geodetow-od-nr-1-do-nr-21-mieczykow-sloneczny-sad-piaseczno-od-ul-agatowa-do-ul-zielony-sad-odpady-zmieszane/
SUMMARY:SEKTOR III: JÓZEFOSŁAW ul. Geodetów (od nr 1 do nr 9)\, Mieczyków\, PIASECZNO od ul. Agatowa do ul. Turkusowa
END:VEVENT
BEGIN:VEVENT
DTSTART:20260618T060000Z
DTEND:20260618T190000Z
DTSTAMP:20260422T044637Z
UID:69e852adbe626
CATEGORIES:Odpady zmieszane
LOCATION:SEKTOR III: JÓZEFOSŁAW ul. Geodetów (od nr 1 do nr 9), Mieczykow, Ottawy, PIASECZNO ul. Agatowa do ul. Turkusowa JÓZEFOSŁAW\, PIASECZNO, MAZOWIECKIE
ORGANIZER;CN=WGO Gminy Piaseczno:MAILTO:go@piaseczno.eu
DESCRIPTION: Odbiór odpadów 
URL;VALUE=URI:https://odpady.piaseczno.eu/harmonogram-odbioru-odpadow/odbior/sektor-iii-jozefoslaw-ul-geodetow-od-nr-1-do-nr-21-mieczykow-sloneczny-sad-piaseczno-od-ul-agatowa-do-ul-zielony-sad-odpady-zmieszane/
SUMMARY:SEKTOR III: JÓZEFOSŁAW ul. Geodetów (od nr 1 do nr 9)\, Mieczyków\, PIASECZNO od ul. Agatowa do ul. Turkusowa
END:VEVENT
BEGIN:VEVENT
DTSTART:20260625T060000Z
DTEND:20260625T190000Z
DTSTAMP:20260422T044637Z
UID:69e852adbe640
CATEGORIES:Odpady zmieszane
LOCATION:SEKTOR III: JÓZEFOSŁAW ul. Geodetów (od nr 1 do nr 9), Mieczykow, Ottawy, PIASECZNO ul. Agatowa do ul. Turkusowa JÓZEFOSŁAW\, PIASECZNO, MAZOWIECKIE
ORGANIZER;CN=WGO Gminy Piaseczno:MAILTO:go@piaseczno.eu
DESCRIPTION: Odbiór odpadów 
URL;VALUE=URI:https://odpady.piaseczno.eu/harmonogram-odbioru-odpadow/odbior/sektor-iii-jozefoslaw-ul-geodetow-od-nr-1-do-nr-21-mieczykow-sloneczny-sad-piaseczno-od-ul-agatowa-do-ul-zielony-sad-odpady-zmieszane/
SUMMARY:SEKTOR III: JÓZEFOSŁAW ul. Geodetów (od nr 1 do nr 9)\, Mieczyków\, PIASECZNO od ul. Agatowa do ul. Turkusowa
END:VEVENT
BEGIN:VEVENT
DTSTART:20260702T060000Z
DTEND:20260702T190000Z
DTSTAMP:20260422T044637Z
UID:69e852adbe65e
CATEGORIES:Odpady zmieszane
LOCATION:SEKTOR III: JÓZEFOSŁAW ul. Geodetów (od nr 1 do nr 9), Mieczykow, Ottawy, PIASECZNO ul. Agatowa do ul. Turkusowa JÓZEFOSŁAW\, PIASECZNO, MAZOWIECKIE
ORGANIZER;CN=WGO Gminy Piaseczno:MAILTO:go@piaseczno.eu
DESCRIPTION: Odbiór odpadów 
URL;VALUE=URI:https://odpady.piaseczno.eu/harmonogram-odbioru-odpadow/odbior/sektor-iii-jozefoslaw-ul-geodetow-od-nr-1-do-nr-21-mieczykow-sloneczny-sad-piaseczno-od-ul-agatowa-do-ul-zielony-sad-odpady-zmieszane/
SUMMARY:SEKTOR III: JÓZEFOSŁAW ul. Geodetów (od nr 1 do nr 9)\, Mieczyków\, PIASECZNO od ul. Agatowa do ul. Turkusowa
END:VEVENT
BEGIN:VEVENT
DTSTART:20260709T060000Z
DTEND:20260709T190000Z
DTSTAMP:20260422T044637Z
UID:69e852adbe678
CATEGORIES:Odpady zmieszane
LOCATION:SEKTOR III: JÓZEFOSŁAW ul. Geodetów (od nr 1 do nr 9), Mieczykow, Ottawy, PIASECZNO ul. Agatowa do ul. Turkusowa JÓZEFOSŁAW\, PIASECZNO, MAZOWIECKIE
ORGANIZER;CN=WGO Gminy Piaseczno:MAILTO:go@piaseczno.eu
DESCRIPTION: Odbiór odpadów 
URL;VALUE=URI:https://odpady.piaseczno.eu/harmonogram-odbioru-odpadow/odbior/sektor-iii-jozefoslaw-ul-geodetow-od-nr-1-do-nr-21-mieczykow-sloneczny-sad-piaseczno-od-ul-agatowa-do-ul-zielony-sad-odpady-zmieszane/
SUMMARY:SEKTOR III: JÓZEFOSŁAW ul. Geodetów (od nr 1 do nr 9)\, Mieczyków\, PIASECZNO od ul. Agatowa do ul. Turkusowa
END:VEVENT
BEGIN:VEVENT
DTSTART:20260716T060000Z
DTEND:20260716T190000Z
DTSTAMP:20260422T044637Z
UID:69e852adbe692
CATEGORIES:Odpady zmieszane
LOCATION:SEKTOR III: JÓZEFOSŁAW ul. Geodetów (od nr 1 do nr 9), Mieczykow, Ottawy, PIASECZNO ul. Agatowa do ul. Turkusowa JÓZEFOSŁAW\, PIASECZNO, MAZOWIECKIE
ORGANIZER;CN=WGO Gminy Piaseczno:MAILTO:go@piaseczno.eu
DESCRIPTION: Odbiór odpadów 
URL;VALUE=URI:https://odpady.piaseczno.eu/harmonogram-odbioru-odpadow/odbior/sektor-iii-jozefoslaw-ul-geodetow-od-nr-1-do-nr-21-mieczykow-sloneczny-sad-piaseczno-od-ul-agatowa-do-ul-zielony-sad-odpady-zmieszane/
SUMMARY:SEKTOR III: JÓZEFOSŁAW ul. Geodetów (od nr 1 do nr 9)\, Mieczyków\, PIASECZNO od ul. Agatowa do ul. Turkusowa
END:VEVENT
BEGIN:VEVENT
DTSTART:20260723T060000Z
DTEND:20260723T190000Z
DTSTAMP:20260422T044637Z
UID:69e852adbe6ad
CATEGORIES:Odpady zmieszane
LOCATION:SEKTOR III: JÓZEFOSŁAW ul. Geodetów (od nr 1 do nr 9), Mieczykow, Ottawy, PIASECZNO ul. Agatowa do ul. Turkusowa JÓZEFOSŁAW\, PIASECZNO, MAZOWIECKIE
ORGANIZER;CN=WGO Gminy Piaseczno:MAILTO:go@piaseczno.eu
DESCRIPTION: Odbiór odpadów 
URL;VALUE=URI:https://odpady.piaseczno.eu/harmonogram-odbioru-odpadow/odbior/sektor-iii-jozefoslaw-ul-geodetow-od-nr-1-do-nr-21-mieczykow-sloneczny-sad-piaseczno-od-ul-agatowa-do-ul-zielony-sad-odpady-zmieszane/
SUMMARY:SEKTOR III: JÓZEFOSŁAW ul. Geodetów (od nr 1 do nr 9)\, Mieczyków\, PIASECZNO od ul. Agatowa do ul. Turkusowa
END:VEVENT
BEGIN:VEVENT
DTSTART:20260730T060000Z
DTEND:20260730T190000Z
DTSTAMP:20260422T044637Z
UID:69e852adbe6c7
CATEGORIES:Odpady zmieszane
LOCATION:SEKTOR III: JÓZEFOSŁAW ul. Geodetów (od nr 1 do nr 9), Mieczykow, Ottawy, PIASECZNO ul. Agatowa do ul. Turkusowa JÓZEFOSŁAW\, PIASECZNO, MAZOWIECKIE
ORGANIZER;CN=WGO Gminy Piaseczno:MAILTO:go@piaseczno.eu
DESCRIPTION: Odbiór odpadów 
URL;VALUE=URI:https://odpady.piaseczno.eu/harmonogram-odbioru-odpadow/odbior/sektor-iii-jozefoslaw-ul-geodetow-od-nr-1-do-nr-21-mieczykow-sloneczny-sad-piaseczno-od-ul-agatowa-do-ul-zielony-sad-odpady-zmieszane/
SUMMARY:SEKTOR III: JÓZEFOSŁAW ul. Geodetów (od nr 1 do nr 9)\, Mieczyków\, PIASECZNO od ul. Agatowa do ul. Turkusowa
END:VEVENT
BEGIN:VEVENT
DTSTART:20260806T060000Z
DTEND:20260806T190000Z
DTSTAMP:20260422T044637Z
UID:69e852adbe6e1
CATEGORIES:Odpady zmieszane
LOCATION:SEKTOR III: JÓZEFOSŁAW ul. Geodetów (od nr 1 do nr 9), Mieczykow, Ottawy, PIASECZNO ul. Agatowa do ul. Turkusowa JÓZEFOSŁAW\, PIASECZNO, MAZOWIECKIE
ORGANIZER;CN=WGO Gminy Piaseczno:MAILTO:go@piaseczno.eu
DESCRIPTION: Odbiór odpadów 
URL;VALUE=URI:https://odpady.piaseczno.eu/harmonogram-odbioru-odpadow/odbior/sektor-iii-jozefoslaw-ul-geodetow-od-nr-1-do-nr-21-mieczykow-sloneczny-sad-piaseczno-od-ul-agatowa-do-ul-zielony-sad-odpady-zmieszane/
SUMMARY:SEKTOR III: JÓZEFOSŁAW ul. Geodetów (od nr 1 do nr 9)\, Mieczyków\, PIASECZNO od ul. Agatowa do ul. Turkusowa
END:VEVENT
BEGIN:VEVENT
DTSTART:20260813T060000Z
DTEND:20260813T190000Z
DTSTAMP:20260422T044637Z
UID:69e852adbe6fe
CATEGORIES:Odpady zmieszane
LOCATION:SEKTOR III: JÓZEFOSŁAW ul. Geodetów (od nr 1 do nr 9), Mieczykow, Ottawy, PIASECZNO ul. Agatowa do ul. Turkusowa JÓZEFOSŁAW\, PIASECZNO, MAZOWIECKIE
ORGANIZER;CN=WGO Gminy Piaseczno:MAILTO:go@piaseczno.eu
DESCRIPTION: Odbiór odpadów 
URL;VALUE=URI:https://odpady.piaseczno.eu/harmonogram-odbioru-odpadow/odbior/sektor-iii-jozefoslaw-ul-geodetow-od-nr-1-do-nr-21-mieczykow-sloneczny-sad-piaseczno-od-ul-agatowa-do-ul-zielony-sad-odpady-zmieszane/
SUMMARY:SEKTOR III: JÓZEFOSŁAW ul. Geodetów (od nr 1 do nr 9)\, Mieczyków\, PIASECZNO od ul. Agatowa do ul. Turkusowa
END:VEVENT
BEGIN:VEVENT
DTSTART:20260820T060000Z
DTEND:20260820T190000Z
DTSTAMP:20260422T044637Z
UID:69e852adbe718
CATEGORIES:Odpady zmieszane
LOCATION:SEKTOR III: JÓZEFOSŁAW ul. Geodetów (od nr 1 do nr 9), Mieczykow, Ottawy, PIASECZNO ul. Agatowa do ul. Turkusowa JÓZEFOSŁAW\, PIASECZNO, MAZOWIECKIE
ORGANIZER;CN=WGO Gminy Piaseczno:MAILTO:go@piaseczno.eu
DESCRIPTION: Odbiór odpadów 
URL;VALUE=URI:https://odpady.piaseczno.eu/harmonogram-odbioru-odpadow/odbior/sektor-iii-jozefoslaw-ul-geodetow-od-nr-1-do-nr-21-mieczykow-sloneczny-sad-piaseczno-od-ul-agatowa-do-ul-zielony-sad-odpady-zmieszane/
SUMMARY:SEKTOR III: JÓZEFOSŁAW ul. Geodetów (od nr 1 do nr 9)\, Mieczyków\, PIASECZNO od ul. Agatowa do ul. Turkusowa
END:VEVENT
BEGIN:VEVENT
DTSTART:20260827T060000Z
DTEND:20260827T190000Z
DTSTAMP:20260422T044637Z
UID:69e852adbe732
CATEGORIES:Odpady zmieszane
LOCATION:SEKTOR III: JÓZEFOSŁAW ul. Geodetów (od nr 1 do nr 9), Mieczykow, Ottawy, PIASECZNO ul. Agatowa do ul. Turkusowa JÓZEFOSŁAW\, PIASECZNO, MAZOWIECKIE
ORGANIZER;CN=WGO Gminy Piaseczno:MAILTO:go@piaseczno.eu
DESCRIPTION: Odbiór odpadów 
URL;VALUE=URI:https://odpady.piaseczno.eu/harmonogram-odbioru-odpadow/odbior/sektor-iii-jozefoslaw-ul-geodetow-od-nr-1-do-nr-21-mieczykow-sloneczny-sad-piaseczno-od-ul-agatowa-do-ul-zielony-sad-odpady-zmieszane/
SUMMARY:SEKTOR III: JÓZEFOSŁAW ul. Geodetów (od nr 1 do nr 9)\, Mieczyków\, PIASECZNO od ul. Agatowa do ul. Turkusowa
END:VEVENT
BEGIN:VEVENT
DTSTART:20260903T060000Z
DTEND:20260903T190000Z
DTSTAMP:20260422T044637Z
UID:69e852adbe74d
CATEGORIES:Odpady zmieszane
LOCATION:SEKTOR III: JÓZEFOSŁAW ul. Geodetów (od nr 1 do nr 9), Mieczykow, Ottawy, PIASECZNO ul. Agatowa do ul. Turkusowa JÓZEFOSŁAW\, PIASECZNO, MAZOWIECKIE
ORGANIZER;CN=WGO Gminy Piaseczno:MAILTO:go@piaseczno.eu
DESCRIPTION: Odbiór odpadów 
URL;VALUE=URI:https://odpady.piaseczno.eu/harmonogram-odbioru-odpadow/odbior/sektor-iii-jozefoslaw-ul-geodetow-od-nr-1-do-nr-21-mieczykow-sloneczny-sad-piaseczno-od-ul-agatowa-do-ul-zielony-sad-odpady-zmieszane/
SUMMARY:SEKTOR III: JÓZEFOSŁAW ul. Geodetów (od nr 1 do nr 9)\, Mieczyków\, PIASECZNO od ul. Agatowa do ul. Turkusowa
END:VEVENT
BEGIN:VEVENT
DTSTART:20260917T060000Z
DTEND:20260917T190000Z
DTSTAMP:20260422T044637Z
UID:69e852adbe766
CATEGORIES:Odpady zmieszane
LOCATION:SEKTOR III: JÓZEFOSŁAW ul. Geodetów (od nr 1 do nr 9), Mieczykow, Ottawy, PIASECZNO ul. Agatowa do ul. Turkusowa JÓZEFOSŁAW\, PIASECZNO, MAZOWIECKIE
ORGANIZER;CN=WGO Gminy Piaseczno:MAILTO:go@piaseczno.eu
DESCRIPTION: Odbiór odpadów 
URL;VALUE=URI:https://odpady.piaseczno.eu/harmonogram-odbioru-odpadow/odbior/sektor-iii-jozefoslaw-ul-geodetow-od-nr-1-do-nr-21-mieczykow-sloneczny-sad-piaseczno-od-ul-agatowa-do-ul-zielony-sad-odpady-zmieszane/
SUMMARY:SEKTOR III: JÓZEFOSŁAW ul. Geodetów (od nr 1 do nr 9)\, Mieczyków\, PIASECZNO od ul. Agatowa do ul. Turkusowa
END:VEVENT
BEGIN:VEVENT
DTSTART:20261001T060000Z
DTEND:20261001T190000Z
DTSTAMP:20260422T044637Z
UID:69e852adbe78a
CATEGORIES:Odpady zmieszane
LOCATION:SEKTOR III: JÓZEFOSŁAW ul. Geodetów (od nr 1 do nr 9), Mieczykow, Ottawy, PIASECZNO ul. Agatowa do ul. Turkusowa JÓZEFOSŁAW\, PIASECZNO, MAZOWIECKIE
ORGANIZER;CN=WGO Gminy Piaseczno:MAILTO:go@piaseczno.eu
DESCRIPTION: Odbiór odpadów 
URL;VALUE=URI:https://odpady.piaseczno.eu/harmonogram-odbioru-odpadow/odbior/sektor-iii-jozefoslaw-ul-geodetow-od-nr-1-do-nr-21-mieczykow-sloneczny-sad-piaseczno-od-ul-agatowa-do-ul-zielony-sad-odpady-zmieszane/
SUMMARY:SEKTOR III: JÓZEFOSŁAW ul. Geodetów (od nr 1 do nr 9)\, Mieczyków\, PIASECZNO od ul. Agatowa do ul. Turkusowa
END:VEVENT
BEGIN:VEVENT
DTSTART:20261015T060000Z
DTEND:20261015T190000Z
DTSTAMP:20260422T044637Z
UID:69e852adbe7ba
CATEGORIES:Odpady zmieszane
LOCATION:SEKTOR III: JÓZEFOSŁAW ul. Geodetów (od nr 1 do nr 9), Mieczykow, Ottawy, PIASECZNO ul. Agatowa do ul. Turkusowa JÓZEFOSŁAW\, PIASECZNO, MAZOWIECKIE
ORGANIZER;CN=WGO Gminy Piaseczno:MAILTO:go@piaseczno.eu
DESCRIPTION: Odbiór odpadów 
URL;VALUE=URI:https://odpady.piaseczno.eu/harmonogram-odbioru-odpadow/odbior/sektor-iii-jozefoslaw-ul-geodetow-od-nr-1-do-nr-21-mieczykow-sloneczny-sad-piaseczno-od-ul-agatowa-do-ul-zielony-sad-odpady-zmieszane/
SUMMARY:SEKTOR III: JÓZEFOSŁAW ul. Geodetów (od nr 1 do nr 9)\, Mieczyków\, PIASECZNO od ul. Agatowa do ul. Turkusowa
END:VEVENT
BEGIN:VEVENT
DTSTART:20261029T060000Z
DTEND:20261029T190000Z
DTSTAMP:20260422T044637Z
UID:69e852adbe7db
CATEGORIES:Odpady zmieszane
LOCATION:SEKTOR III: JÓZEFOSŁAW ul. Geodetów (od nr 1 do nr 9), Mieczykow, Ottawy, PIASECZNO ul. Agatowa do ul. Turkusowa JÓZEFOSŁAW\, PIASECZNO, MAZOWIECKIE
ORGANIZER;CN=WGO Gminy Piaseczno:MAILTO:go@piaseczno.eu
DESCRIPTION: Odbiór odpadów 
URL;VALUE=URI:https://odpady.piaseczno.eu/harmonogram-odbioru-odpadow/odbior/sektor-iii-jozefoslaw-ul-geodetow-od-nr-1-do-nr-21-mieczykow-sloneczny-sad-piaseczno-od-ul-agatowa-do-ul-zielony-sad-odpady-zmieszane/
SUMMARY:SEKTOR III: JÓZEFOSŁAW ul. Geodetów (od nr 1 do nr 9)\, Mieczyków\, PIASECZNO od ul. Agatowa do ul. Turkusowa
END:VEVENT
BEGIN:VEVENT
DTSTART:20261112T060000Z
DTEND:20261112T190000Z
DTSTAMP:20260422T044637Z
UID:69e852adbe7f5
CATEGORIES:Odpady zmieszane
LOCATION:SEKTOR III: JÓZEFOSŁAW ul. Geodetów (od nr 1 do nr 9), Mieczykow, Ottawy, PIASECZNO ul. Agatowa do ul. Turkusowa JÓZEFOSŁAW\, PIASECZNO, MAZOWIECKIE
ORGANIZER;CN=WGO Gminy Piaseczno:MAILTO:go@piaseczno.eu
DESCRIPTION: Odbiór odpadów 
URL;VALUE=URI:https://odpady.piaseczno.eu/harmonogram-odbioru-odpadow/odbior/sektor-iii-jozefoslaw-ul-geodetow-od-nr-1-do-nr-21-mieczykow-sloneczny-sad-piaseczno-od-ul-agatowa-do-ul-zielony-sad-odpady-zmieszane/
SUMMARY:SEKTOR III: JÓZEFOSŁAW ul. Geodetów (od nr 1 do nr 9)\, Mieczyków\, PIASECZNO od ul. Agatowa do ul. Turkusowa
END:VEVENT
BEGIN:VEVENT
DTSTART:20261126T060000Z
DTEND:20261126T190000Z
DTSTAMP:20260422T044637Z
UID:69e852adbe810
CATEGORIES:Odpady zmieszane
LOCATION:SEKTOR III: JÓZEFOSŁAW ul. Geodetów (od nr 1 do nr 9), Mieczykow, Ottawy, PIASECZNO ul. Agatowa do ul. Turkusowa JÓZEFOSŁAW\, PIASECZNO, MAZOWIECKIE
ORGANIZER;CN=WGO Gminy Piaseczno:MAILTO:go@piaseczno.eu
DESCRIPTION: Odbiór odpadów 
URL;VALUE=URI:https://odpady.piaseczno.eu/harmonogram-odbioru-odpadow/odbior/sektor-iii-jozefoslaw-ul-geodetow-od-nr-1-do-nr-21-mieczykow-sloneczny-sad-piaseczno-od-ul-agatowa-do-ul-zielony-sad-odpady-zmieszane/
SUMMARY:SEKTOR III: JÓZEFOSŁAW ul. Geodetów (od nr 1 do nr 9)\, Mieczyków\, PIASECZNO od ul. Agatowa do ul. Turkusowa
END:VEVENT
END:VCALENDAR
