BEGIN:VCALENDAR
VERSION:2.0
PRODID:-//DIGITAL FACTORY//EVENTS MAKER V1.6.12//EN
CALSCALE:GREGORIAN
METHOD:PUBLISH
BEGIN:VEVENT
DTSTART:20251204T060000Z
DTEND:20251204T190000Z
DTSTAMP:20260424T084520Z
UID:69eb2da0f34d0
CATEGORIES:odpady bio ogrodowe i kuchenne
LOCATION:SEKTOR III: JÓZEFOSŁAW ul. Geodetów (od nr 1 do nr 9), Mieczykow, Ottawy, PIASECZNO ul. Agatowa do ul. Turkusowa JÓZEFOSŁAW\, PIASECZNO, MAZOWIECKIE
ORGANIZER;CN=WGO Gminy Piaseczno:MAILTO:go@piaseczno.eu
DESCRIPTION: Odbiór odpadów 
URL;VALUE=URI:https://odpady.piaseczno.eu/harmonogram-odbioru-odpadow/odbior/sektor-iii-jozefoslaw-ul-geodetow-od-nr-1-do-nr-21-mieczykow-sloneczny-sad-piaseczno-od-ul-agatowa-do-ul-zielony-sad-odpady-bio-ogrodowe-i-bio-kuchenne/
SUMMARY:SEKTOR III: JÓZEFOSŁAW ul. Geodetów (od nr 1 do nr 9)\, Mieczyków\, PIASECZNO od ul. Agatowa do ul. Turkusowa
END:VEVENT
BEGIN:VEVENT
DTSTART:20251218T060000Z
DTEND:20251218T190000Z
DTSTAMP:20260424T084520Z
UID:69eb2da0f3575
CATEGORIES:odpady bio ogrodowe i kuchenne
LOCATION:SEKTOR III: JÓZEFOSŁAW ul. Geodetów (od nr 1 do nr 9), Mieczykow, Ottawy, PIASECZNO ul. Agatowa do ul. Turkusowa JÓZEFOSŁAW\, PIASECZNO, MAZOWIECKIE
ORGANIZER;CN=WGO Gminy Piaseczno:MAILTO:go@piaseczno.eu
DESCRIPTION: Odbiór odpadów 
URL;VALUE=URI:https://odpady.piaseczno.eu/harmonogram-odbioru-odpadow/odbior/sektor-iii-jozefoslaw-ul-geodetow-od-nr-1-do-nr-21-mieczykow-sloneczny-sad-piaseczno-od-ul-agatowa-do-ul-zielony-sad-odpady-bio-ogrodowe-i-bio-kuchenne/
SUMMARY:SEKTOR III: JÓZEFOSŁAW ul. Geodetów (od nr 1 do nr 9)\, Mieczyków\, PIASECZNO od ul. Agatowa do ul. Turkusowa
END:VEVENT
BEGIN:VEVENT
DTSTART:20260103T060000Z
DTEND:20260103T190000Z
DTSTAMP:20260424T084520Z
UID:69eb2da0f35a1
CATEGORIES:odpady bio ogrodowe i kuchenne
LOCATION:SEKTOR III: JÓZEFOSŁAW ul. Geodetów (od nr 1 do nr 9), Mieczykow, Ottawy, PIASECZNO ul. Agatowa do ul. Turkusowa JÓZEFOSŁAW\, PIASECZNO, MAZOWIECKIE
ORGANIZER;CN=WGO Gminy Piaseczno:MAILTO:go@piaseczno.eu
DESCRIPTION: Odbiór odpadów 
URL;VALUE=URI:https://odpady.piaseczno.eu/harmonogram-odbioru-odpadow/odbior/sektor-iii-jozefoslaw-ul-geodetow-od-nr-1-do-nr-21-mieczykow-sloneczny-sad-piaseczno-od-ul-agatowa-do-ul-zielony-sad-odpady-bio-ogrodowe-i-bio-kuchenne/
SUMMARY:SEKTOR III: JÓZEFOSŁAW ul. Geodetów (od nr 1 do nr 9)\, Mieczyków\, PIASECZNO od ul. Agatowa do ul. Turkusowa
END:VEVENT
BEGIN:VEVENT
DTSTART:20260115T060000Z
DTEND:20260115T190000Z
DTSTAMP:20260424T084520Z
UID:69eb2da0f35cd
CATEGORIES:odpady bio ogrodowe i kuchenne
LOCATION:SEKTOR III: JÓZEFOSŁAW ul. Geodetów (od nr 1 do nr 9), Mieczykow, Ottawy, PIASECZNO ul. Agatowa do ul. Turkusowa JÓZEFOSŁAW\, PIASECZNO, MAZOWIECKIE
ORGANIZER;CN=WGO Gminy Piaseczno:MAILTO:go@piaseczno.eu
DESCRIPTION: Odbiór odpadów 
URL;VALUE=URI:https://odpady.piaseczno.eu/harmonogram-odbioru-odpadow/odbior/sektor-iii-jozefoslaw-ul-geodetow-od-nr-1-do-nr-21-mieczykow-sloneczny-sad-piaseczno-od-ul-agatowa-do-ul-zielony-sad-odpady-bio-ogrodowe-i-bio-kuchenne/
SUMMARY:SEKTOR III: JÓZEFOSŁAW ul. Geodetów (od nr 1 do nr 9)\, Mieczyków\, PIASECZNO od ul. Agatowa do ul. Turkusowa
END:VEVENT
BEGIN:VEVENT
DTSTART:20260129T060000Z
DTEND:20260129T190000Z
DTSTAMP:20260424T084520Z
UID:69eb2da0f35ee
CATEGORIES:odpady bio ogrodowe i kuchenne
LOCATION:SEKTOR III: JÓZEFOSŁAW ul. Geodetów (od nr 1 do nr 9), Mieczykow, Ottawy, PIASECZNO ul. Agatowa do ul. Turkusowa JÓZEFOSŁAW\, PIASECZNO, MAZOWIECKIE
ORGANIZER;CN=WGO Gminy Piaseczno:MAILTO:go@piaseczno.eu
DESCRIPTION: Odbiór odpadów 
URL;VALUE=URI:https://odpady.piaseczno.eu/harmonogram-odbioru-odpadow/odbior/sektor-iii-jozefoslaw-ul-geodetow-od-nr-1-do-nr-21-mieczykow-sloneczny-sad-piaseczno-od-ul-agatowa-do-ul-zielony-sad-odpady-bio-ogrodowe-i-bio-kuchenne/
SUMMARY:SEKTOR III: JÓZEFOSŁAW ul. Geodetów (od nr 1 do nr 9)\, Mieczyków\, PIASECZNO od ul. Agatowa do ul. Turkusowa
END:VEVENT
BEGIN:VEVENT
DTSTART:20260212T060000Z
DTEND:20260212T190000Z
DTSTAMP:20260424T084520Z
UID:69eb2da0f360c
CATEGORIES:odpady bio ogrodowe i kuchenne
LOCATION:SEKTOR III: JÓZEFOSŁAW ul. Geodetów (od nr 1 do nr 9), Mieczykow, Ottawy, PIASECZNO ul. Agatowa do ul. Turkusowa JÓZEFOSŁAW\, PIASECZNO, MAZOWIECKIE
ORGANIZER;CN=WGO Gminy Piaseczno:MAILTO:go@piaseczno.eu
DESCRIPTION: Odbiór odpadów 
URL;VALUE=URI:https://odpady.piaseczno.eu/harmonogram-odbioru-odpadow/odbior/sektor-iii-jozefoslaw-ul-geodetow-od-nr-1-do-nr-21-mieczykow-sloneczny-sad-piaseczno-od-ul-agatowa-do-ul-zielony-sad-odpady-bio-ogrodowe-i-bio-kuchenne/
SUMMARY:SEKTOR III: JÓZEFOSŁAW ul. Geodetów (od nr 1 do nr 9)\, Mieczyków\, PIASECZNO od ul. Agatowa do ul. Turkusowa
END:VEVENT
BEGIN:VEVENT
DTSTART:20260226T060000Z
DTEND:20260226T190000Z
DTSTAMP:20260424T084520Z
UID:69eb2da0f362e
CATEGORIES:odpady bio ogrodowe i kuchenne
LOCATION:SEKTOR III: JÓZEFOSŁAW ul. Geodetów (od nr 1 do nr 9), Mieczykow, Ottawy, PIASECZNO ul. Agatowa do ul. Turkusowa JÓZEFOSŁAW\, PIASECZNO, MAZOWIECKIE
ORGANIZER;CN=WGO Gminy Piaseczno:MAILTO:go@piaseczno.eu
DESCRIPTION: Odbiór odpadów 
URL;VALUE=URI:https://odpady.piaseczno.eu/harmonogram-odbioru-odpadow/odbior/sektor-iii-jozefoslaw-ul-geodetow-od-nr-1-do-nr-21-mieczykow-sloneczny-sad-piaseczno-od-ul-agatowa-do-ul-zielony-sad-odpady-bio-ogrodowe-i-bio-kuchenne/
SUMMARY:SEKTOR III: JÓZEFOSŁAW ul. Geodetów (od nr 1 do nr 9)\, Mieczyków\, PIASECZNO od ul. Agatowa do ul. Turkusowa
END:VEVENT
BEGIN:VEVENT
DTSTART:20260312T060000Z
DTEND:20260312T190000Z
DTSTAMP:20260424T084520Z
UID:69eb2da0f364a
CATEGORIES:odpady bio ogrodowe i kuchenne
LOCATION:SEKTOR III: JÓZEFOSŁAW ul. Geodetów (od nr 1 do nr 9), Mieczykow, Ottawy, PIASECZNO ul. Agatowa do ul. Turkusowa JÓZEFOSŁAW\, PIASECZNO, MAZOWIECKIE
ORGANIZER;CN=WGO Gminy Piaseczno:MAILTO:go@piaseczno.eu
DESCRIPTION: Odbiór odpadów 
URL;VALUE=URI:https://odpady.piaseczno.eu/harmonogram-odbioru-odpadow/odbior/sektor-iii-jozefoslaw-ul-geodetow-od-nr-1-do-nr-21-mieczykow-sloneczny-sad-piaseczno-od-ul-agatowa-do-ul-zielony-sad-odpady-bio-ogrodowe-i-bio-kuchenne/
SUMMARY:SEKTOR III: JÓZEFOSŁAW ul. Geodetów (od nr 1 do nr 9)\, Mieczyków\, PIASECZNO od ul. Agatowa do ul. Turkusowa
END:VEVENT
BEGIN:VEVENT
DTSTART:20260326T060000Z
DTEND:20260326T190000Z
DTSTAMP:20260424T084520Z
UID:69eb2da0f3690
CATEGORIES:odpady bio ogrodowe i kuchenne
LOCATION:SEKTOR III: JÓZEFOSŁAW ul. Geodetów (od nr 1 do nr 9), Mieczykow, Ottawy, PIASECZNO ul. Agatowa do ul. Turkusowa JÓZEFOSŁAW\, PIASECZNO, MAZOWIECKIE
ORGANIZER;CN=WGO Gminy Piaseczno:MAILTO:go@piaseczno.eu
DESCRIPTION: Odbiór odpadów 
URL;VALUE=URI:https://odpady.piaseczno.eu/harmonogram-odbioru-odpadow/odbior/sektor-iii-jozefoslaw-ul-geodetow-od-nr-1-do-nr-21-mieczykow-sloneczny-sad-piaseczno-od-ul-agatowa-do-ul-zielony-sad-odpady-bio-ogrodowe-i-bio-kuchenne/
SUMMARY:SEKTOR III: JÓZEFOSŁAW ul. Geodetów (od nr 1 do nr 9)\, Mieczyków\, PIASECZNO od ul. Agatowa do ul. Turkusowa
END:VEVENT
BEGIN:VEVENT
DTSTART:20260409T060000Z
DTEND:20260409T190000Z
DTSTAMP:20260424T084520Z
UID:69eb2da0f36ac
CATEGORIES:odpady bio ogrodowe i kuchenne
LOCATION:SEKTOR III: JÓZEFOSŁAW ul. Geodetów (od nr 1 do nr 9), Mieczykow, Ottawy, PIASECZNO ul. Agatowa do ul. Turkusowa JÓZEFOSŁAW\, PIASECZNO, MAZOWIECKIE
ORGANIZER;CN=WGO Gminy Piaseczno:MAILTO:go@piaseczno.eu
DESCRIPTION: Odbiór odpadów 
URL;VALUE=URI:https://odpady.piaseczno.eu/harmonogram-odbioru-odpadow/odbior/sektor-iii-jozefoslaw-ul-geodetow-od-nr-1-do-nr-21-mieczykow-sloneczny-sad-piaseczno-od-ul-agatowa-do-ul-zielony-sad-odpady-bio-ogrodowe-i-bio-kuchenne/
SUMMARY:SEKTOR III: JÓZEFOSŁAW ul. Geodetów (od nr 1 do nr 9)\, Mieczyków\, PIASECZNO od ul. Agatowa do ul. Turkusowa
END:VEVENT
BEGIN:VEVENT
DTSTART:20260423T060000Z
DTEND:20260423T190000Z
DTSTAMP:20260424T084520Z
UID:69eb2da0f36d5
CATEGORIES:odpady bio ogrodowe i kuchenne
LOCATION:SEKTOR III: JÓZEFOSŁAW ul. Geodetów (od nr 1 do nr 9), Mieczykow, Ottawy, PIASECZNO ul. Agatowa do ul. Turkusowa JÓZEFOSŁAW\, PIASECZNO, MAZOWIECKIE
ORGANIZER;CN=WGO Gminy Piaseczno:MAILTO:go@piaseczno.eu
DESCRIPTION: Odbiór odpadów 
URL;VALUE=URI:https://odpady.piaseczno.eu/harmonogram-odbioru-odpadow/odbior/sektor-iii-jozefoslaw-ul-geodetow-od-nr-1-do-nr-21-mieczykow-sloneczny-sad-piaseczno-od-ul-agatowa-do-ul-zielony-sad-odpady-bio-ogrodowe-i-bio-kuchenne/
SUMMARY:SEKTOR III: JÓZEFOSŁAW ul. Geodetów (od nr 1 do nr 9)\, Mieczyków\, PIASECZNO od ul. Agatowa do ul. Turkusowa
END:VEVENT
BEGIN:VEVENT
DTSTART:20260507T060000Z
DTEND:20260507T190000Z
DTSTAMP:20260424T084520Z
UID:69eb2da0f3705
CATEGORIES:odpady bio ogrodowe i kuchenne
LOCATION:SEKTOR III: JÓZEFOSŁAW ul. Geodetów (od nr 1 do nr 9), Mieczykow, Ottawy, PIASECZNO ul. Agatowa do ul. Turkusowa JÓZEFOSŁAW\, PIASECZNO, MAZOWIECKIE
ORGANIZER;CN=WGO Gminy Piaseczno:MAILTO:go@piaseczno.eu
DESCRIPTION: Odbiór odpadów 
URL;VALUE=URI:https://odpady.piaseczno.eu/harmonogram-odbioru-odpadow/odbior/sektor-iii-jozefoslaw-ul-geodetow-od-nr-1-do-nr-21-mieczykow-sloneczny-sad-piaseczno-od-ul-agatowa-do-ul-zielony-sad-odpady-bio-ogrodowe-i-bio-kuchenne/
SUMMARY:SEKTOR III: JÓZEFOSŁAW ul. Geodetów (od nr 1 do nr 9)\, Mieczyków\, PIASECZNO od ul. Agatowa do ul. Turkusowa
END:VEVENT
BEGIN:VEVENT
DTSTART:20260521T060000Z
DTEND:20260521T190000Z
DTSTAMP:20260424T084520Z
UID:69eb2da0f3720
CATEGORIES:odpady bio ogrodowe i kuchenne
LOCATION:SEKTOR III: JÓZEFOSŁAW ul. Geodetów (od nr 1 do nr 9), Mieczykow, Ottawy, PIASECZNO ul. Agatowa do ul. Turkusowa JÓZEFOSŁAW\, PIASECZNO, MAZOWIECKIE
ORGANIZER;CN=WGO Gminy Piaseczno:MAILTO:go@piaseczno.eu
DESCRIPTION: Odbiór odpadów 
URL;VALUE=URI:https://odpady.piaseczno.eu/harmonogram-odbioru-odpadow/odbior/sektor-iii-jozefoslaw-ul-geodetow-od-nr-1-do-nr-21-mieczykow-sloneczny-sad-piaseczno-od-ul-agatowa-do-ul-zielony-sad-odpady-bio-ogrodowe-i-bio-kuchenne/
SUMMARY:SEKTOR III: JÓZEFOSŁAW ul. Geodetów (od nr 1 do nr 9)\, Mieczyków\, PIASECZNO od ul. Agatowa do ul. Turkusowa
END:VEVENT
BEGIN:VEVENT
DTSTART:20260606T060000Z
DTEND:20260606T190000Z
DTSTAMP:20260424T084520Z
UID:69eb2da0f373b
CATEGORIES:odpady bio ogrodowe i kuchenne
LOCATION:SEKTOR III: JÓZEFOSŁAW ul. Geodetów (od nr 1 do nr 9), Mieczykow, Ottawy, PIASECZNO ul. Agatowa do ul. Turkusowa JÓZEFOSŁAW\, PIASECZNO, MAZOWIECKIE
ORGANIZER;CN=WGO Gminy Piaseczno:MAILTO:go@piaseczno.eu
DESCRIPTION: Odbiór odpadów 
URL;VALUE=URI:https://odpady.piaseczno.eu/harmonogram-odbioru-odpadow/odbior/sektor-iii-jozefoslaw-ul-geodetow-od-nr-1-do-nr-21-mieczykow-sloneczny-sad-piaseczno-od-ul-agatowa-do-ul-zielony-sad-odpady-bio-ogrodowe-i-bio-kuchenne/
SUMMARY:SEKTOR III: JÓZEFOSŁAW ul. Geodetów (od nr 1 do nr 9)\, Mieczyków\, PIASECZNO od ul. Agatowa do ul. Turkusowa
END:VEVENT
BEGIN:VEVENT
DTSTART:20260618T060000Z
DTEND:20260618T190000Z
DTSTAMP:20260424T084520Z
UID:69eb2da0f3755
CATEGORIES:odpady bio ogrodowe i kuchenne
LOCATION:SEKTOR III: JÓZEFOSŁAW ul. Geodetów (od nr 1 do nr 9), Mieczykow, Ottawy, PIASECZNO ul. Agatowa do ul. Turkusowa JÓZEFOSŁAW\, PIASECZNO, MAZOWIECKIE
ORGANIZER;CN=WGO Gminy Piaseczno:MAILTO:go@piaseczno.eu
DESCRIPTION: Odbiór odpadów 
URL;VALUE=URI:https://odpady.piaseczno.eu/harmonogram-odbioru-odpadow/odbior/sektor-iii-jozefoslaw-ul-geodetow-od-nr-1-do-nr-21-mieczykow-sloneczny-sad-piaseczno-od-ul-agatowa-do-ul-zielony-sad-odpady-bio-ogrodowe-i-bio-kuchenne/
SUMMARY:SEKTOR III: JÓZEFOSŁAW ul. Geodetów (od nr 1 do nr 9)\, Mieczyków\, PIASECZNO od ul. Agatowa do ul. Turkusowa
END:VEVENT
BEGIN:VEVENT
DTSTART:20260702T060000Z
DTEND:20260702T190000Z
DTSTAMP:20260424T084520Z
UID:69eb2da0f3770
CATEGORIES:odpady bio ogrodowe i kuchenne
LOCATION:SEKTOR III: JÓZEFOSŁAW ul. Geodetów (od nr 1 do nr 9), Mieczykow, Ottawy, PIASECZNO ul. Agatowa do ul. Turkusowa JÓZEFOSŁAW\, PIASECZNO, MAZOWIECKIE
ORGANIZER;CN=WGO Gminy Piaseczno:MAILTO:go@piaseczno.eu
DESCRIPTION: Odbiór odpadów 
URL;VALUE=URI:https://odpady.piaseczno.eu/harmonogram-odbioru-odpadow/odbior/sektor-iii-jozefoslaw-ul-geodetow-od-nr-1-do-nr-21-mieczykow-sloneczny-sad-piaseczno-od-ul-agatowa-do-ul-zielony-sad-odpady-bio-ogrodowe-i-bio-kuchenne/
SUMMARY:SEKTOR III: JÓZEFOSŁAW ul. Geodetów (od nr 1 do nr 9)\, Mieczyków\, PIASECZNO od ul. Agatowa do ul. Turkusowa
END:VEVENT
BEGIN:VEVENT
DTSTART:20260716T060000Z
DTEND:20260716T190000Z
DTSTAMP:20260424T084520Z
UID:69eb2da0f378e
CATEGORIES:odpady bio ogrodowe i kuchenne
LOCATION:SEKTOR III: JÓZEFOSŁAW ul. Geodetów (od nr 1 do nr 9), Mieczykow, Ottawy, PIASECZNO ul. Agatowa do ul. Turkusowa JÓZEFOSŁAW\, PIASECZNO, MAZOWIECKIE
ORGANIZER;CN=WGO Gminy Piaseczno:MAILTO:go@piaseczno.eu
DESCRIPTION: Odbiór odpadów 
URL;VALUE=URI:https://odpady.piaseczno.eu/harmonogram-odbioru-odpadow/odbior/sektor-iii-jozefoslaw-ul-geodetow-od-nr-1-do-nr-21-mieczykow-sloneczny-sad-piaseczno-od-ul-agatowa-do-ul-zielony-sad-odpady-bio-ogrodowe-i-bio-kuchenne/
SUMMARY:SEKTOR III: JÓZEFOSŁAW ul. Geodetów (od nr 1 do nr 9)\, Mieczyków\, PIASECZNO od ul. Agatowa do ul. Turkusowa
END:VEVENT
BEGIN:VEVENT
DTSTART:20260730T060000Z
DTEND:20260730T190000Z
DTSTAMP:20260424T084520Z
UID:69eb2da0f37a9
CATEGORIES:odpady bio ogrodowe i kuchenne
LOCATION:SEKTOR III: JÓZEFOSŁAW ul. Geodetów (od nr 1 do nr 9), Mieczykow, Ottawy, PIASECZNO ul. Agatowa do ul. Turkusowa JÓZEFOSŁAW\, PIASECZNO, MAZOWIECKIE
ORGANIZER;CN=WGO Gminy Piaseczno:MAILTO:go@piaseczno.eu
DESCRIPTION: Odbiór odpadów 
URL;VALUE=URI:https://odpady.piaseczno.eu/harmonogram-odbioru-odpadow/odbior/sektor-iii-jozefoslaw-ul-geodetow-od-nr-1-do-nr-21-mieczykow-sloneczny-sad-piaseczno-od-ul-agatowa-do-ul-zielony-sad-odpady-bio-ogrodowe-i-bio-kuchenne/
SUMMARY:SEKTOR III: JÓZEFOSŁAW ul. Geodetów (od nr 1 do nr 9)\, Mieczyków\, PIASECZNO od ul. Agatowa do ul. Turkusowa
END:VEVENT
BEGIN:VEVENT
DTSTART:20260813T060000Z
DTEND:20260813T190000Z
DTSTAMP:20260424T084520Z
UID:69eb2da0f37c4
CATEGORIES:odpady bio ogrodowe i kuchenne
LOCATION:SEKTOR III: JÓZEFOSŁAW ul. Geodetów (od nr 1 do nr 9), Mieczykow, Ottawy, PIASECZNO ul. Agatowa do ul. Turkusowa JÓZEFOSŁAW\, PIASECZNO, MAZOWIECKIE
ORGANIZER;CN=WGO Gminy Piaseczno:MAILTO:go@piaseczno.eu
DESCRIPTION: Odbiór odpadów 
URL;VALUE=URI:https://odpady.piaseczno.eu/harmonogram-odbioru-odpadow/odbior/sektor-iii-jozefoslaw-ul-geodetow-od-nr-1-do-nr-21-mieczykow-sloneczny-sad-piaseczno-od-ul-agatowa-do-ul-zielony-sad-odpady-bio-ogrodowe-i-bio-kuchenne/
SUMMARY:SEKTOR III: JÓZEFOSŁAW ul. Geodetów (od nr 1 do nr 9)\, Mieczyków\, PIASECZNO od ul. Agatowa do ul. Turkusowa
END:VEVENT
BEGIN:VEVENT
DTSTART:20260827T060000Z
DTEND:20260827T190000Z
DTSTAMP:20260424T084520Z
UID:69eb2da0f37de
CATEGORIES:odpady bio ogrodowe i kuchenne
LOCATION:SEKTOR III: JÓZEFOSŁAW ul. Geodetów (od nr 1 do nr 9), Mieczykow, Ottawy, PIASECZNO ul. Agatowa do ul. Turkusowa JÓZEFOSŁAW\, PIASECZNO, MAZOWIECKIE
ORGANIZER;CN=WGO Gminy Piaseczno:MAILTO:go@piaseczno.eu
DESCRIPTION: Odbiór odpadów 
URL;VALUE=URI:https://odpady.piaseczno.eu/harmonogram-odbioru-odpadow/odbior/sektor-iii-jozefoslaw-ul-geodetow-od-nr-1-do-nr-21-mieczykow-sloneczny-sad-piaseczno-od-ul-agatowa-do-ul-zielony-sad-odpady-bio-ogrodowe-i-bio-kuchenne/
SUMMARY:SEKTOR III: JÓZEFOSŁAW ul. Geodetów (od nr 1 do nr 9)\, Mieczyków\, PIASECZNO od ul. Agatowa do ul. Turkusowa
END:VEVENT
BEGIN:VEVENT
DTSTART:20260910T060000Z
DTEND:20260910T190000Z
DTSTAMP:20260424T084520Z
UID:69eb2da0f37f9
CATEGORIES:odpady bio ogrodowe i kuchenne
LOCATION:SEKTOR III: JÓZEFOSŁAW ul. Geodetów (od nr 1 do nr 9), Mieczykow, Ottawy, PIASECZNO ul. Agatowa do ul. Turkusowa JÓZEFOSŁAW\, PIASECZNO, MAZOWIECKIE
ORGANIZER;CN=WGO Gminy Piaseczno:MAILTO:go@piaseczno.eu
DESCRIPTION: Odbiór odpadów 
URL;VALUE=URI:https://odpady.piaseczno.eu/harmonogram-odbioru-odpadow/odbior/sektor-iii-jozefoslaw-ul-geodetow-od-nr-1-do-nr-21-mieczykow-sloneczny-sad-piaseczno-od-ul-agatowa-do-ul-zielony-sad-odpady-bio-ogrodowe-i-bio-kuchenne/
SUMMARY:SEKTOR III: JÓZEFOSŁAW ul. Geodetów (od nr 1 do nr 9)\, Mieczyków\, PIASECZNO od ul. Agatowa do ul. Turkusowa
END:VEVENT
BEGIN:VEVENT
DTSTART:20260924T060000Z
DTEND:20260924T190000Z
DTSTAMP:20260424T084520Z
UID:69eb2da0f3813
CATEGORIES:odpady bio ogrodowe i kuchenne
LOCATION:SEKTOR III: JÓZEFOSŁAW ul. Geodetów (od nr 1 do nr 9), Mieczykow, Ottawy, PIASECZNO ul. Agatowa do ul. Turkusowa JÓZEFOSŁAW\, PIASECZNO, MAZOWIECKIE
ORGANIZER;CN=WGO Gminy Piaseczno:MAILTO:go@piaseczno.eu
DESCRIPTION: Odbiór odpadów 
URL;VALUE=URI:https://odpady.piaseczno.eu/harmonogram-odbioru-odpadow/odbior/sektor-iii-jozefoslaw-ul-geodetow-od-nr-1-do-nr-21-mieczykow-sloneczny-sad-piaseczno-od-ul-agatowa-do-ul-zielony-sad-odpady-bio-ogrodowe-i-bio-kuchenne/
SUMMARY:SEKTOR III: JÓZEFOSŁAW ul. Geodetów (od nr 1 do nr 9)\, Mieczyków\, PIASECZNO od ul. Agatowa do ul. Turkusowa
END:VEVENT
BEGIN:VEVENT
DTSTART:20261008T060000Z
DTEND:20261008T190000Z
DTSTAMP:20260424T084520Z
UID:69eb2da0f3834
CATEGORIES:odpady bio ogrodowe i kuchenne
LOCATION:SEKTOR III: JÓZEFOSŁAW ul. Geodetów (od nr 1 do nr 9), Mieczykow, Ottawy, PIASECZNO ul. Agatowa do ul. Turkusowa JÓZEFOSŁAW\, PIASECZNO, MAZOWIECKIE
ORGANIZER;CN=WGO Gminy Piaseczno:MAILTO:go@piaseczno.eu
DESCRIPTION: Odbiór odpadów 
URL;VALUE=URI:https://odpady.piaseczno.eu/harmonogram-odbioru-odpadow/odbior/sektor-iii-jozefoslaw-ul-geodetow-od-nr-1-do-nr-21-mieczykow-sloneczny-sad-piaseczno-od-ul-agatowa-do-ul-zielony-sad-odpady-bio-ogrodowe-i-bio-kuchenne/
SUMMARY:SEKTOR III: JÓZEFOSŁAW ul. Geodetów (od nr 1 do nr 9)\, Mieczyków\, PIASECZNO od ul. Agatowa do ul. Turkusowa
END:VEVENT
BEGIN:VEVENT
DTSTART:20261022T060000Z
DTEND:20261022T190000Z
DTSTAMP:20260424T084520Z
UID:69eb2da0f384e
CATEGORIES:odpady bio ogrodowe i kuchenne
LOCATION:SEKTOR III: JÓZEFOSŁAW ul. Geodetów (od nr 1 do nr 9), Mieczykow, Ottawy, PIASECZNO ul. Agatowa do ul. Turkusowa JÓZEFOSŁAW\, PIASECZNO, MAZOWIECKIE
ORGANIZER;CN=WGO Gminy Piaseczno:MAILTO:go@piaseczno.eu
DESCRIPTION: Odbiór odpadów 
URL;VALUE=URI:https://odpady.piaseczno.eu/harmonogram-odbioru-odpadow/odbior/sektor-iii-jozefoslaw-ul-geodetow-od-nr-1-do-nr-21-mieczykow-sloneczny-sad-piaseczno-od-ul-agatowa-do-ul-zielony-sad-odpady-bio-ogrodowe-i-bio-kuchenne/
SUMMARY:SEKTOR III: JÓZEFOSŁAW ul. Geodetów (od nr 1 do nr 9)\, Mieczyków\, PIASECZNO od ul. Agatowa do ul. Turkusowa
END:VEVENT
BEGIN:VEVENT
DTSTART:20261105T060000Z
DTEND:20261105T190000Z
DTSTAMP:20260424T084520Z
UID:69eb2da0f3871
CATEGORIES:odpady bio ogrodowe i kuchenne
LOCATION:SEKTOR III: JÓZEFOSŁAW ul. Geodetów (od nr 1 do nr 9), Mieczykow, Ottawy, PIASECZNO ul. Agatowa do ul. Turkusowa JÓZEFOSŁAW\, PIASECZNO, MAZOWIECKIE
ORGANIZER;CN=WGO Gminy Piaseczno:MAILTO:go@piaseczno.eu
DESCRIPTION: Odbiór odpadów 
URL;VALUE=URI:https://odpady.piaseczno.eu/harmonogram-odbioru-odpadow/odbior/sektor-iii-jozefoslaw-ul-geodetow-od-nr-1-do-nr-21-mieczykow-sloneczny-sad-piaseczno-od-ul-agatowa-do-ul-zielony-sad-odpady-bio-ogrodowe-i-bio-kuchenne/
SUMMARY:SEKTOR III: JÓZEFOSŁAW ul. Geodetów (od nr 1 do nr 9)\, Mieczyków\, PIASECZNO od ul. Agatowa do ul. Turkusowa
END:VEVENT
BEGIN:VEVENT
DTSTART:20261119T060000Z
DTEND:20261119T190000Z
DTSTAMP:20260424T084520Z
UID:69eb2da0f388c
CATEGORIES:odpady bio ogrodowe i kuchenne
LOCATION:SEKTOR III: JÓZEFOSŁAW ul. Geodetów (od nr 1 do nr 9), Mieczykow, Ottawy, PIASECZNO ul. Agatowa do ul. Turkusowa JÓZEFOSŁAW\, PIASECZNO, MAZOWIECKIE
ORGANIZER;CN=WGO Gminy Piaseczno:MAILTO:go@piaseczno.eu
DESCRIPTION: Odbiór odpadów 
URL;VALUE=URI:https://odpady.piaseczno.eu/harmonogram-odbioru-odpadow/odbior/sektor-iii-jozefoslaw-ul-geodetow-od-nr-1-do-nr-21-mieczykow-sloneczny-sad-piaseczno-od-ul-agatowa-do-ul-zielony-sad-odpady-bio-ogrodowe-i-bio-kuchenne/
SUMMARY:SEKTOR III: JÓZEFOSŁAW ul. Geodetów (od nr 1 do nr 9)\, Mieczyków\, PIASECZNO od ul. Agatowa do ul. Turkusowa
END:VEVENT
END:VCALENDAR
