BEGIN:VCALENDAR
VERSION:2.0
PRODID:-//DIGITAL FACTORY//EVENTS MAKER V1.6.12//EN
CALSCALE:GREGORIAN
METHOD:PUBLISH
BEGIN:VEVENT
DTSTART:20251209T060000Z
DTEND:20251209T190000Z
DTSTAMP:20260422T030434Z
UID:69e83ac24e938
CATEGORIES:Odpady zmieszane
LOCATION:SEKTOR III: JÓZEFOSŁAW od ul. Geodetów (23-57) do ul. XXI Wieku 
ORGANIZER;CN=WGO Gminy Piaseczno:MAILTO:go@piaseczno.eu
DESCRIPTION: Odbiór odpadów 
URL;VALUE=URI:https://odpady.piaseczno.eu/harmonogram-odbioru-odpadow/odbior/sektor-iii-jozefoslaw-od-ul-geodetow-23-57-do-ul-xxi-wieku-piaseczno-ul-geodetow-154-184/
SUMMARY:SEKTOR III:  JÓZEFOSŁAW od ul. Geodetów (23-57) do ul. XXI wieku\, PIASECZNO ul. Geodetów (154 - 184)
END:VEVENT
BEGIN:VEVENT
DTSTART:20251223T060000Z
DTEND:20251223T190000Z
DTSTAMP:20260422T030434Z
UID:69e83ac24e9d4
CATEGORIES:Odpady zmieszane
LOCATION:SEKTOR III: JÓZEFOSŁAW od ul. Geodetów (23-57) do ul. XXI Wieku 
ORGANIZER;CN=WGO Gminy Piaseczno:MAILTO:go@piaseczno.eu
DESCRIPTION: Odbiór odpadów 
URL;VALUE=URI:https://odpady.piaseczno.eu/harmonogram-odbioru-odpadow/odbior/sektor-iii-jozefoslaw-od-ul-geodetow-23-57-do-ul-xxi-wieku-piaseczno-ul-geodetow-154-184/
SUMMARY:SEKTOR III:  JÓZEFOSŁAW od ul. Geodetów (23-57) do ul. XXI wieku\, PIASECZNO ul. Geodetów (154 - 184)
END:VEVENT
BEGIN:VEVENT
DTSTART:20260108T060000Z
DTEND:20260108T190000Z
DTSTAMP:20260422T030434Z
UID:69e83ac254aab
CATEGORIES:Odpady zmieszane
LOCATION:SEKTOR III: JÓZEFOSŁAW od ul. Geodetów (23-57) do ul. XXI Wieku 
ORGANIZER;CN=WGO Gminy Piaseczno:MAILTO:go@piaseczno.eu
DESCRIPTION: Odbiór odpadów 
URL;VALUE=URI:https://odpady.piaseczno.eu/harmonogram-odbioru-odpadow/odbior/sektor-iii-jozefoslaw-od-ul-geodetow-23-57-do-ul-xxi-wieku-piaseczno-ul-geodetow-154-184/
SUMMARY:SEKTOR III:  JÓZEFOSŁAW od ul. Geodetów (23-57) do ul. XXI wieku\, PIASECZNO ul. Geodetów (154 - 184)
END:VEVENT
BEGIN:VEVENT
DTSTART:20260120T060000Z
DTEND:20260120T190000Z
DTSTAMP:20260422T030434Z
UID:69e83ac254afc
CATEGORIES:Odpady zmieszane
LOCATION:SEKTOR III: JÓZEFOSŁAW od ul. Geodetów (23-57) do ul. XXI Wieku 
ORGANIZER;CN=WGO Gminy Piaseczno:MAILTO:go@piaseczno.eu
DESCRIPTION: Odbiór odpadów 
URL;VALUE=URI:https://odpady.piaseczno.eu/harmonogram-odbioru-odpadow/odbior/sektor-iii-jozefoslaw-od-ul-geodetow-23-57-do-ul-xxi-wieku-piaseczno-ul-geodetow-154-184/
SUMMARY:SEKTOR III:  JÓZEFOSŁAW od ul. Geodetów (23-57) do ul. XXI wieku\, PIASECZNO ul. Geodetów (154 - 184)
END:VEVENT
BEGIN:VEVENT
DTSTART:20260203T060000Z
DTEND:20260203T190000Z
DTSTAMP:20260422T030434Z
UID:69e83ac254b2a
CATEGORIES:Odpady zmieszane
LOCATION:SEKTOR III: JÓZEFOSŁAW od ul. Geodetów (23-57) do ul. XXI Wieku 
ORGANIZER;CN=WGO Gminy Piaseczno:MAILTO:go@piaseczno.eu
DESCRIPTION: Odbiór odpadów 
URL;VALUE=URI:https://odpady.piaseczno.eu/harmonogram-odbioru-odpadow/odbior/sektor-iii-jozefoslaw-od-ul-geodetow-23-57-do-ul-xxi-wieku-piaseczno-ul-geodetow-154-184/
SUMMARY:SEKTOR III:  JÓZEFOSŁAW od ul. Geodetów (23-57) do ul. XXI wieku\, PIASECZNO ul. Geodetów (154 - 184)
END:VEVENT
BEGIN:VEVENT
DTSTART:20260217T060000Z
DTEND:20260217T190000Z
DTSTAMP:20260422T030434Z
UID:69e83ac254b5d
CATEGORIES:Odpady zmieszane
LOCATION:SEKTOR III: JÓZEFOSŁAW od ul. Geodetów (23-57) do ul. XXI Wieku 
ORGANIZER;CN=WGO Gminy Piaseczno:MAILTO:go@piaseczno.eu
DESCRIPTION: Odbiór odpadów 
URL;VALUE=URI:https://odpady.piaseczno.eu/harmonogram-odbioru-odpadow/odbior/sektor-iii-jozefoslaw-od-ul-geodetow-23-57-do-ul-xxi-wieku-piaseczno-ul-geodetow-154-184/
SUMMARY:SEKTOR III:  JÓZEFOSŁAW od ul. Geodetów (23-57) do ul. XXI wieku\, PIASECZNO ul. Geodetów (154 - 184)
END:VEVENT
BEGIN:VEVENT
DTSTART:20260303T060000Z
DTEND:20260303T190000Z
DTSTAMP:20260422T030434Z
UID:69e83ac254b8a
CATEGORIES:Odpady zmieszane
LOCATION:SEKTOR III: JÓZEFOSŁAW od ul. Geodetów (23-57) do ul. XXI Wieku 
ORGANIZER;CN=WGO Gminy Piaseczno:MAILTO:go@piaseczno.eu
DESCRIPTION: Odbiór odpadów 
URL;VALUE=URI:https://odpady.piaseczno.eu/harmonogram-odbioru-odpadow/odbior/sektor-iii-jozefoslaw-od-ul-geodetow-23-57-do-ul-xxi-wieku-piaseczno-ul-geodetow-154-184/
SUMMARY:SEKTOR III:  JÓZEFOSŁAW od ul. Geodetów (23-57) do ul. XXI wieku\, PIASECZNO ul. Geodetów (154 - 184)
END:VEVENT
BEGIN:VEVENT
DTSTART:20260317T060000Z
DTEND:20260317T190000Z
DTSTAMP:20260422T030434Z
UID:69e83ac254bd6
CATEGORIES:Odpady zmieszane
LOCATION:SEKTOR III: JÓZEFOSŁAW od ul. Geodetów (23-57) do ul. XXI Wieku 
ORGANIZER;CN=WGO Gminy Piaseczno:MAILTO:go@piaseczno.eu
DESCRIPTION: Odbiór odpadów 
URL;VALUE=URI:https://odpady.piaseczno.eu/harmonogram-odbioru-odpadow/odbior/sektor-iii-jozefoslaw-od-ul-geodetow-23-57-do-ul-xxi-wieku-piaseczno-ul-geodetow-154-184/
SUMMARY:SEKTOR III:  JÓZEFOSŁAW od ul. Geodetów (23-57) do ul. XXI wieku\, PIASECZNO ul. Geodetów (154 - 184)
END:VEVENT
BEGIN:VEVENT
DTSTART:20260331T060000Z
DTEND:20260331T190000Z
DTSTAMP:20260422T030434Z
UID:69e83ac254c0e
CATEGORIES:Odpady zmieszane
LOCATION:SEKTOR III: JÓZEFOSŁAW od ul. Geodetów (23-57) do ul. XXI Wieku 
ORGANIZER;CN=WGO Gminy Piaseczno:MAILTO:go@piaseczno.eu
DESCRIPTION: Odbiór odpadów 
URL;VALUE=URI:https://odpady.piaseczno.eu/harmonogram-odbioru-odpadow/odbior/sektor-iii-jozefoslaw-od-ul-geodetow-23-57-do-ul-xxi-wieku-piaseczno-ul-geodetow-154-184/
SUMMARY:SEKTOR III:  JÓZEFOSŁAW od ul. Geodetów (23-57) do ul. XXI wieku\, PIASECZNO ul. Geodetów (154 - 184)
END:VEVENT
BEGIN:VEVENT
DTSTART:20260414T060000Z
DTEND:20260414T190000Z
DTSTAMP:20260422T030434Z
UID:69e83ac254c36
CATEGORIES:Odpady zmieszane
LOCATION:SEKTOR III: JÓZEFOSŁAW od ul. Geodetów (23-57) do ul. XXI Wieku 
ORGANIZER;CN=WGO Gminy Piaseczno:MAILTO:go@piaseczno.eu
DESCRIPTION: Odbiór odpadów 
URL;VALUE=URI:https://odpady.piaseczno.eu/harmonogram-odbioru-odpadow/odbior/sektor-iii-jozefoslaw-od-ul-geodetow-23-57-do-ul-xxi-wieku-piaseczno-ul-geodetow-154-184/
SUMMARY:SEKTOR III:  JÓZEFOSŁAW od ul. Geodetów (23-57) do ul. XXI wieku\, PIASECZNO ul. Geodetów (154 - 184)
END:VEVENT
BEGIN:VEVENT
DTSTART:20260428T060000Z
DTEND:20260428T190000Z
DTSTAMP:20260422T030434Z
UID:69e83ac254c86
CATEGORIES:Odpady zmieszane
LOCATION:SEKTOR III: JÓZEFOSŁAW od ul. Geodetów (23-57) do ul. XXI Wieku 
ORGANIZER;CN=WGO Gminy Piaseczno:MAILTO:go@piaseczno.eu
DESCRIPTION: Odbiór odpadów 
URL;VALUE=URI:https://odpady.piaseczno.eu/harmonogram-odbioru-odpadow/odbior/sektor-iii-jozefoslaw-od-ul-geodetow-23-57-do-ul-xxi-wieku-piaseczno-ul-geodetow-154-184/
SUMMARY:SEKTOR III:  JÓZEFOSŁAW od ul. Geodetów (23-57) do ul. XXI wieku\, PIASECZNO ul. Geodetów (154 - 184)
END:VEVENT
BEGIN:VEVENT
DTSTART:20260512T060000Z
DTEND:20260512T190000Z
DTSTAMP:20260422T030434Z
UID:69e83ac254ca5
CATEGORIES:Odpady zmieszane
LOCATION:SEKTOR III: JÓZEFOSŁAW od ul. Geodetów (23-57) do ul. XXI Wieku 
ORGANIZER;CN=WGO Gminy Piaseczno:MAILTO:go@piaseczno.eu
DESCRIPTION: Odbiór odpadów 
URL;VALUE=URI:https://odpady.piaseczno.eu/harmonogram-odbioru-odpadow/odbior/sektor-iii-jozefoslaw-od-ul-geodetow-23-57-do-ul-xxi-wieku-piaseczno-ul-geodetow-154-184/
SUMMARY:SEKTOR III:  JÓZEFOSŁAW od ul. Geodetów (23-57) do ul. XXI wieku\, PIASECZNO ul. Geodetów (154 - 184)
END:VEVENT
BEGIN:VEVENT
DTSTART:20260526T060000Z
DTEND:20260526T190000Z
DTSTAMP:20260422T030434Z
UID:69e83ac254cd5
CATEGORIES:Odpady zmieszane
LOCATION:SEKTOR III: JÓZEFOSŁAW od ul. Geodetów (23-57) do ul. XXI Wieku 
ORGANIZER;CN=WGO Gminy Piaseczno:MAILTO:go@piaseczno.eu
DESCRIPTION: Odbiór odpadów 
URL;VALUE=URI:https://odpady.piaseczno.eu/harmonogram-odbioru-odpadow/odbior/sektor-iii-jozefoslaw-od-ul-geodetow-23-57-do-ul-xxi-wieku-piaseczno-ul-geodetow-154-184/
SUMMARY:SEKTOR III:  JÓZEFOSŁAW od ul. Geodetów (23-57) do ul. XXI wieku\, PIASECZNO ul. Geodetów (154 - 184)
END:VEVENT
BEGIN:VEVENT
DTSTART:20260602T060000Z
DTEND:20260602T190000Z
DTSTAMP:20260422T030434Z
UID:69e83ac254d00
CATEGORIES:Odpady zmieszane
LOCATION:SEKTOR III: JÓZEFOSŁAW od ul. Geodetów (23-57) do ul. XXI Wieku 
ORGANIZER;CN=WGO Gminy Piaseczno:MAILTO:go@piaseczno.eu
DESCRIPTION: Odbiór odpadów 
URL;VALUE=URI:https://odpady.piaseczno.eu/harmonogram-odbioru-odpadow/odbior/sektor-iii-jozefoslaw-od-ul-geodetow-23-57-do-ul-xxi-wieku-piaseczno-ul-geodetow-154-184/
SUMMARY:SEKTOR III:  JÓZEFOSŁAW od ul. Geodetów (23-57) do ul. XXI wieku\, PIASECZNO ul. Geodetów (154 - 184)
END:VEVENT
BEGIN:VEVENT
DTSTART:20260609T060000Z
DTEND:20260609T190000Z
DTSTAMP:20260422T030434Z
UID:69e83ac254d2d
CATEGORIES:Odpady zmieszane
LOCATION:SEKTOR III: JÓZEFOSŁAW od ul. Geodetów (23-57) do ul. XXI Wieku 
ORGANIZER;CN=WGO Gminy Piaseczno:MAILTO:go@piaseczno.eu
DESCRIPTION: Odbiór odpadów 
URL;VALUE=URI:https://odpady.piaseczno.eu/harmonogram-odbioru-odpadow/odbior/sektor-iii-jozefoslaw-od-ul-geodetow-23-57-do-ul-xxi-wieku-piaseczno-ul-geodetow-154-184/
SUMMARY:SEKTOR III:  JÓZEFOSŁAW od ul. Geodetów (23-57) do ul. XXI wieku\, PIASECZNO ul. Geodetów (154 - 184)
END:VEVENT
BEGIN:VEVENT
DTSTART:20260616T060000Z
DTEND:20260616T190000Z
DTSTAMP:20260422T030434Z
UID:69e83ac254d78
CATEGORIES:Odpady zmieszane
LOCATION:SEKTOR III: JÓZEFOSŁAW od ul. Geodetów (23-57) do ul. XXI Wieku 
ORGANIZER;CN=WGO Gminy Piaseczno:MAILTO:go@piaseczno.eu
DESCRIPTION: Odbiór odpadów 
URL;VALUE=URI:https://odpady.piaseczno.eu/harmonogram-odbioru-odpadow/odbior/sektor-iii-jozefoslaw-od-ul-geodetow-23-57-do-ul-xxi-wieku-piaseczno-ul-geodetow-154-184/
SUMMARY:SEKTOR III:  JÓZEFOSŁAW od ul. Geodetów (23-57) do ul. XXI wieku\, PIASECZNO ul. Geodetów (154 - 184)
END:VEVENT
BEGIN:VEVENT
DTSTART:20260623T060000Z
DTEND:20260623T190000Z
DTSTAMP:20260422T030434Z
UID:69e83ac254da3
CATEGORIES:Odpady zmieszane
LOCATION:SEKTOR III: JÓZEFOSŁAW od ul. Geodetów (23-57) do ul. XXI Wieku 
ORGANIZER;CN=WGO Gminy Piaseczno:MAILTO:go@piaseczno.eu
DESCRIPTION: Odbiór odpadów 
URL;VALUE=URI:https://odpady.piaseczno.eu/harmonogram-odbioru-odpadow/odbior/sektor-iii-jozefoslaw-od-ul-geodetow-23-57-do-ul-xxi-wieku-piaseczno-ul-geodetow-154-184/
SUMMARY:SEKTOR III:  JÓZEFOSŁAW od ul. Geodetów (23-57) do ul. XXI wieku\, PIASECZNO ul. Geodetów (154 - 184)
END:VEVENT
BEGIN:VEVENT
DTSTART:20260630T060000Z
DTEND:20260630T190000Z
DTSTAMP:20260422T030434Z
UID:69e83ac254ded
CATEGORIES:Odpady zmieszane
LOCATION:SEKTOR III: JÓZEFOSŁAW od ul. Geodetów (23-57) do ul. XXI Wieku 
ORGANIZER;CN=WGO Gminy Piaseczno:MAILTO:go@piaseczno.eu
DESCRIPTION: Odbiór odpadów 
URL;VALUE=URI:https://odpady.piaseczno.eu/harmonogram-odbioru-odpadow/odbior/sektor-iii-jozefoslaw-od-ul-geodetow-23-57-do-ul-xxi-wieku-piaseczno-ul-geodetow-154-184/
SUMMARY:SEKTOR III:  JÓZEFOSŁAW od ul. Geodetów (23-57) do ul. XXI wieku\, PIASECZNO ul. Geodetów (154 - 184)
END:VEVENT
BEGIN:VEVENT
DTSTART:20260707T060000Z
DTEND:20260707T190000Z
DTSTAMP:20260422T030434Z
UID:69e83ac254e24
CATEGORIES:Odpady zmieszane
LOCATION:SEKTOR III: JÓZEFOSŁAW od ul. Geodetów (23-57) do ul. XXI Wieku 
ORGANIZER;CN=WGO Gminy Piaseczno:MAILTO:go@piaseczno.eu
DESCRIPTION: Odbiór odpadów 
URL;VALUE=URI:https://odpady.piaseczno.eu/harmonogram-odbioru-odpadow/odbior/sektor-iii-jozefoslaw-od-ul-geodetow-23-57-do-ul-xxi-wieku-piaseczno-ul-geodetow-154-184/
SUMMARY:SEKTOR III:  JÓZEFOSŁAW od ul. Geodetów (23-57) do ul. XXI wieku\, PIASECZNO ul. Geodetów (154 - 184)
END:VEVENT
BEGIN:VEVENT
DTSTART:20260714T060000Z
DTEND:20260714T190000Z
DTSTAMP:20260422T030434Z
UID:69e83ac254e50
CATEGORIES:Odpady zmieszane
LOCATION:SEKTOR III: JÓZEFOSŁAW od ul. Geodetów (23-57) do ul. XXI Wieku 
ORGANIZER;CN=WGO Gminy Piaseczno:MAILTO:go@piaseczno.eu
DESCRIPTION: Odbiór odpadów 
URL;VALUE=URI:https://odpady.piaseczno.eu/harmonogram-odbioru-odpadow/odbior/sektor-iii-jozefoslaw-od-ul-geodetow-23-57-do-ul-xxi-wieku-piaseczno-ul-geodetow-154-184/
SUMMARY:SEKTOR III:  JÓZEFOSŁAW od ul. Geodetów (23-57) do ul. XXI wieku\, PIASECZNO ul. Geodetów (154 - 184)
END:VEVENT
BEGIN:VEVENT
DTSTART:20260721T060000Z
DTEND:20260721T190000Z
DTSTAMP:20260422T030434Z
UID:69e83ac254e86
CATEGORIES:Odpady zmieszane
LOCATION:SEKTOR III: JÓZEFOSŁAW od ul. Geodetów (23-57) do ul. XXI Wieku 
ORGANIZER;CN=WGO Gminy Piaseczno:MAILTO:go@piaseczno.eu
DESCRIPTION: Odbiór odpadów 
URL;VALUE=URI:https://odpady.piaseczno.eu/harmonogram-odbioru-odpadow/odbior/sektor-iii-jozefoslaw-od-ul-geodetow-23-57-do-ul-xxi-wieku-piaseczno-ul-geodetow-154-184/
SUMMARY:SEKTOR III:  JÓZEFOSŁAW od ul. Geodetów (23-57) do ul. XXI wieku\, PIASECZNO ul. Geodetów (154 - 184)
END:VEVENT
BEGIN:VEVENT
DTSTART:20260728T060000Z
DTEND:20260728T190000Z
DTSTAMP:20260422T030434Z
UID:69e83ac254eb7
CATEGORIES:Odpady zmieszane
LOCATION:SEKTOR III: JÓZEFOSŁAW od ul. Geodetów (23-57) do ul. XXI Wieku 
ORGANIZER;CN=WGO Gminy Piaseczno:MAILTO:go@piaseczno.eu
DESCRIPTION: Odbiór odpadów 
URL;VALUE=URI:https://odpady.piaseczno.eu/harmonogram-odbioru-odpadow/odbior/sektor-iii-jozefoslaw-od-ul-geodetow-23-57-do-ul-xxi-wieku-piaseczno-ul-geodetow-154-184/
SUMMARY:SEKTOR III:  JÓZEFOSŁAW od ul. Geodetów (23-57) do ul. XXI wieku\, PIASECZNO ul. Geodetów (154 - 184)
END:VEVENT
BEGIN:VEVENT
DTSTART:20260804T060000Z
DTEND:20260804T190000Z
DTSTAMP:20260422T030434Z
UID:69e83ac254ee3
CATEGORIES:Odpady zmieszane
LOCATION:SEKTOR III: JÓZEFOSŁAW od ul. Geodetów (23-57) do ul. XXI Wieku 
ORGANIZER;CN=WGO Gminy Piaseczno:MAILTO:go@piaseczno.eu
DESCRIPTION: Odbiór odpadów 
URL;VALUE=URI:https://odpady.piaseczno.eu/harmonogram-odbioru-odpadow/odbior/sektor-iii-jozefoslaw-od-ul-geodetow-23-57-do-ul-xxi-wieku-piaseczno-ul-geodetow-154-184/
SUMMARY:SEKTOR III:  JÓZEFOSŁAW od ul. Geodetów (23-57) do ul. XXI wieku\, PIASECZNO ul. Geodetów (154 - 184)
END:VEVENT
BEGIN:VEVENT
DTSTART:20260811T060000Z
DTEND:20260811T190000Z
DTSTAMP:20260422T030434Z
UID:69e83ac254f0b
CATEGORIES:Odpady zmieszane
LOCATION:SEKTOR III: JÓZEFOSŁAW od ul. Geodetów (23-57) do ul. XXI Wieku 
ORGANIZER;CN=WGO Gminy Piaseczno:MAILTO:go@piaseczno.eu
DESCRIPTION: Odbiór odpadów 
URL;VALUE=URI:https://odpady.piaseczno.eu/harmonogram-odbioru-odpadow/odbior/sektor-iii-jozefoslaw-od-ul-geodetow-23-57-do-ul-xxi-wieku-piaseczno-ul-geodetow-154-184/
SUMMARY:SEKTOR III:  JÓZEFOSŁAW od ul. Geodetów (23-57) do ul. XXI wieku\, PIASECZNO ul. Geodetów (154 - 184)
END:VEVENT
BEGIN:VEVENT
DTSTART:20260818T060000Z
DTEND:20260818T190000Z
DTSTAMP:20260422T030434Z
UID:69e83ac254f32
CATEGORIES:Odpady zmieszane
LOCATION:SEKTOR III: JÓZEFOSŁAW od ul. Geodetów (23-57) do ul. XXI Wieku 
ORGANIZER;CN=WGO Gminy Piaseczno:MAILTO:go@piaseczno.eu
DESCRIPTION: Odbiór odpadów 
URL;VALUE=URI:https://odpady.piaseczno.eu/harmonogram-odbioru-odpadow/odbior/sektor-iii-jozefoslaw-od-ul-geodetow-23-57-do-ul-xxi-wieku-piaseczno-ul-geodetow-154-184/
SUMMARY:SEKTOR III:  JÓZEFOSŁAW od ul. Geodetów (23-57) do ul. XXI wieku\, PIASECZNO ul. Geodetów (154 - 184)
END:VEVENT
BEGIN:VEVENT
DTSTART:20260825T060000Z
DTEND:20260825T190000Z
DTSTAMP:20260422T030434Z
UID:69e83ac254f5c
CATEGORIES:Odpady zmieszane
LOCATION:SEKTOR III: JÓZEFOSŁAW od ul. Geodetów (23-57) do ul. XXI Wieku 
ORGANIZER;CN=WGO Gminy Piaseczno:MAILTO:go@piaseczno.eu
DESCRIPTION: Odbiór odpadów 
URL;VALUE=URI:https://odpady.piaseczno.eu/harmonogram-odbioru-odpadow/odbior/sektor-iii-jozefoslaw-od-ul-geodetow-23-57-do-ul-xxi-wieku-piaseczno-ul-geodetow-154-184/
SUMMARY:SEKTOR III:  JÓZEFOSŁAW od ul. Geodetów (23-57) do ul. XXI wieku\, PIASECZNO ul. Geodetów (154 - 184)
END:VEVENT
BEGIN:VEVENT
DTSTART:20260901T060000Z
DTEND:20260901T190000Z
DTSTAMP:20260422T030434Z
UID:69e83ac254f83
CATEGORIES:Odpady zmieszane
LOCATION:SEKTOR III: JÓZEFOSŁAW od ul. Geodetów (23-57) do ul. XXI Wieku 
ORGANIZER;CN=WGO Gminy Piaseczno:MAILTO:go@piaseczno.eu
DESCRIPTION: Odbiór odpadów 
URL;VALUE=URI:https://odpady.piaseczno.eu/harmonogram-odbioru-odpadow/odbior/sektor-iii-jozefoslaw-od-ul-geodetow-23-57-do-ul-xxi-wieku-piaseczno-ul-geodetow-154-184/
SUMMARY:SEKTOR III:  JÓZEFOSŁAW od ul. Geodetów (23-57) do ul. XXI wieku\, PIASECZNO ul. Geodetów (154 - 184)
END:VEVENT
BEGIN:VEVENT
DTSTART:20260915T060000Z
DTEND:20260915T190000Z
DTSTAMP:20260422T030434Z
UID:69e83ac254fb7
CATEGORIES:Odpady zmieszane
LOCATION:SEKTOR III: JÓZEFOSŁAW od ul. Geodetów (23-57) do ul. XXI Wieku 
ORGANIZER;CN=WGO Gminy Piaseczno:MAILTO:go@piaseczno.eu
DESCRIPTION: Odbiór odpadów 
URL;VALUE=URI:https://odpady.piaseczno.eu/harmonogram-odbioru-odpadow/odbior/sektor-iii-jozefoslaw-od-ul-geodetow-23-57-do-ul-xxi-wieku-piaseczno-ul-geodetow-154-184/
SUMMARY:SEKTOR III:  JÓZEFOSŁAW od ul. Geodetów (23-57) do ul. XXI wieku\, PIASECZNO ul. Geodetów (154 - 184)
END:VEVENT
BEGIN:VEVENT
DTSTART:20260929T060000Z
DTEND:20260929T190000Z
DTSTAMP:20260422T030434Z
UID:69e83ac254fe6
CATEGORIES:Odpady zmieszane
LOCATION:SEKTOR III: JÓZEFOSŁAW od ul. Geodetów (23-57) do ul. XXI Wieku 
ORGANIZER;CN=WGO Gminy Piaseczno:MAILTO:go@piaseczno.eu
DESCRIPTION: Odbiór odpadów 
URL;VALUE=URI:https://odpady.piaseczno.eu/harmonogram-odbioru-odpadow/odbior/sektor-iii-jozefoslaw-od-ul-geodetow-23-57-do-ul-xxi-wieku-piaseczno-ul-geodetow-154-184/
SUMMARY:SEKTOR III:  JÓZEFOSŁAW od ul. Geodetów (23-57) do ul. XXI wieku\, PIASECZNO ul. Geodetów (154 - 184)
END:VEVENT
BEGIN:VEVENT
DTSTART:20261013T060000Z
DTEND:20261013T190000Z
DTSTAMP:20260422T030434Z
UID:69e83ac255010
CATEGORIES:Odpady zmieszane
LOCATION:SEKTOR III: JÓZEFOSŁAW od ul. Geodetów (23-57) do ul. XXI Wieku 
ORGANIZER;CN=WGO Gminy Piaseczno:MAILTO:go@piaseczno.eu
DESCRIPTION: Odbiór odpadów 
URL;VALUE=URI:https://odpady.piaseczno.eu/harmonogram-odbioru-odpadow/odbior/sektor-iii-jozefoslaw-od-ul-geodetow-23-57-do-ul-xxi-wieku-piaseczno-ul-geodetow-154-184/
SUMMARY:SEKTOR III:  JÓZEFOSŁAW od ul. Geodetów (23-57) do ul. XXI wieku\, PIASECZNO ul. Geodetów (154 - 184)
END:VEVENT
BEGIN:VEVENT
DTSTART:20261027T060000Z
DTEND:20261027T190000Z
DTSTAMP:20260422T030434Z
UID:69e83ac255044
CATEGORIES:Odpady zmieszane
LOCATION:SEKTOR III: JÓZEFOSŁAW od ul. Geodetów (23-57) do ul. XXI Wieku 
ORGANIZER;CN=WGO Gminy Piaseczno:MAILTO:go@piaseczno.eu
DESCRIPTION: Odbiór odpadów 
URL;VALUE=URI:https://odpady.piaseczno.eu/harmonogram-odbioru-odpadow/odbior/sektor-iii-jozefoslaw-od-ul-geodetow-23-57-do-ul-xxi-wieku-piaseczno-ul-geodetow-154-184/
SUMMARY:SEKTOR III:  JÓZEFOSŁAW od ul. Geodetów (23-57) do ul. XXI wieku\, PIASECZNO ul. Geodetów (154 - 184)
END:VEVENT
BEGIN:VEVENT
DTSTART:20261110T060000Z
DTEND:20261110T190000Z
DTSTAMP:20260422T030434Z
UID:69e83ac25506c
CATEGORIES:Odpady zmieszane
LOCATION:SEKTOR III: JÓZEFOSŁAW od ul. Geodetów (23-57) do ul. XXI Wieku 
ORGANIZER;CN=WGO Gminy Piaseczno:MAILTO:go@piaseczno.eu
DESCRIPTION: Odbiór odpadów 
URL;VALUE=URI:https://odpady.piaseczno.eu/harmonogram-odbioru-odpadow/odbior/sektor-iii-jozefoslaw-od-ul-geodetow-23-57-do-ul-xxi-wieku-piaseczno-ul-geodetow-154-184/
SUMMARY:SEKTOR III:  JÓZEFOSŁAW od ul. Geodetów (23-57) do ul. XXI wieku\, PIASECZNO ul. Geodetów (154 - 184)
END:VEVENT
BEGIN:VEVENT
DTSTART:20261124T060000Z
DTEND:20261124T190000Z
DTSTAMP:20260422T030434Z
UID:69e83ac255096
CATEGORIES:Odpady zmieszane
LOCATION:SEKTOR III: JÓZEFOSŁAW od ul. Geodetów (23-57) do ul. XXI Wieku 
ORGANIZER;CN=WGO Gminy Piaseczno:MAILTO:go@piaseczno.eu
DESCRIPTION: Odbiór odpadów 
URL;VALUE=URI:https://odpady.piaseczno.eu/harmonogram-odbioru-odpadow/odbior/sektor-iii-jozefoslaw-od-ul-geodetow-23-57-do-ul-xxi-wieku-piaseczno-ul-geodetow-154-184/
SUMMARY:SEKTOR III:  JÓZEFOSŁAW od ul. Geodetów (23-57) do ul. XXI wieku\, PIASECZNO ul. Geodetów (154 - 184)
END:VEVENT
END:VCALENDAR
