BEGIN:VCALENDAR
VERSION:2.0
PRODID:-//DIGITAL FACTORY//EVENTS MAKER V1.6.12//EN
CALSCALE:GREGORIAN
METHOD:PUBLISH
BEGIN:VEVENT
DTSTART:20260121T060000Z
DTEND:20260121T190000Z
DTSTAMP:20260424T164117Z
UID:69eb9d2d6f9d3
CATEGORIES:Odbiór choinek
LOCATION:SEKTOR III: JÓZEFOSŁAW od ul. Geodetów (23-57) do ul. XXI Wieku 
ORGANIZER;CN=WGO Gminy Piaseczno:MAILTO:go@piaseczno.eu
DESCRIPTION: Odbiór odpadów 
URL;VALUE=URI:https://odpady.piaseczno.eu/harmonogram-odbioru-odpadow/odbior/sektor-iii-jozefoslaw-od-ul-geodetow-23-57-do-ul-xxi-wieku-piaseczno-ul-geodetow-154-184-7/
SUMMARY:SEKTOR III: JÓZEFOSŁAW od ul. Geodetów (23-57)\, do ul. XXI wieku\, PIASECZNO ul. Geodetów (154 – 184)
END:VEVENT
BEGIN:VEVENT
DTSTART:20260204T060000Z
DTEND:20260204T190000Z
DTSTAMP:20260424T164117Z
UID:69eb9d2d6fa76
CATEGORIES:Odbiór choinek
LOCATION:SEKTOR III: JÓZEFOSŁAW od ul. Geodetów (23-57) do ul. XXI Wieku 
ORGANIZER;CN=WGO Gminy Piaseczno:MAILTO:go@piaseczno.eu
DESCRIPTION: Odbiór odpadów 
URL;VALUE=URI:https://odpady.piaseczno.eu/harmonogram-odbioru-odpadow/odbior/sektor-iii-jozefoslaw-od-ul-geodetow-23-57-do-ul-xxi-wieku-piaseczno-ul-geodetow-154-184-7/
SUMMARY:SEKTOR III: JÓZEFOSŁAW od ul. Geodetów (23-57)\, do ul. XXI wieku\, PIASECZNO ul. Geodetów (154 – 184)
END:VEVENT
END:VCALENDAR
