BEGIN:VCALENDAR
VERSION:2.0
PRODID:-//DIGITAL FACTORY//EVENTS MAKER V1.6.12//EN
CALSCALE:GREGORIAN
METHOD:PUBLISH
BEGIN:VEVENT
DTSTART:20251229T060000Z
DTEND:20251229T190000Z
DTSTAMP:20260424T150630Z
UID:69eb86f6ec677
CATEGORIES:Odpady wielkogabarytowe
LOCATION:SEKTOR III: JÓZEFOSŁAW od ul. Geodetów (23-57) do ul. XXI Wieku 
ORGANIZER;CN=WGO Gminy Piaseczno:MAILTO:go@piaseczno.eu
DESCRIPTION: Odbiór odpadów 
URL;VALUE=URI:https://odpady.piaseczno.eu/harmonogram-odbioru-odpadow/odbior/sektor-iii-jozefoslaw-od-ul-geodetow-23-57-do-ul-xxi-wieku-piaseczno-ul-geodetow-154-184-6/
SUMMARY:SEKTOR III: JÓZEFOSŁAW od ul. Geodetów (23-57)\, do ul. XXI wieku\, PIASECZNO ul. Geodetów (154 – 184)
END:VEVENT
BEGIN:VEVENT
DTSTART:20260323T060000Z
DTEND:20260323T190000Z
DTSTAMP:20260424T150630Z
UID:69eb86f6ec70d
CATEGORIES:Odpady wielkogabarytowe
LOCATION:SEKTOR III: JÓZEFOSŁAW od ul. Geodetów (23-57) do ul. XXI Wieku 
ORGANIZER;CN=WGO Gminy Piaseczno:MAILTO:go@piaseczno.eu
DESCRIPTION: Odbiór odpadów 
URL;VALUE=URI:https://odpady.piaseczno.eu/harmonogram-odbioru-odpadow/odbior/sektor-iii-jozefoslaw-od-ul-geodetow-23-57-do-ul-xxi-wieku-piaseczno-ul-geodetow-154-184-6/
SUMMARY:SEKTOR III: JÓZEFOSŁAW od ul. Geodetów (23-57)\, do ul. XXI wieku\, PIASECZNO ul. Geodetów (154 – 184)
END:VEVENT
BEGIN:VEVENT
DTSTART:20260615T060000Z
DTEND:20260615T190000Z
DTSTAMP:20260424T150630Z
UID:69eb86f6ec73b
CATEGORIES:Odpady wielkogabarytowe
LOCATION:SEKTOR III: JÓZEFOSŁAW od ul. Geodetów (23-57) do ul. XXI Wieku 
ORGANIZER;CN=WGO Gminy Piaseczno:MAILTO:go@piaseczno.eu
DESCRIPTION: Odbiór odpadów 
URL;VALUE=URI:https://odpady.piaseczno.eu/harmonogram-odbioru-odpadow/odbior/sektor-iii-jozefoslaw-od-ul-geodetow-23-57-do-ul-xxi-wieku-piaseczno-ul-geodetow-154-184-6/
SUMMARY:SEKTOR III: JÓZEFOSŁAW od ul. Geodetów (23-57)\, do ul. XXI wieku\, PIASECZNO ul. Geodetów (154 – 184)
END:VEVENT
BEGIN:VEVENT
DTSTART:20260907T060000Z
DTEND:20260907T190000Z
DTSTAMP:20260424T150630Z
UID:69eb86f6ec75d
CATEGORIES:Odpady wielkogabarytowe
LOCATION:SEKTOR III: JÓZEFOSŁAW od ul. Geodetów (23-57) do ul. XXI Wieku 
ORGANIZER;CN=WGO Gminy Piaseczno:MAILTO:go@piaseczno.eu
DESCRIPTION: Odbiór odpadów 
URL;VALUE=URI:https://odpady.piaseczno.eu/harmonogram-odbioru-odpadow/odbior/sektor-iii-jozefoslaw-od-ul-geodetow-23-57-do-ul-xxi-wieku-piaseczno-ul-geodetow-154-184-6/
SUMMARY:SEKTOR III: JÓZEFOSŁAW od ul. Geodetów (23-57)\, do ul. XXI wieku\, PIASECZNO ul. Geodetów (154 – 184)
END:VEVENT
BEGIN:VEVENT
DTSTART:20261130T060000Z
DTEND:20261130T190000Z
DTSTAMP:20260424T150630Z
UID:69eb86f6ec77c
CATEGORIES:Odpady wielkogabarytowe
LOCATION:SEKTOR III: JÓZEFOSŁAW od ul. Geodetów (23-57) do ul. XXI Wieku 
ORGANIZER;CN=WGO Gminy Piaseczno:MAILTO:go@piaseczno.eu
DESCRIPTION: Odbiór odpadów 
URL;VALUE=URI:https://odpady.piaseczno.eu/harmonogram-odbioru-odpadow/odbior/sektor-iii-jozefoslaw-od-ul-geodetow-23-57-do-ul-xxi-wieku-piaseczno-ul-geodetow-154-184-6/
SUMMARY:SEKTOR III: JÓZEFOSŁAW od ul. Geodetów (23-57)\, do ul. XXI wieku\, PIASECZNO ul. Geodetów (154 – 184)
END:VEVENT
END:VCALENDAR
