BEGIN:VCALENDAR
VERSION:2.0
PRODID:-//DIGITAL FACTORY//EVENTS MAKER V1.6.12//EN
CALSCALE:GREGORIAN
METHOD:PUBLISH
BEGIN:VEVENT
DTSTART:20251226T060000Z
DTEND:20251226T190000Z
DTSTAMP:20260423T124027Z
UID:69ea133b15bf1
CATEGORIES:Odpady segregowane - szkło
LOCATION:SEKTOR III: JÓZEFOSŁAW od ul. Cyprysowej do ul. Storczyków 
ORGANIZER;CN=WGO Gminy Piaseczno:MAILTO:go@piaseczno.eu
DESCRIPTION: Odbiór odpadów 
URL;VALUE=URI:https://odpady.piaseczno.eu/harmonogram-odbioru-odpadow/odbior/sektor-iii-jozefoslaw-od-ul-cyprysowej-do-ul-wilanowskiej-14e-4/
SUMMARY:SEKTOR III - JÓZEFOSŁAW od ul. Cyprysowej do ul. Storczyków
END:VEVENT
BEGIN:VEVENT
DTSTART:20260123T060000Z
DTEND:20260123T190000Z
DTSTAMP:20260423T124027Z
UID:69ea133b15c99
CATEGORIES:Odpady segregowane - szkło
LOCATION:SEKTOR III: JÓZEFOSŁAW od ul. Cyprysowej do ul. Storczyków 
ORGANIZER;CN=WGO Gminy Piaseczno:MAILTO:go@piaseczno.eu
DESCRIPTION: Odbiór odpadów 
URL;VALUE=URI:https://odpady.piaseczno.eu/harmonogram-odbioru-odpadow/odbior/sektor-iii-jozefoslaw-od-ul-cyprysowej-do-ul-wilanowskiej-14e-4/
SUMMARY:SEKTOR III - JÓZEFOSŁAW od ul. Cyprysowej do ul. Storczyków
END:VEVENT
BEGIN:VEVENT
DTSTART:20260220T060000Z
DTEND:20260220T190000Z
DTSTAMP:20260423T124027Z
UID:69ea133b15cc7
CATEGORIES:Odpady segregowane - szkło
LOCATION:SEKTOR III: JÓZEFOSŁAW od ul. Cyprysowej do ul. Storczyków 
ORGANIZER;CN=WGO Gminy Piaseczno:MAILTO:go@piaseczno.eu
DESCRIPTION: Odbiór odpadów 
URL;VALUE=URI:https://odpady.piaseczno.eu/harmonogram-odbioru-odpadow/odbior/sektor-iii-jozefoslaw-od-ul-cyprysowej-do-ul-wilanowskiej-14e-4/
SUMMARY:SEKTOR III - JÓZEFOSŁAW od ul. Cyprysowej do ul. Storczyków
END:VEVENT
BEGIN:VEVENT
DTSTART:20260320T060000Z
DTEND:20260320T190000Z
DTSTAMP:20260423T124027Z
UID:69ea133b15ce8
CATEGORIES:Odpady segregowane - szkło
LOCATION:SEKTOR III: JÓZEFOSŁAW od ul. Cyprysowej do ul. Storczyków 
ORGANIZER;CN=WGO Gminy Piaseczno:MAILTO:go@piaseczno.eu
DESCRIPTION: Odbiór odpadów 
URL;VALUE=URI:https://odpady.piaseczno.eu/harmonogram-odbioru-odpadow/odbior/sektor-iii-jozefoslaw-od-ul-cyprysowej-do-ul-wilanowskiej-14e-4/
SUMMARY:SEKTOR III - JÓZEFOSŁAW od ul. Cyprysowej do ul. Storczyków
END:VEVENT
BEGIN:VEVENT
DTSTART:20260417T060000Z
DTEND:20260417T190000Z
DTSTAMP:20260423T124027Z
UID:69ea133b15d08
CATEGORIES:Odpady segregowane - szkło
LOCATION:SEKTOR III: JÓZEFOSŁAW od ul. Cyprysowej do ul. Storczyków 
ORGANIZER;CN=WGO Gminy Piaseczno:MAILTO:go@piaseczno.eu
DESCRIPTION: Odbiór odpadów 
URL;VALUE=URI:https://odpady.piaseczno.eu/harmonogram-odbioru-odpadow/odbior/sektor-iii-jozefoslaw-od-ul-cyprysowej-do-ul-wilanowskiej-14e-4/
SUMMARY:SEKTOR III - JÓZEFOSŁAW od ul. Cyprysowej do ul. Storczyków
END:VEVENT
BEGIN:VEVENT
DTSTART:20260515T060000Z
DTEND:20260515T190000Z
DTSTAMP:20260423T124027Z
UID:69ea133b15d3a
CATEGORIES:Odpady segregowane - szkło
LOCATION:SEKTOR III: JÓZEFOSŁAW od ul. Cyprysowej do ul. Storczyków 
ORGANIZER;CN=WGO Gminy Piaseczno:MAILTO:go@piaseczno.eu
DESCRIPTION: Odbiór odpadów 
URL;VALUE=URI:https://odpady.piaseczno.eu/harmonogram-odbioru-odpadow/odbior/sektor-iii-jozefoslaw-od-ul-cyprysowej-do-ul-wilanowskiej-14e-4/
SUMMARY:SEKTOR III - JÓZEFOSŁAW od ul. Cyprysowej do ul. Storczyków
END:VEVENT
BEGIN:VEVENT
DTSTART:20260612T060000Z
DTEND:20260612T190000Z
DTSTAMP:20260423T124027Z
UID:69ea133b15d58
CATEGORIES:Odpady segregowane - szkło
LOCATION:SEKTOR III: JÓZEFOSŁAW od ul. Cyprysowej do ul. Storczyków 
ORGANIZER;CN=WGO Gminy Piaseczno:MAILTO:go@piaseczno.eu
DESCRIPTION: Odbiór odpadów 
URL;VALUE=URI:https://odpady.piaseczno.eu/harmonogram-odbioru-odpadow/odbior/sektor-iii-jozefoslaw-od-ul-cyprysowej-do-ul-wilanowskiej-14e-4/
SUMMARY:SEKTOR III - JÓZEFOSŁAW od ul. Cyprysowej do ul. Storczyków
END:VEVENT
BEGIN:VEVENT
DTSTART:20260710T060000Z
DTEND:20260710T190000Z
DTSTAMP:20260423T124027Z
UID:69ea133b15d74
CATEGORIES:Odpady segregowane - szkło
LOCATION:SEKTOR III: JÓZEFOSŁAW od ul. Cyprysowej do ul. Storczyków 
ORGANIZER;CN=WGO Gminy Piaseczno:MAILTO:go@piaseczno.eu
DESCRIPTION: Odbiór odpadów 
URL;VALUE=URI:https://odpady.piaseczno.eu/harmonogram-odbioru-odpadow/odbior/sektor-iii-jozefoslaw-od-ul-cyprysowej-do-ul-wilanowskiej-14e-4/
SUMMARY:SEKTOR III - JÓZEFOSŁAW od ul. Cyprysowej do ul. Storczyków
END:VEVENT
BEGIN:VEVENT
DTSTART:20260807T060000Z
DTEND:20260807T190000Z
DTSTAMP:20260423T124027Z
UID:69ea133b15d98
CATEGORIES:Odpady segregowane - szkło
LOCATION:SEKTOR III: JÓZEFOSŁAW od ul. Cyprysowej do ul. Storczyków 
ORGANIZER;CN=WGO Gminy Piaseczno:MAILTO:go@piaseczno.eu
DESCRIPTION: Odbiór odpadów 
URL;VALUE=URI:https://odpady.piaseczno.eu/harmonogram-odbioru-odpadow/odbior/sektor-iii-jozefoslaw-od-ul-cyprysowej-do-ul-wilanowskiej-14e-4/
SUMMARY:SEKTOR III - JÓZEFOSŁAW od ul. Cyprysowej do ul. Storczyków
END:VEVENT
BEGIN:VEVENT
DTSTART:20260904T060000Z
DTEND:20260904T190000Z
DTSTAMP:20260423T124027Z
UID:69ea133b15db4
CATEGORIES:Odpady segregowane - szkło
LOCATION:SEKTOR III: JÓZEFOSŁAW od ul. Cyprysowej do ul. Storczyków 
ORGANIZER;CN=WGO Gminy Piaseczno:MAILTO:go@piaseczno.eu
DESCRIPTION: Odbiór odpadów 
URL;VALUE=URI:https://odpady.piaseczno.eu/harmonogram-odbioru-odpadow/odbior/sektor-iii-jozefoslaw-od-ul-cyprysowej-do-ul-wilanowskiej-14e-4/
SUMMARY:SEKTOR III - JÓZEFOSŁAW od ul. Cyprysowej do ul. Storczyków
END:VEVENT
BEGIN:VEVENT
DTSTART:20261002T060000Z
DTEND:20261002T190000Z
DTSTAMP:20260423T124027Z
UID:69ea133b15dde
CATEGORIES:Odpady segregowane - szkło
LOCATION:SEKTOR III: JÓZEFOSŁAW od ul. Cyprysowej do ul. Storczyków 
ORGANIZER;CN=WGO Gminy Piaseczno:MAILTO:go@piaseczno.eu
DESCRIPTION: Odbiór odpadów 
URL;VALUE=URI:https://odpady.piaseczno.eu/harmonogram-odbioru-odpadow/odbior/sektor-iii-jozefoslaw-od-ul-cyprysowej-do-ul-wilanowskiej-14e-4/
SUMMARY:SEKTOR III - JÓZEFOSŁAW od ul. Cyprysowej do ul. Storczyków
END:VEVENT
BEGIN:VEVENT
DTSTART:20261030T060000Z
DTEND:20261030T190000Z
DTSTAMP:20260423T124027Z
UID:69ea133b15dfa
CATEGORIES:Odpady segregowane - szkło
LOCATION:SEKTOR III: JÓZEFOSŁAW od ul. Cyprysowej do ul. Storczyków 
ORGANIZER;CN=WGO Gminy Piaseczno:MAILTO:go@piaseczno.eu
DESCRIPTION: Odbiór odpadów 
URL;VALUE=URI:https://odpady.piaseczno.eu/harmonogram-odbioru-odpadow/odbior/sektor-iii-jozefoslaw-od-ul-cyprysowej-do-ul-wilanowskiej-14e-4/
SUMMARY:SEKTOR III - JÓZEFOSŁAW od ul. Cyprysowej do ul. Storczyków
END:VEVENT
BEGIN:VEVENT
DTSTART:20261127T060000Z
DTEND:20261127T190000Z
DTSTAMP:20260423T124027Z
UID:69ea133b15e15
CATEGORIES:Odpady segregowane - szkło
LOCATION:SEKTOR III: JÓZEFOSŁAW od ul. Cyprysowej do ul. Storczyków 
ORGANIZER;CN=WGO Gminy Piaseczno:MAILTO:go@piaseczno.eu
DESCRIPTION: Odbiór odpadów 
URL;VALUE=URI:https://odpady.piaseczno.eu/harmonogram-odbioru-odpadow/odbior/sektor-iii-jozefoslaw-od-ul-cyprysowej-do-ul-wilanowskiej-14e-4/
SUMMARY:SEKTOR III - JÓZEFOSŁAW od ul. Cyprysowej do ul. Storczyków
END:VEVENT
END:VCALENDAR
