BEGIN:VCALENDAR
VERSION:2.0
PRODID:-//DIGITAL FACTORY//EVENTS MAKER V1.6.12//EN
CALSCALE:GREGORIAN
METHOD:PUBLISH
BEGIN:VEVENT
DTSTART:20251222T060000Z
DTEND:20251222T190000Z
DTSTAMP:20260421T023717Z
UID:69e6e2ddde23d
CATEGORIES:odpady segregowane - papier
LOCATION:SEKTOR III: JÓZEFOSŁAW od ul. Cyprysowej do ul. Storczyków 
ORGANIZER;CN=WGO Gminy Piaseczno:MAILTO:go@piaseczno.eu
DESCRIPTION: Odbiór odpadów 
URL;VALUE=URI:https://odpady.piaseczno.eu/harmonogram-odbioru-odpadow/odbior/sektor-iii-jozefoslaw-od-ul-cyprysowej-do-ul-wilanowskiej-14e-3/
SUMMARY:SEKTOR III - JÓZEFOSŁAW od ul. Cyprysowej do ul. Storczyków
END:VEVENT
BEGIN:VEVENT
DTSTART:20260121T060000Z
DTEND:20260121T190000Z
DTSTAMP:20260421T023717Z
UID:69e6e2ddde314
CATEGORIES:odpady segregowane - papier
LOCATION:SEKTOR III: JÓZEFOSŁAW od ul. Cyprysowej do ul. Storczyków 
ORGANIZER;CN=WGO Gminy Piaseczno:MAILTO:go@piaseczno.eu
DESCRIPTION: Odbiór odpadów 
URL;VALUE=URI:https://odpady.piaseczno.eu/harmonogram-odbioru-odpadow/odbior/sektor-iii-jozefoslaw-od-ul-cyprysowej-do-ul-wilanowskiej-14e-3/
SUMMARY:SEKTOR III - JÓZEFOSŁAW od ul. Cyprysowej do ul. Storczyków
END:VEVENT
BEGIN:VEVENT
DTSTART:20260218T060000Z
DTEND:20260218T190000Z
DTSTAMP:20260421T023717Z
UID:69e6e2ddde355
CATEGORIES:odpady segregowane - papier
LOCATION:SEKTOR III: JÓZEFOSŁAW od ul. Cyprysowej do ul. Storczyków 
ORGANIZER;CN=WGO Gminy Piaseczno:MAILTO:go@piaseczno.eu
DESCRIPTION: Odbiór odpadów 
URL;VALUE=URI:https://odpady.piaseczno.eu/harmonogram-odbioru-odpadow/odbior/sektor-iii-jozefoslaw-od-ul-cyprysowej-do-ul-wilanowskiej-14e-3/
SUMMARY:SEKTOR III - JÓZEFOSŁAW od ul. Cyprysowej do ul. Storczyków
END:VEVENT
BEGIN:VEVENT
DTSTART:20260318T060000Z
DTEND:20260318T190000Z
DTSTAMP:20260421T023717Z
UID:69e6e2ddde379
CATEGORIES:odpady segregowane - papier
LOCATION:SEKTOR III: JÓZEFOSŁAW od ul. Cyprysowej do ul. Storczyków 
ORGANIZER;CN=WGO Gminy Piaseczno:MAILTO:go@piaseczno.eu
DESCRIPTION: Odbiór odpadów 
URL;VALUE=URI:https://odpady.piaseczno.eu/harmonogram-odbioru-odpadow/odbior/sektor-iii-jozefoslaw-od-ul-cyprysowej-do-ul-wilanowskiej-14e-3/
SUMMARY:SEKTOR III - JÓZEFOSŁAW od ul. Cyprysowej do ul. Storczyków
END:VEVENT
BEGIN:VEVENT
DTSTART:20260415T060000Z
DTEND:20260415T190000Z
DTSTAMP:20260421T023717Z
UID:69e6e2ddde399
CATEGORIES:odpady segregowane - papier
LOCATION:SEKTOR III: JÓZEFOSŁAW od ul. Cyprysowej do ul. Storczyków 
ORGANIZER;CN=WGO Gminy Piaseczno:MAILTO:go@piaseczno.eu
DESCRIPTION: Odbiór odpadów 
URL;VALUE=URI:https://odpady.piaseczno.eu/harmonogram-odbioru-odpadow/odbior/sektor-iii-jozefoslaw-od-ul-cyprysowej-do-ul-wilanowskiej-14e-3/
SUMMARY:SEKTOR III - JÓZEFOSŁAW od ul. Cyprysowej do ul. Storczyków
END:VEVENT
BEGIN:VEVENT
DTSTART:20260513T060000Z
DTEND:20260513T190000Z
DTSTAMP:20260421T023717Z
UID:69e6e2ddde3b6
CATEGORIES:odpady segregowane - papier
LOCATION:SEKTOR III: JÓZEFOSŁAW od ul. Cyprysowej do ul. Storczyków 
ORGANIZER;CN=WGO Gminy Piaseczno:MAILTO:go@piaseczno.eu
DESCRIPTION: Odbiór odpadów 
URL;VALUE=URI:https://odpady.piaseczno.eu/harmonogram-odbioru-odpadow/odbior/sektor-iii-jozefoslaw-od-ul-cyprysowej-do-ul-wilanowskiej-14e-3/
SUMMARY:SEKTOR III - JÓZEFOSŁAW od ul. Cyprysowej do ul. Storczyków
END:VEVENT
BEGIN:VEVENT
DTSTART:20260610T060000Z
DTEND:20260610T190000Z
DTSTAMP:20260421T023717Z
UID:69e6e2ddde3d3
CATEGORIES:odpady segregowane - papier
LOCATION:SEKTOR III: JÓZEFOSŁAW od ul. Cyprysowej do ul. Storczyków 
ORGANIZER;CN=WGO Gminy Piaseczno:MAILTO:go@piaseczno.eu
DESCRIPTION: Odbiór odpadów 
URL;VALUE=URI:https://odpady.piaseczno.eu/harmonogram-odbioru-odpadow/odbior/sektor-iii-jozefoslaw-od-ul-cyprysowej-do-ul-wilanowskiej-14e-3/
SUMMARY:SEKTOR III - JÓZEFOSŁAW od ul. Cyprysowej do ul. Storczyków
END:VEVENT
BEGIN:VEVENT
DTSTART:20260708T060000Z
DTEND:20260708T190000Z
DTSTAMP:20260421T023717Z
UID:69e6e2ddde3f0
CATEGORIES:odpady segregowane - papier
LOCATION:SEKTOR III: JÓZEFOSŁAW od ul. Cyprysowej do ul. Storczyków 
ORGANIZER;CN=WGO Gminy Piaseczno:MAILTO:go@piaseczno.eu
DESCRIPTION: Odbiór odpadów 
URL;VALUE=URI:https://odpady.piaseczno.eu/harmonogram-odbioru-odpadow/odbior/sektor-iii-jozefoslaw-od-ul-cyprysowej-do-ul-wilanowskiej-14e-3/
SUMMARY:SEKTOR III - JÓZEFOSŁAW od ul. Cyprysowej do ul. Storczyków
END:VEVENT
BEGIN:VEVENT
DTSTART:20260805T060000Z
DTEND:20260805T190000Z
DTSTAMP:20260421T023717Z
UID:69e6e2ddde414
CATEGORIES:odpady segregowane - papier
LOCATION:SEKTOR III: JÓZEFOSŁAW od ul. Cyprysowej do ul. Storczyków 
ORGANIZER;CN=WGO Gminy Piaseczno:MAILTO:go@piaseczno.eu
DESCRIPTION: Odbiór odpadów 
URL;VALUE=URI:https://odpady.piaseczno.eu/harmonogram-odbioru-odpadow/odbior/sektor-iii-jozefoslaw-od-ul-cyprysowej-do-ul-wilanowskiej-14e-3/
SUMMARY:SEKTOR III - JÓZEFOSŁAW od ul. Cyprysowej do ul. Storczyków
END:VEVENT
BEGIN:VEVENT
DTSTART:20260902T060000Z
DTEND:20260902T190000Z
DTSTAMP:20260421T023717Z
UID:69e6e2ddde430
CATEGORIES:odpady segregowane - papier
LOCATION:SEKTOR III: JÓZEFOSŁAW od ul. Cyprysowej do ul. Storczyków 
ORGANIZER;CN=WGO Gminy Piaseczno:MAILTO:go@piaseczno.eu
DESCRIPTION: Odbiór odpadów 
URL;VALUE=URI:https://odpady.piaseczno.eu/harmonogram-odbioru-odpadow/odbior/sektor-iii-jozefoslaw-od-ul-cyprysowej-do-ul-wilanowskiej-14e-3/
SUMMARY:SEKTOR III - JÓZEFOSŁAW od ul. Cyprysowej do ul. Storczyków
END:VEVENT
BEGIN:VEVENT
DTSTART:20260930T060000Z
DTEND:20260930T190000Z
DTSTAMP:20260421T023717Z
UID:69e6e2ddde44c
CATEGORIES:odpady segregowane - papier
LOCATION:SEKTOR III: JÓZEFOSŁAW od ul. Cyprysowej do ul. Storczyków 
ORGANIZER;CN=WGO Gminy Piaseczno:MAILTO:go@piaseczno.eu
DESCRIPTION: Odbiór odpadów 
URL;VALUE=URI:https://odpady.piaseczno.eu/harmonogram-odbioru-odpadow/odbior/sektor-iii-jozefoslaw-od-ul-cyprysowej-do-ul-wilanowskiej-14e-3/
SUMMARY:SEKTOR III - JÓZEFOSŁAW od ul. Cyprysowej do ul. Storczyków
END:VEVENT
BEGIN:VEVENT
DTSTART:20261028T060000Z
DTEND:20261028T190000Z
DTSTAMP:20260421T023717Z
UID:69e6e2ddde468
CATEGORIES:odpady segregowane - papier
LOCATION:SEKTOR III: JÓZEFOSŁAW od ul. Cyprysowej do ul. Storczyków 
ORGANIZER;CN=WGO Gminy Piaseczno:MAILTO:go@piaseczno.eu
DESCRIPTION: Odbiór odpadów 
URL;VALUE=URI:https://odpady.piaseczno.eu/harmonogram-odbioru-odpadow/odbior/sektor-iii-jozefoslaw-od-ul-cyprysowej-do-ul-wilanowskiej-14e-3/
SUMMARY:SEKTOR III - JÓZEFOSŁAW od ul. Cyprysowej do ul. Storczyków
END:VEVENT
BEGIN:VEVENT
DTSTART:20261125T060000Z
DTEND:20261125T190000Z
DTSTAMP:20260421T023717Z
UID:69e6e2ddde490
CATEGORIES:odpady segregowane - papier
LOCATION:SEKTOR III: JÓZEFOSŁAW od ul. Cyprysowej do ul. Storczyków 
ORGANIZER;CN=WGO Gminy Piaseczno:MAILTO:go@piaseczno.eu
DESCRIPTION: Odbiór odpadów 
URL;VALUE=URI:https://odpady.piaseczno.eu/harmonogram-odbioru-odpadow/odbior/sektor-iii-jozefoslaw-od-ul-cyprysowej-do-ul-wilanowskiej-14e-3/
SUMMARY:SEKTOR III - JÓZEFOSŁAW od ul. Cyprysowej do ul. Storczyków
END:VEVENT
END:VCALENDAR
