BEGIN:VCALENDAR
VERSION:2.0
PRODID:-//DIGITAL FACTORY//EVENTS MAKER V1.6.12//EN
CALSCALE:GREGORIAN
METHOD:PUBLISH
BEGIN:VEVENT
DTSTART:20251209T060000Z
DTEND:20251209T190000Z
DTSTAMP:20260422T075740Z
UID:69e87f74674f8
CATEGORIES:Odpady segregowane -tworzywa sztuczne i metale
LOCATION:SEKTOR III: JÓZEFOSŁAW od ul. Cyprysowej do ul. Storczyków 
ORGANIZER;CN=WGO Gminy Piaseczno:MAILTO:go@piaseczno.eu
DESCRIPTION: Odbiór odpadów 
URL;VALUE=URI:https://odpady.piaseczno.eu/harmonogram-odbioru-odpadow/odbior/sektor-iii-jozefoslaw-od-ul-cyprysowej-do-ul-wilanowskiej-14e-2/
SUMMARY:SEKTOR III - JÓZEFOSŁAW od ul. Cyprysowej do ul. Storczyków
END:VEVENT
BEGIN:VEVENT
DTSTART:20251223T060000Z
DTEND:20251223T190000Z
DTSTAMP:20260422T075740Z
UID:69e87f74675a1
CATEGORIES:Odpady segregowane -tworzywa sztuczne i metale
LOCATION:SEKTOR III: JÓZEFOSŁAW od ul. Cyprysowej do ul. Storczyków 
ORGANIZER;CN=WGO Gminy Piaseczno:MAILTO:go@piaseczno.eu
DESCRIPTION: Odbiór odpadów 
URL;VALUE=URI:https://odpady.piaseczno.eu/harmonogram-odbioru-odpadow/odbior/sektor-iii-jozefoslaw-od-ul-cyprysowej-do-ul-wilanowskiej-14e-2/
SUMMARY:SEKTOR III - JÓZEFOSŁAW od ul. Cyprysowej do ul. Storczyków
END:VEVENT
BEGIN:VEVENT
DTSTART:20260105T060000Z
DTEND:20260105T190000Z
DTSTAMP:20260422T075740Z
UID:69e87f74675cb
CATEGORIES:Odpady segregowane -tworzywa sztuczne i metale
LOCATION:SEKTOR III: JÓZEFOSŁAW od ul. Cyprysowej do ul. Storczyków 
ORGANIZER;CN=WGO Gminy Piaseczno:MAILTO:go@piaseczno.eu
DESCRIPTION: Odbiór odpadów 
URL;VALUE=URI:https://odpady.piaseczno.eu/harmonogram-odbioru-odpadow/odbior/sektor-iii-jozefoslaw-od-ul-cyprysowej-do-ul-wilanowskiej-14e-2/
SUMMARY:SEKTOR III - JÓZEFOSŁAW od ul. Cyprysowej do ul. Storczyków
END:VEVENT
BEGIN:VEVENT
DTSTART:20260120T060000Z
DTEND:20260120T190000Z
DTSTAMP:20260422T075740Z
UID:69e87f74675eb
CATEGORIES:Odpady segregowane -tworzywa sztuczne i metale
LOCATION:SEKTOR III: JÓZEFOSŁAW od ul. Cyprysowej do ul. Storczyków 
ORGANIZER;CN=WGO Gminy Piaseczno:MAILTO:go@piaseczno.eu
DESCRIPTION: Odbiór odpadów 
URL;VALUE=URI:https://odpady.piaseczno.eu/harmonogram-odbioru-odpadow/odbior/sektor-iii-jozefoslaw-od-ul-cyprysowej-do-ul-wilanowskiej-14e-2/
SUMMARY:SEKTOR III - JÓZEFOSŁAW od ul. Cyprysowej do ul. Storczyków
END:VEVENT
BEGIN:VEVENT
DTSTART:20260203T060000Z
DTEND:20260203T190000Z
DTSTAMP:20260422T075740Z
UID:69e87f7467607
CATEGORIES:Odpady segregowane -tworzywa sztuczne i metale
LOCATION:SEKTOR III: JÓZEFOSŁAW od ul. Cyprysowej do ul. Storczyków 
ORGANIZER;CN=WGO Gminy Piaseczno:MAILTO:go@piaseczno.eu
DESCRIPTION: Odbiór odpadów 
URL;VALUE=URI:https://odpady.piaseczno.eu/harmonogram-odbioru-odpadow/odbior/sektor-iii-jozefoslaw-od-ul-cyprysowej-do-ul-wilanowskiej-14e-2/
SUMMARY:SEKTOR III - JÓZEFOSŁAW od ul. Cyprysowej do ul. Storczyków
END:VEVENT
BEGIN:VEVENT
DTSTART:20260217T060000Z
DTEND:20260217T190000Z
DTSTAMP:20260422T075740Z
UID:69e87f7467623
CATEGORIES:Odpady segregowane -tworzywa sztuczne i metale
LOCATION:SEKTOR III: JÓZEFOSŁAW od ul. Cyprysowej do ul. Storczyków 
ORGANIZER;CN=WGO Gminy Piaseczno:MAILTO:go@piaseczno.eu
DESCRIPTION: Odbiór odpadów 
URL;VALUE=URI:https://odpady.piaseczno.eu/harmonogram-odbioru-odpadow/odbior/sektor-iii-jozefoslaw-od-ul-cyprysowej-do-ul-wilanowskiej-14e-2/
SUMMARY:SEKTOR III - JÓZEFOSŁAW od ul. Cyprysowej do ul. Storczyków
END:VEVENT
BEGIN:VEVENT
DTSTART:20260303T060000Z
DTEND:20260303T190000Z
DTSTAMP:20260422T075740Z
UID:69e87f7467643
CATEGORIES:Odpady segregowane -tworzywa sztuczne i metale
LOCATION:SEKTOR III: JÓZEFOSŁAW od ul. Cyprysowej do ul. Storczyków 
ORGANIZER;CN=WGO Gminy Piaseczno:MAILTO:go@piaseczno.eu
DESCRIPTION: Odbiór odpadów 
URL;VALUE=URI:https://odpady.piaseczno.eu/harmonogram-odbioru-odpadow/odbior/sektor-iii-jozefoslaw-od-ul-cyprysowej-do-ul-wilanowskiej-14e-2/
SUMMARY:SEKTOR III - JÓZEFOSŁAW od ul. Cyprysowej do ul. Storczyków
END:VEVENT
BEGIN:VEVENT
DTSTART:20260317T060000Z
DTEND:20260317T190000Z
DTSTAMP:20260422T075740Z
UID:69e87f746765e
CATEGORIES:Odpady segregowane -tworzywa sztuczne i metale
LOCATION:SEKTOR III: JÓZEFOSŁAW od ul. Cyprysowej do ul. Storczyków 
ORGANIZER;CN=WGO Gminy Piaseczno:MAILTO:go@piaseczno.eu
DESCRIPTION: Odbiór odpadów 
URL;VALUE=URI:https://odpady.piaseczno.eu/harmonogram-odbioru-odpadow/odbior/sektor-iii-jozefoslaw-od-ul-cyprysowej-do-ul-wilanowskiej-14e-2/
SUMMARY:SEKTOR III - JÓZEFOSŁAW od ul. Cyprysowej do ul. Storczyków
END:VEVENT
BEGIN:VEVENT
DTSTART:20260331T060000Z
DTEND:20260331T190000Z
DTSTAMP:20260422T075740Z
UID:69e87f746767d
CATEGORIES:Odpady segregowane -tworzywa sztuczne i metale
LOCATION:SEKTOR III: JÓZEFOSŁAW od ul. Cyprysowej do ul. Storczyków 
ORGANIZER;CN=WGO Gminy Piaseczno:MAILTO:go@piaseczno.eu
DESCRIPTION: Odbiór odpadów 
URL;VALUE=URI:https://odpady.piaseczno.eu/harmonogram-odbioru-odpadow/odbior/sektor-iii-jozefoslaw-od-ul-cyprysowej-do-ul-wilanowskiej-14e-2/
SUMMARY:SEKTOR III - JÓZEFOSŁAW od ul. Cyprysowej do ul. Storczyków
END:VEVENT
BEGIN:VEVENT
DTSTART:20260414T060000Z
DTEND:20260414T190000Z
DTSTAMP:20260422T075740Z
UID:69e87f7467697
CATEGORIES:Odpady segregowane -tworzywa sztuczne i metale
LOCATION:SEKTOR III: JÓZEFOSŁAW od ul. Cyprysowej do ul. Storczyków 
ORGANIZER;CN=WGO Gminy Piaseczno:MAILTO:go@piaseczno.eu
DESCRIPTION: Odbiór odpadów 
URL;VALUE=URI:https://odpady.piaseczno.eu/harmonogram-odbioru-odpadow/odbior/sektor-iii-jozefoslaw-od-ul-cyprysowej-do-ul-wilanowskiej-14e-2/
SUMMARY:SEKTOR III - JÓZEFOSŁAW od ul. Cyprysowej do ul. Storczyków
END:VEVENT
BEGIN:VEVENT
DTSTART:20260428T060000Z
DTEND:20260428T190000Z
DTSTAMP:20260422T075740Z
UID:69e87f74676b0
CATEGORIES:Odpady segregowane -tworzywa sztuczne i metale
LOCATION:SEKTOR III: JÓZEFOSŁAW od ul. Cyprysowej do ul. Storczyków 
ORGANIZER;CN=WGO Gminy Piaseczno:MAILTO:go@piaseczno.eu
DESCRIPTION: Odbiór odpadów 
URL;VALUE=URI:https://odpady.piaseczno.eu/harmonogram-odbioru-odpadow/odbior/sektor-iii-jozefoslaw-od-ul-cyprysowej-do-ul-wilanowskiej-14e-2/
SUMMARY:SEKTOR III - JÓZEFOSŁAW od ul. Cyprysowej do ul. Storczyków
END:VEVENT
BEGIN:VEVENT
DTSTART:20260512T060000Z
DTEND:20260512T190000Z
DTSTAMP:20260422T075740Z
UID:69e87f74676c9
CATEGORIES:Odpady segregowane -tworzywa sztuczne i metale
LOCATION:SEKTOR III: JÓZEFOSŁAW od ul. Cyprysowej do ul. Storczyków 
ORGANIZER;CN=WGO Gminy Piaseczno:MAILTO:go@piaseczno.eu
DESCRIPTION: Odbiór odpadów 
URL;VALUE=URI:https://odpady.piaseczno.eu/harmonogram-odbioru-odpadow/odbior/sektor-iii-jozefoslaw-od-ul-cyprysowej-do-ul-wilanowskiej-14e-2/
SUMMARY:SEKTOR III - JÓZEFOSŁAW od ul. Cyprysowej do ul. Storczyków
END:VEVENT
BEGIN:VEVENT
DTSTART:20260526T060000Z
DTEND:20260526T190000Z
DTSTAMP:20260422T075740Z
UID:69e87f74676ea
CATEGORIES:Odpady segregowane -tworzywa sztuczne i metale
LOCATION:SEKTOR III: JÓZEFOSŁAW od ul. Cyprysowej do ul. Storczyków 
ORGANIZER;CN=WGO Gminy Piaseczno:MAILTO:go@piaseczno.eu
DESCRIPTION: Odbiór odpadów 
URL;VALUE=URI:https://odpady.piaseczno.eu/harmonogram-odbioru-odpadow/odbior/sektor-iii-jozefoslaw-od-ul-cyprysowej-do-ul-wilanowskiej-14e-2/
SUMMARY:SEKTOR III - JÓZEFOSŁAW od ul. Cyprysowej do ul. Storczyków
END:VEVENT
BEGIN:VEVENT
DTSTART:20260609T060000Z
DTEND:20260609T190000Z
DTSTAMP:20260422T075740Z
UID:69e87f7467705
CATEGORIES:Odpady segregowane -tworzywa sztuczne i metale
LOCATION:SEKTOR III: JÓZEFOSŁAW od ul. Cyprysowej do ul. Storczyków 
ORGANIZER;CN=WGO Gminy Piaseczno:MAILTO:go@piaseczno.eu
DESCRIPTION: Odbiór odpadów 
URL;VALUE=URI:https://odpady.piaseczno.eu/harmonogram-odbioru-odpadow/odbior/sektor-iii-jozefoslaw-od-ul-cyprysowej-do-ul-wilanowskiej-14e-2/
SUMMARY:SEKTOR III - JÓZEFOSŁAW od ul. Cyprysowej do ul. Storczyków
END:VEVENT
BEGIN:VEVENT
DTSTART:20260623T060000Z
DTEND:20260623T190000Z
DTSTAMP:20260422T075740Z
UID:69e87f746771e
CATEGORIES:Odpady segregowane -tworzywa sztuczne i metale
LOCATION:SEKTOR III: JÓZEFOSŁAW od ul. Cyprysowej do ul. Storczyków 
ORGANIZER;CN=WGO Gminy Piaseczno:MAILTO:go@piaseczno.eu
DESCRIPTION: Odbiór odpadów 
URL;VALUE=URI:https://odpady.piaseczno.eu/harmonogram-odbioru-odpadow/odbior/sektor-iii-jozefoslaw-od-ul-cyprysowej-do-ul-wilanowskiej-14e-2/
SUMMARY:SEKTOR III - JÓZEFOSŁAW od ul. Cyprysowej do ul. Storczyków
END:VEVENT
BEGIN:VEVENT
DTSTART:20260707T060000Z
DTEND:20260707T190000Z
DTSTAMP:20260422T075740Z
UID:69e87f746773f
CATEGORIES:Odpady segregowane -tworzywa sztuczne i metale
LOCATION:SEKTOR III: JÓZEFOSŁAW od ul. Cyprysowej do ul. Storczyków 
ORGANIZER;CN=WGO Gminy Piaseczno:MAILTO:go@piaseczno.eu
DESCRIPTION: Odbiór odpadów 
URL;VALUE=URI:https://odpady.piaseczno.eu/harmonogram-odbioru-odpadow/odbior/sektor-iii-jozefoslaw-od-ul-cyprysowej-do-ul-wilanowskiej-14e-2/
SUMMARY:SEKTOR III - JÓZEFOSŁAW od ul. Cyprysowej do ul. Storczyków
END:VEVENT
BEGIN:VEVENT
DTSTART:20260721T060000Z
DTEND:20260721T190000Z
DTSTAMP:20260422T075740Z
UID:69e87f7467759
CATEGORIES:Odpady segregowane -tworzywa sztuczne i metale
LOCATION:SEKTOR III: JÓZEFOSŁAW od ul. Cyprysowej do ul. Storczyków 
ORGANIZER;CN=WGO Gminy Piaseczno:MAILTO:go@piaseczno.eu
DESCRIPTION: Odbiór odpadów 
URL;VALUE=URI:https://odpady.piaseczno.eu/harmonogram-odbioru-odpadow/odbior/sektor-iii-jozefoslaw-od-ul-cyprysowej-do-ul-wilanowskiej-14e-2/
SUMMARY:SEKTOR III - JÓZEFOSŁAW od ul. Cyprysowej do ul. Storczyków
END:VEVENT
BEGIN:VEVENT
DTSTART:20260804T060000Z
DTEND:20260804T190000Z
DTSTAMP:20260422T075740Z
UID:69e87f7467773
CATEGORIES:Odpady segregowane -tworzywa sztuczne i metale
LOCATION:SEKTOR III: JÓZEFOSŁAW od ul. Cyprysowej do ul. Storczyków 
ORGANIZER;CN=WGO Gminy Piaseczno:MAILTO:go@piaseczno.eu
DESCRIPTION: Odbiór odpadów 
URL;VALUE=URI:https://odpady.piaseczno.eu/harmonogram-odbioru-odpadow/odbior/sektor-iii-jozefoslaw-od-ul-cyprysowej-do-ul-wilanowskiej-14e-2/
SUMMARY:SEKTOR III - JÓZEFOSŁAW od ul. Cyprysowej do ul. Storczyków
END:VEVENT
BEGIN:VEVENT
DTSTART:20260818T060000Z
DTEND:20260818T190000Z
DTSTAMP:20260422T075740Z
UID:69e87f746778c
CATEGORIES:Odpady segregowane -tworzywa sztuczne i metale
LOCATION:SEKTOR III: JÓZEFOSŁAW od ul. Cyprysowej do ul. Storczyków 
ORGANIZER;CN=WGO Gminy Piaseczno:MAILTO:go@piaseczno.eu
DESCRIPTION: Odbiór odpadów 
URL;VALUE=URI:https://odpady.piaseczno.eu/harmonogram-odbioru-odpadow/odbior/sektor-iii-jozefoslaw-od-ul-cyprysowej-do-ul-wilanowskiej-14e-2/
SUMMARY:SEKTOR III - JÓZEFOSŁAW od ul. Cyprysowej do ul. Storczyków
END:VEVENT
BEGIN:VEVENT
DTSTART:20260901T060000Z
DTEND:20260901T190000Z
DTSTAMP:20260422T075740Z
UID:69e87f74677a5
CATEGORIES:Odpady segregowane -tworzywa sztuczne i metale
LOCATION:SEKTOR III: JÓZEFOSŁAW od ul. Cyprysowej do ul. Storczyków 
ORGANIZER;CN=WGO Gminy Piaseczno:MAILTO:go@piaseczno.eu
DESCRIPTION: Odbiór odpadów 
URL;VALUE=URI:https://odpady.piaseczno.eu/harmonogram-odbioru-odpadow/odbior/sektor-iii-jozefoslaw-od-ul-cyprysowej-do-ul-wilanowskiej-14e-2/
SUMMARY:SEKTOR III - JÓZEFOSŁAW od ul. Cyprysowej do ul. Storczyków
END:VEVENT
BEGIN:VEVENT
DTSTART:20260915T060000Z
DTEND:20260915T190000Z
DTSTAMP:20260422T075740Z
UID:69e87f74677be
CATEGORIES:Odpady segregowane -tworzywa sztuczne i metale
LOCATION:SEKTOR III: JÓZEFOSŁAW od ul. Cyprysowej do ul. Storczyków 
ORGANIZER;CN=WGO Gminy Piaseczno:MAILTO:go@piaseczno.eu
DESCRIPTION: Odbiór odpadów 
URL;VALUE=URI:https://odpady.piaseczno.eu/harmonogram-odbioru-odpadow/odbior/sektor-iii-jozefoslaw-od-ul-cyprysowej-do-ul-wilanowskiej-14e-2/
SUMMARY:SEKTOR III - JÓZEFOSŁAW od ul. Cyprysowej do ul. Storczyków
END:VEVENT
BEGIN:VEVENT
DTSTART:20260929T060000Z
DTEND:20260929T190000Z
DTSTAMP:20260422T075740Z
UID:69e87f74677d7
CATEGORIES:Odpady segregowane -tworzywa sztuczne i metale
LOCATION:SEKTOR III: JÓZEFOSŁAW od ul. Cyprysowej do ul. Storczyków 
ORGANIZER;CN=WGO Gminy Piaseczno:MAILTO:go@piaseczno.eu
DESCRIPTION: Odbiór odpadów 
URL;VALUE=URI:https://odpady.piaseczno.eu/harmonogram-odbioru-odpadow/odbior/sektor-iii-jozefoslaw-od-ul-cyprysowej-do-ul-wilanowskiej-14e-2/
SUMMARY:SEKTOR III - JÓZEFOSŁAW od ul. Cyprysowej do ul. Storczyków
END:VEVENT
BEGIN:VEVENT
DTSTART:20261013T060000Z
DTEND:20261013T190000Z
DTSTAMP:20260422T075740Z
UID:69e87f74677f3
CATEGORIES:Odpady segregowane -tworzywa sztuczne i metale
LOCATION:SEKTOR III: JÓZEFOSŁAW od ul. Cyprysowej do ul. Storczyków 
ORGANIZER;CN=WGO Gminy Piaseczno:MAILTO:go@piaseczno.eu
DESCRIPTION: Odbiór odpadów 
URL;VALUE=URI:https://odpady.piaseczno.eu/harmonogram-odbioru-odpadow/odbior/sektor-iii-jozefoslaw-od-ul-cyprysowej-do-ul-wilanowskiej-14e-2/
SUMMARY:SEKTOR III - JÓZEFOSŁAW od ul. Cyprysowej do ul. Storczyków
END:VEVENT
BEGIN:VEVENT
DTSTART:20261027T060000Z
DTEND:20261027T190000Z
DTSTAMP:20260422T075740Z
UID:69e87f746780d
CATEGORIES:Odpady segregowane -tworzywa sztuczne i metale
LOCATION:SEKTOR III: JÓZEFOSŁAW od ul. Cyprysowej do ul. Storczyków 
ORGANIZER;CN=WGO Gminy Piaseczno:MAILTO:go@piaseczno.eu
DESCRIPTION: Odbiór odpadów 
URL;VALUE=URI:https://odpady.piaseczno.eu/harmonogram-odbioru-odpadow/odbior/sektor-iii-jozefoslaw-od-ul-cyprysowej-do-ul-wilanowskiej-14e-2/
SUMMARY:SEKTOR III - JÓZEFOSŁAW od ul. Cyprysowej do ul. Storczyków
END:VEVENT
BEGIN:VEVENT
DTSTART:20261110T060000Z
DTEND:20261110T190000Z
DTSTAMP:20260422T075740Z
UID:69e87f7467827
CATEGORIES:Odpady segregowane -tworzywa sztuczne i metale
LOCATION:SEKTOR III: JÓZEFOSŁAW od ul. Cyprysowej do ul. Storczyków 
ORGANIZER;CN=WGO Gminy Piaseczno:MAILTO:go@piaseczno.eu
DESCRIPTION: Odbiór odpadów 
URL;VALUE=URI:https://odpady.piaseczno.eu/harmonogram-odbioru-odpadow/odbior/sektor-iii-jozefoslaw-od-ul-cyprysowej-do-ul-wilanowskiej-14e-2/
SUMMARY:SEKTOR III - JÓZEFOSŁAW od ul. Cyprysowej do ul. Storczyków
END:VEVENT
BEGIN:VEVENT
DTSTART:20261124T060000Z
DTEND:20261124T190000Z
DTSTAMP:20260422T075740Z
UID:69e87f7467840
CATEGORIES:Odpady segregowane -tworzywa sztuczne i metale
LOCATION:SEKTOR III: JÓZEFOSŁAW od ul. Cyprysowej do ul. Storczyków 
ORGANIZER;CN=WGO Gminy Piaseczno:MAILTO:go@piaseczno.eu
DESCRIPTION: Odbiór odpadów 
URL;VALUE=URI:https://odpady.piaseczno.eu/harmonogram-odbioru-odpadow/odbior/sektor-iii-jozefoslaw-od-ul-cyprysowej-do-ul-wilanowskiej-14e-2/
SUMMARY:SEKTOR III - JÓZEFOSŁAW od ul. Cyprysowej do ul. Storczyków
END:VEVENT
END:VCALENDAR
