BEGIN:VCALENDAR
VERSION:2.0
PRODID:-//DIGITAL FACTORY//EVENTS MAKER V1.6.12//EN
CALSCALE:GREGORIAN
METHOD:PUBLISH
BEGIN:VEVENT
DTSTART:20251208T060000Z
DTEND:20251208T190000Z
DTSTAMP:20260423T213014Z
UID:69ea8f6651bc3
CATEGORIES:Odpady segregowane -tworzywa sztuczne i metale
LOCATION:SEKTOR III: JÓZEFOSŁAW od ul. Arniki do ul. Victorii 
ORGANIZER;CN=WGO Gminy Piaseczno:MAILTO:go@piaseczno.eu
DESCRIPTION: Odbiór odpadów 
URL;VALUE=URI:https://odpady.piaseczno.eu/harmonogram-odbioru-odpadow/odbior/sektor-iii-jozefoslaw-od-ul-arniki-do-ul-victorii-3/
SUMMARY:SEKTOR III: JÓZEFOSŁAW od ul. Arniki do ul. Victorii
END:VEVENT
BEGIN:VEVENT
DTSTART:20251220T060000Z
DTEND:20251220T190000Z
DTSTAMP:20260423T213014Z
UID:69ea8f6651c3d
CATEGORIES:Odpady segregowane -tworzywa sztuczne i metale
LOCATION:SEKTOR III: JÓZEFOSŁAW od ul. Arniki do ul. Victorii 
ORGANIZER;CN=WGO Gminy Piaseczno:MAILTO:go@piaseczno.eu
DESCRIPTION: Odbiór odpadów 
URL;VALUE=URI:https://odpady.piaseczno.eu/harmonogram-odbioru-odpadow/odbior/sektor-iii-jozefoslaw-od-ul-arniki-do-ul-victorii-3/
SUMMARY:SEKTOR III: JÓZEFOSŁAW od ul. Arniki do ul. Victorii
END:VEVENT
BEGIN:VEVENT
DTSTART:20260105T060000Z
DTEND:20260105T190000Z
DTSTAMP:20260423T213014Z
UID:69ea8f6651c63
CATEGORIES:Odpady segregowane -tworzywa sztuczne i metale
LOCATION:SEKTOR III: JÓZEFOSŁAW od ul. Arniki do ul. Victorii 
ORGANIZER;CN=WGO Gminy Piaseczno:MAILTO:go@piaseczno.eu
DESCRIPTION: Odbiór odpadów 
URL;VALUE=URI:https://odpady.piaseczno.eu/harmonogram-odbioru-odpadow/odbior/sektor-iii-jozefoslaw-od-ul-arniki-do-ul-victorii-3/
SUMMARY:SEKTOR III: JÓZEFOSŁAW od ul. Arniki do ul. Victorii
END:VEVENT
BEGIN:VEVENT
DTSTART:20260119T060000Z
DTEND:20260119T190000Z
DTSTAMP:20260423T213014Z
UID:69ea8f6651c83
CATEGORIES:Odpady segregowane -tworzywa sztuczne i metale
LOCATION:SEKTOR III: JÓZEFOSŁAW od ul. Arniki do ul. Victorii 
ORGANIZER;CN=WGO Gminy Piaseczno:MAILTO:go@piaseczno.eu
DESCRIPTION: Odbiór odpadów 
URL;VALUE=URI:https://odpady.piaseczno.eu/harmonogram-odbioru-odpadow/odbior/sektor-iii-jozefoslaw-od-ul-arniki-do-ul-victorii-3/
SUMMARY:SEKTOR III: JÓZEFOSŁAW od ul. Arniki do ul. Victorii
END:VEVENT
BEGIN:VEVENT
DTSTART:20260202T060000Z
DTEND:20260202T190000Z
DTSTAMP:20260423T213014Z
UID:69ea8f6651ca0
CATEGORIES:Odpady segregowane -tworzywa sztuczne i metale
LOCATION:SEKTOR III: JÓZEFOSŁAW od ul. Arniki do ul. Victorii 
ORGANIZER;CN=WGO Gminy Piaseczno:MAILTO:go@piaseczno.eu
DESCRIPTION: Odbiór odpadów 
URL;VALUE=URI:https://odpady.piaseczno.eu/harmonogram-odbioru-odpadow/odbior/sektor-iii-jozefoslaw-od-ul-arniki-do-ul-victorii-3/
SUMMARY:SEKTOR III: JÓZEFOSŁAW od ul. Arniki do ul. Victorii
END:VEVENT
BEGIN:VEVENT
DTSTART:20260216T060000Z
DTEND:20260216T190000Z
DTSTAMP:20260423T213014Z
UID:69ea8f6651cbb
CATEGORIES:Odpady segregowane -tworzywa sztuczne i metale
LOCATION:SEKTOR III: JÓZEFOSŁAW od ul. Arniki do ul. Victorii 
ORGANIZER;CN=WGO Gminy Piaseczno:MAILTO:go@piaseczno.eu
DESCRIPTION: Odbiór odpadów 
URL;VALUE=URI:https://odpady.piaseczno.eu/harmonogram-odbioru-odpadow/odbior/sektor-iii-jozefoslaw-od-ul-arniki-do-ul-victorii-3/
SUMMARY:SEKTOR III: JÓZEFOSŁAW od ul. Arniki do ul. Victorii
END:VEVENT
BEGIN:VEVENT
DTSTART:20260302T060000Z
DTEND:20260302T190000Z
DTSTAMP:20260423T213014Z
UID:69ea8f6651ce6
CATEGORIES:Odpady segregowane -tworzywa sztuczne i metale
LOCATION:SEKTOR III: JÓZEFOSŁAW od ul. Arniki do ul. Victorii 
ORGANIZER;CN=WGO Gminy Piaseczno:MAILTO:go@piaseczno.eu
DESCRIPTION: Odbiór odpadów 
URL;VALUE=URI:https://odpady.piaseczno.eu/harmonogram-odbioru-odpadow/odbior/sektor-iii-jozefoslaw-od-ul-arniki-do-ul-victorii-3/
SUMMARY:SEKTOR III: JÓZEFOSŁAW od ul. Arniki do ul. Victorii
END:VEVENT
BEGIN:VEVENT
DTSTART:20260316T060000Z
DTEND:20260316T190000Z
DTSTAMP:20260423T213014Z
UID:69ea8f6651d03
CATEGORIES:Odpady segregowane -tworzywa sztuczne i metale
LOCATION:SEKTOR III: JÓZEFOSŁAW od ul. Arniki do ul. Victorii 
ORGANIZER;CN=WGO Gminy Piaseczno:MAILTO:go@piaseczno.eu
DESCRIPTION: Odbiór odpadów 
URL;VALUE=URI:https://odpady.piaseczno.eu/harmonogram-odbioru-odpadow/odbior/sektor-iii-jozefoslaw-od-ul-arniki-do-ul-victorii-3/
SUMMARY:SEKTOR III: JÓZEFOSŁAW od ul. Arniki do ul. Victorii
END:VEVENT
BEGIN:VEVENT
DTSTART:20260330T060000Z
DTEND:20260330T190000Z
DTSTAMP:20260423T213014Z
UID:69ea8f6651d23
CATEGORIES:Odpady segregowane -tworzywa sztuczne i metale
LOCATION:SEKTOR III: JÓZEFOSŁAW od ul. Arniki do ul. Victorii 
ORGANIZER;CN=WGO Gminy Piaseczno:MAILTO:go@piaseczno.eu
DESCRIPTION: Odbiór odpadów 
URL;VALUE=URI:https://odpady.piaseczno.eu/harmonogram-odbioru-odpadow/odbior/sektor-iii-jozefoslaw-od-ul-arniki-do-ul-victorii-3/
SUMMARY:SEKTOR III: JÓZEFOSŁAW od ul. Arniki do ul. Victorii
END:VEVENT
BEGIN:VEVENT
DTSTART:20260413T060000Z
DTEND:20260413T190000Z
DTSTAMP:20260423T213014Z
UID:69ea8f6651d3e
CATEGORIES:Odpady segregowane -tworzywa sztuczne i metale
LOCATION:SEKTOR III: JÓZEFOSŁAW od ul. Arniki do ul. Victorii 
ORGANIZER;CN=WGO Gminy Piaseczno:MAILTO:go@piaseczno.eu
DESCRIPTION: Odbiór odpadów 
URL;VALUE=URI:https://odpady.piaseczno.eu/harmonogram-odbioru-odpadow/odbior/sektor-iii-jozefoslaw-od-ul-arniki-do-ul-victorii-3/
SUMMARY:SEKTOR III: JÓZEFOSŁAW od ul. Arniki do ul. Victorii
END:VEVENT
BEGIN:VEVENT
DTSTART:20260427T060000Z
DTEND:20260427T190000Z
DTSTAMP:20260423T213014Z
UID:69ea8f6651d57
CATEGORIES:Odpady segregowane -tworzywa sztuczne i metale
LOCATION:SEKTOR III: JÓZEFOSŁAW od ul. Arniki do ul. Victorii 
ORGANIZER;CN=WGO Gminy Piaseczno:MAILTO:go@piaseczno.eu
DESCRIPTION: Odbiór odpadów 
URL;VALUE=URI:https://odpady.piaseczno.eu/harmonogram-odbioru-odpadow/odbior/sektor-iii-jozefoslaw-od-ul-arniki-do-ul-victorii-3/
SUMMARY:SEKTOR III: JÓZEFOSŁAW od ul. Arniki do ul. Victorii
END:VEVENT
BEGIN:VEVENT
DTSTART:20260511T060000Z
DTEND:20260511T190000Z
DTSTAMP:20260423T213014Z
UID:69ea8f6651d71
CATEGORIES:Odpady segregowane -tworzywa sztuczne i metale
LOCATION:SEKTOR III: JÓZEFOSŁAW od ul. Arniki do ul. Victorii 
ORGANIZER;CN=WGO Gminy Piaseczno:MAILTO:go@piaseczno.eu
DESCRIPTION: Odbiór odpadów 
URL;VALUE=URI:https://odpady.piaseczno.eu/harmonogram-odbioru-odpadow/odbior/sektor-iii-jozefoslaw-od-ul-arniki-do-ul-victorii-3/
SUMMARY:SEKTOR III: JÓZEFOSŁAW od ul. Arniki do ul. Victorii
END:VEVENT
BEGIN:VEVENT
DTSTART:20260525T060000Z
DTEND:20260525T190000Z
DTSTAMP:20260423T213014Z
UID:69ea8f6651d8b
CATEGORIES:Odpady segregowane -tworzywa sztuczne i metale
LOCATION:SEKTOR III: JÓZEFOSŁAW od ul. Arniki do ul. Victorii 
ORGANIZER;CN=WGO Gminy Piaseczno:MAILTO:go@piaseczno.eu
DESCRIPTION: Odbiór odpadów 
URL;VALUE=URI:https://odpady.piaseczno.eu/harmonogram-odbioru-odpadow/odbior/sektor-iii-jozefoslaw-od-ul-arniki-do-ul-victorii-3/
SUMMARY:SEKTOR III: JÓZEFOSŁAW od ul. Arniki do ul. Victorii
END:VEVENT
BEGIN:VEVENT
DTSTART:20260608T060000Z
DTEND:20260608T190000Z
DTSTAMP:20260423T213014Z
UID:69ea8f6651da4
CATEGORIES:Odpady segregowane -tworzywa sztuczne i metale
LOCATION:SEKTOR III: JÓZEFOSŁAW od ul. Arniki do ul. Victorii 
ORGANIZER;CN=WGO Gminy Piaseczno:MAILTO:go@piaseczno.eu
DESCRIPTION: Odbiór odpadów 
URL;VALUE=URI:https://odpady.piaseczno.eu/harmonogram-odbioru-odpadow/odbior/sektor-iii-jozefoslaw-od-ul-arniki-do-ul-victorii-3/
SUMMARY:SEKTOR III: JÓZEFOSŁAW od ul. Arniki do ul. Victorii
END:VEVENT
BEGIN:VEVENT
DTSTART:20260622T060000Z
DTEND:20260622T190000Z
DTSTAMP:20260423T213014Z
UID:69ea8f6651dbd
CATEGORIES:Odpady segregowane -tworzywa sztuczne i metale
LOCATION:SEKTOR III: JÓZEFOSŁAW od ul. Arniki do ul. Victorii 
ORGANIZER;CN=WGO Gminy Piaseczno:MAILTO:go@piaseczno.eu
DESCRIPTION: Odbiór odpadów 
URL;VALUE=URI:https://odpady.piaseczno.eu/harmonogram-odbioru-odpadow/odbior/sektor-iii-jozefoslaw-od-ul-arniki-do-ul-victorii-3/
SUMMARY:SEKTOR III: JÓZEFOSŁAW od ul. Arniki do ul. Victorii
END:VEVENT
BEGIN:VEVENT
DTSTART:20260706T060000Z
DTEND:20260706T190000Z
DTSTAMP:20260423T213014Z
UID:69ea8f6651dd6
CATEGORIES:Odpady segregowane -tworzywa sztuczne i metale
LOCATION:SEKTOR III: JÓZEFOSŁAW od ul. Arniki do ul. Victorii 
ORGANIZER;CN=WGO Gminy Piaseczno:MAILTO:go@piaseczno.eu
DESCRIPTION: Odbiór odpadów 
URL;VALUE=URI:https://odpady.piaseczno.eu/harmonogram-odbioru-odpadow/odbior/sektor-iii-jozefoslaw-od-ul-arniki-do-ul-victorii-3/
SUMMARY:SEKTOR III: JÓZEFOSŁAW od ul. Arniki do ul. Victorii
END:VEVENT
BEGIN:VEVENT
DTSTART:20260720T060000Z
DTEND:20260720T190000Z
DTSTAMP:20260423T213014Z
UID:69ea8f6651df5
CATEGORIES:Odpady segregowane -tworzywa sztuczne i metale
LOCATION:SEKTOR III: JÓZEFOSŁAW od ul. Arniki do ul. Victorii 
ORGANIZER;CN=WGO Gminy Piaseczno:MAILTO:go@piaseczno.eu
DESCRIPTION: Odbiór odpadów 
URL;VALUE=URI:https://odpady.piaseczno.eu/harmonogram-odbioru-odpadow/odbior/sektor-iii-jozefoslaw-od-ul-arniki-do-ul-victorii-3/
SUMMARY:SEKTOR III: JÓZEFOSŁAW od ul. Arniki do ul. Victorii
END:VEVENT
BEGIN:VEVENT
DTSTART:20260803T060000Z
DTEND:20260803T190000Z
DTSTAMP:20260423T213014Z
UID:69ea8f6651e15
CATEGORIES:Odpady segregowane -tworzywa sztuczne i metale
LOCATION:SEKTOR III: JÓZEFOSŁAW od ul. Arniki do ul. Victorii 
ORGANIZER;CN=WGO Gminy Piaseczno:MAILTO:go@piaseczno.eu
DESCRIPTION: Odbiór odpadów 
URL;VALUE=URI:https://odpady.piaseczno.eu/harmonogram-odbioru-odpadow/odbior/sektor-iii-jozefoslaw-od-ul-arniki-do-ul-victorii-3/
SUMMARY:SEKTOR III: JÓZEFOSŁAW od ul. Arniki do ul. Victorii
END:VEVENT
BEGIN:VEVENT
DTSTART:20260817T060000Z
DTEND:20260817T190000Z
DTSTAMP:20260423T213014Z
UID:69ea8f6651e30
CATEGORIES:Odpady segregowane -tworzywa sztuczne i metale
LOCATION:SEKTOR III: JÓZEFOSŁAW od ul. Arniki do ul. Victorii 
ORGANIZER;CN=WGO Gminy Piaseczno:MAILTO:go@piaseczno.eu
DESCRIPTION: Odbiór odpadów 
URL;VALUE=URI:https://odpady.piaseczno.eu/harmonogram-odbioru-odpadow/odbior/sektor-iii-jozefoslaw-od-ul-arniki-do-ul-victorii-3/
SUMMARY:SEKTOR III: JÓZEFOSŁAW od ul. Arniki do ul. Victorii
END:VEVENT
BEGIN:VEVENT
DTSTART:20260831T060000Z
DTEND:20260831T190000Z
DTSTAMP:20260423T213014Z
UID:69ea8f6651e49
CATEGORIES:Odpady segregowane -tworzywa sztuczne i metale
LOCATION:SEKTOR III: JÓZEFOSŁAW od ul. Arniki do ul. Victorii 
ORGANIZER;CN=WGO Gminy Piaseczno:MAILTO:go@piaseczno.eu
DESCRIPTION: Odbiór odpadów 
URL;VALUE=URI:https://odpady.piaseczno.eu/harmonogram-odbioru-odpadow/odbior/sektor-iii-jozefoslaw-od-ul-arniki-do-ul-victorii-3/
SUMMARY:SEKTOR III: JÓZEFOSŁAW od ul. Arniki do ul. Victorii
END:VEVENT
BEGIN:VEVENT
DTSTART:20260914T060000Z
DTEND:20260914T190000Z
DTSTAMP:20260423T213014Z
UID:69ea8f6651e62
CATEGORIES:Odpady segregowane -tworzywa sztuczne i metale
LOCATION:SEKTOR III: JÓZEFOSŁAW od ul. Arniki do ul. Victorii 
ORGANIZER;CN=WGO Gminy Piaseczno:MAILTO:go@piaseczno.eu
DESCRIPTION: Odbiór odpadów 
URL;VALUE=URI:https://odpady.piaseczno.eu/harmonogram-odbioru-odpadow/odbior/sektor-iii-jozefoslaw-od-ul-arniki-do-ul-victorii-3/
SUMMARY:SEKTOR III: JÓZEFOSŁAW od ul. Arniki do ul. Victorii
END:VEVENT
BEGIN:VEVENT
DTSTART:20260928T060000Z
DTEND:20260928T190000Z
DTSTAMP:20260423T213014Z
UID:69ea8f6651e7b
CATEGORIES:Odpady segregowane -tworzywa sztuczne i metale
LOCATION:SEKTOR III: JÓZEFOSŁAW od ul. Arniki do ul. Victorii 
ORGANIZER;CN=WGO Gminy Piaseczno:MAILTO:go@piaseczno.eu
DESCRIPTION: Odbiór odpadów 
URL;VALUE=URI:https://odpady.piaseczno.eu/harmonogram-odbioru-odpadow/odbior/sektor-iii-jozefoslaw-od-ul-arniki-do-ul-victorii-3/
SUMMARY:SEKTOR III: JÓZEFOSŁAW od ul. Arniki do ul. Victorii
END:VEVENT
BEGIN:VEVENT
DTSTART:20261012T060000Z
DTEND:20261012T190000Z
DTSTAMP:20260423T213014Z
UID:69ea8f6651e94
CATEGORIES:Odpady segregowane -tworzywa sztuczne i metale
LOCATION:SEKTOR III: JÓZEFOSŁAW od ul. Arniki do ul. Victorii 
ORGANIZER;CN=WGO Gminy Piaseczno:MAILTO:go@piaseczno.eu
DESCRIPTION: Odbiór odpadów 
URL;VALUE=URI:https://odpady.piaseczno.eu/harmonogram-odbioru-odpadow/odbior/sektor-iii-jozefoslaw-od-ul-arniki-do-ul-victorii-3/
SUMMARY:SEKTOR III: JÓZEFOSŁAW od ul. Arniki do ul. Victorii
END:VEVENT
BEGIN:VEVENT
DTSTART:20261026T060000Z
DTEND:20261026T190000Z
DTSTAMP:20260423T213014Z
UID:69ea8f6651eb0
CATEGORIES:Odpady segregowane -tworzywa sztuczne i metale
LOCATION:SEKTOR III: JÓZEFOSŁAW od ul. Arniki do ul. Victorii 
ORGANIZER;CN=WGO Gminy Piaseczno:MAILTO:go@piaseczno.eu
DESCRIPTION: Odbiór odpadów 
URL;VALUE=URI:https://odpady.piaseczno.eu/harmonogram-odbioru-odpadow/odbior/sektor-iii-jozefoslaw-od-ul-arniki-do-ul-victorii-3/
SUMMARY:SEKTOR III: JÓZEFOSŁAW od ul. Arniki do ul. Victorii
END:VEVENT
BEGIN:VEVENT
DTSTART:20261109T060000Z
DTEND:20261109T190000Z
DTSTAMP:20260423T213014Z
UID:69ea8f6651ec9
CATEGORIES:Odpady segregowane -tworzywa sztuczne i metale
LOCATION:SEKTOR III: JÓZEFOSŁAW od ul. Arniki do ul. Victorii 
ORGANIZER;CN=WGO Gminy Piaseczno:MAILTO:go@piaseczno.eu
DESCRIPTION: Odbiór odpadów 
URL;VALUE=URI:https://odpady.piaseczno.eu/harmonogram-odbioru-odpadow/odbior/sektor-iii-jozefoslaw-od-ul-arniki-do-ul-victorii-3/
SUMMARY:SEKTOR III: JÓZEFOSŁAW od ul. Arniki do ul. Victorii
END:VEVENT
BEGIN:VEVENT
DTSTART:20261123T060000Z
DTEND:20261123T190000Z
DTSTAMP:20260423T213014Z
UID:69ea8f6651ee3
CATEGORIES:Odpady segregowane -tworzywa sztuczne i metale
LOCATION:SEKTOR III: JÓZEFOSŁAW od ul. Arniki do ul. Victorii 
ORGANIZER;CN=WGO Gminy Piaseczno:MAILTO:go@piaseczno.eu
DESCRIPTION: Odbiór odpadów 
URL;VALUE=URI:https://odpady.piaseczno.eu/harmonogram-odbioru-odpadow/odbior/sektor-iii-jozefoslaw-od-ul-arniki-do-ul-victorii-3/
SUMMARY:SEKTOR III: JÓZEFOSŁAW od ul. Arniki do ul. Victorii
END:VEVENT
END:VCALENDAR
