BEGIN:VCALENDAR
VERSION:2.0
PRODID:-//DIGITAL FACTORY//EVENTS MAKER V1.6.12//EN
CALSCALE:GREGORIAN
METHOD:PUBLISH
BEGIN:VEVENT
DTSTART:20260113T060000Z
DTEND:20260113T190000Z
DTSTAMP:20260424T001332Z
UID:69eab5acc1164
CATEGORIES:Odbiór choinek
LOCATION:SEKTOR III: JÓZEFOSŁAW od ul. Aleja Platynowa do ul. Żwirowa 
ORGANIZER;CN=WGO Gminy Piaseczno:MAILTO:go@piaseczno.eu
DESCRIPTION: Odbiór odpadów 
URL;VALUE=URI:https://odpady.piaseczno.eu/harmonogram-odbioru-odpadow/odbior/sektor-iii-jozefoslaw-od-ul-aleja-platynowa-do-ul-zwirowa-6/
SUMMARY:SEKTOR III: JÓZEFOSŁAW od ul. Aleja Platynowa do ul. Żwirowa
END:VEVENT
BEGIN:VEVENT
DTSTART:20260210T060000Z
DTEND:20260210T190000Z
DTSTAMP:20260424T001332Z
UID:69eab5acc125e
CATEGORIES:Odbiór choinek
LOCATION:SEKTOR III: JÓZEFOSŁAW od ul. Aleja Platynowa do ul. Żwirowa 
ORGANIZER;CN=WGO Gminy Piaseczno:MAILTO:go@piaseczno.eu
DESCRIPTION: Odbiór odpadów 
URL;VALUE=URI:https://odpady.piaseczno.eu/harmonogram-odbioru-odpadow/odbior/sektor-iii-jozefoslaw-od-ul-aleja-platynowa-do-ul-zwirowa-6/
SUMMARY:SEKTOR III: JÓZEFOSŁAW od ul. Aleja Platynowa do ul. Żwirowa
END:VEVENT
END:VCALENDAR
