BEGIN:VCALENDAR
VERSION:2.0
PRODID:-//DIGITAL FACTORY//EVENTS MAKER V1.6.12//EN
CALSCALE:GREGORIAN
METHOD:PUBLISH
BEGIN:VEVENT
DTSTART:20251201T060000Z
DTEND:20251201T190000Z
DTSTAMP:20260423T222401Z
UID:69ea9c010ed1c
CATEGORIES:Odpady wielkogabarytowe
LOCATION:SEKTOR III: JÓZEFOSŁAW od ul. Aleja Platynowa do ul. Żwirowa 
ORGANIZER;CN=WGO Gminy Piaseczno:MAILTO:go@piaseczno.eu
DESCRIPTION: Odbiór odpadów 
URL;VALUE=URI:https://odpady.piaseczno.eu/harmonogram-odbioru-odpadow/odbior/sektor-iii-jozefoslaw-od-ul-aleja-platynowa-do-ul-zwirowa-5/
SUMMARY:SEKTOR III: JÓZEFOSŁAW od ul. Aleja Platynowa do ul. Żwirowa
END:VEVENT
BEGIN:VEVENT
DTSTART:20260223T060000Z
DTEND:20260223T190000Z
DTSTAMP:20260423T222401Z
UID:69ea9c010ed92
CATEGORIES:Odpady wielkogabarytowe
LOCATION:SEKTOR III: JÓZEFOSŁAW od ul. Aleja Platynowa do ul. Żwirowa 
ORGANIZER;CN=WGO Gminy Piaseczno:MAILTO:go@piaseczno.eu
DESCRIPTION: Odbiór odpadów 
URL;VALUE=URI:https://odpady.piaseczno.eu/harmonogram-odbioru-odpadow/odbior/sektor-iii-jozefoslaw-od-ul-aleja-platynowa-do-ul-zwirowa-5/
SUMMARY:SEKTOR III: JÓZEFOSŁAW od ul. Aleja Platynowa do ul. Żwirowa
END:VEVENT
BEGIN:VEVENT
DTSTART:20260518T060000Z
DTEND:20260518T190000Z
DTSTAMP:20260423T222401Z
UID:69ea9c010edd1
CATEGORIES:Odpady wielkogabarytowe
LOCATION:SEKTOR III: JÓZEFOSŁAW od ul. Aleja Platynowa do ul. Żwirowa 
ORGANIZER;CN=WGO Gminy Piaseczno:MAILTO:go@piaseczno.eu
DESCRIPTION: Odbiór odpadów 
URL;VALUE=URI:https://odpady.piaseczno.eu/harmonogram-odbioru-odpadow/odbior/sektor-iii-jozefoslaw-od-ul-aleja-platynowa-do-ul-zwirowa-5/
SUMMARY:SEKTOR III: JÓZEFOSŁAW od ul. Aleja Platynowa do ul. Żwirowa
END:VEVENT
BEGIN:VEVENT
DTSTART:20260810T060000Z
DTEND:20260810T190000Z
DTSTAMP:20260423T222401Z
UID:69ea9c010ee0e
CATEGORIES:Odpady wielkogabarytowe
LOCATION:SEKTOR III: JÓZEFOSŁAW od ul. Aleja Platynowa do ul. Żwirowa 
ORGANIZER;CN=WGO Gminy Piaseczno:MAILTO:go@piaseczno.eu
DESCRIPTION: Odbiór odpadów 
URL;VALUE=URI:https://odpady.piaseczno.eu/harmonogram-odbioru-odpadow/odbior/sektor-iii-jozefoslaw-od-ul-aleja-platynowa-do-ul-zwirowa-5/
SUMMARY:SEKTOR III: JÓZEFOSŁAW od ul. Aleja Platynowa do ul. Żwirowa
END:VEVENT
BEGIN:VEVENT
DTSTART:20261102T060000Z
DTEND:20261102T190000Z
DTSTAMP:20260423T222401Z
UID:69ea9c010ee32
CATEGORIES:Odpady wielkogabarytowe
LOCATION:SEKTOR III: JÓZEFOSŁAW od ul. Aleja Platynowa do ul. Żwirowa 
ORGANIZER;CN=WGO Gminy Piaseczno:MAILTO:go@piaseczno.eu
DESCRIPTION: Odbiór odpadów 
URL;VALUE=URI:https://odpady.piaseczno.eu/harmonogram-odbioru-odpadow/odbior/sektor-iii-jozefoslaw-od-ul-aleja-platynowa-do-ul-zwirowa-5/
SUMMARY:SEKTOR III: JÓZEFOSŁAW od ul. Aleja Platynowa do ul. Żwirowa
END:VEVENT
END:VCALENDAR
