BEGIN:VCALENDAR
VERSION:2.0
PRODID:-//DIGITAL FACTORY//EVENTS MAKER V1.6.12//EN
CALSCALE:GREGORIAN
METHOD:PUBLISH
BEGIN:VEVENT
DTSTART:20251203T060000Z
DTEND:20251203T190000Z
DTSTAMP:20260421T213356Z
UID:69e7ed4450f6c
CATEGORIES:odpady segregowane - papier
LOCATION:SEKTOR III: JÓZEFOSŁAW od ul. Aleja Platynowa do ul. Żwirowa 
ORGANIZER;CN=WGO Gminy Piaseczno:MAILTO:go@piaseczno.eu
DESCRIPTION: Odbiór odpadów 
URL;VALUE=URI:https://odpady.piaseczno.eu/harmonogram-odbioru-odpadow/odbior/sektor-iii-jozefoslaw-od-ul-aleja-platynowa-do-ul-zwirowa-2/
SUMMARY:SEKTOR III:JÓZEFOSŁAW od ul. Aleja Platynowa do ul. Żwirowa
END:VEVENT
BEGIN:VEVENT
DTSTART:20251231T060000Z
DTEND:20251231T190000Z
DTSTAMP:20260421T213356Z
UID:69e7ed4451000
CATEGORIES:odpady segregowane - papier
LOCATION:SEKTOR III: JÓZEFOSŁAW od ul. Aleja Platynowa do ul. Żwirowa 
ORGANIZER;CN=WGO Gminy Piaseczno:MAILTO:go@piaseczno.eu
DESCRIPTION: Odbiór odpadów 
URL;VALUE=URI:https://odpady.piaseczno.eu/harmonogram-odbioru-odpadow/odbior/sektor-iii-jozefoslaw-od-ul-aleja-platynowa-do-ul-zwirowa-2/
SUMMARY:SEKTOR III:JÓZEFOSŁAW od ul. Aleja Platynowa do ul. Żwirowa
END:VEVENT
BEGIN:VEVENT
DTSTART:20260128T060000Z
DTEND:20260128T190000Z
DTSTAMP:20260421T213356Z
UID:69e7ed4451039
CATEGORIES:odpady segregowane - papier
LOCATION:SEKTOR III: JÓZEFOSŁAW od ul. Aleja Platynowa do ul. Żwirowa 
ORGANIZER;CN=WGO Gminy Piaseczno:MAILTO:go@piaseczno.eu
DESCRIPTION: Odbiór odpadów 
URL;VALUE=URI:https://odpady.piaseczno.eu/harmonogram-odbioru-odpadow/odbior/sektor-iii-jozefoslaw-od-ul-aleja-platynowa-do-ul-zwirowa-2/
SUMMARY:SEKTOR III:JÓZEFOSŁAW od ul. Aleja Platynowa do ul. Żwirowa
END:VEVENT
BEGIN:VEVENT
DTSTART:20260225T060000Z
DTEND:20260225T190000Z
DTSTAMP:20260421T213356Z
UID:69e7ed445105a
CATEGORIES:odpady segregowane - papier
LOCATION:SEKTOR III: JÓZEFOSŁAW od ul. Aleja Platynowa do ul. Żwirowa 
ORGANIZER;CN=WGO Gminy Piaseczno:MAILTO:go@piaseczno.eu
DESCRIPTION: Odbiór odpadów 
URL;VALUE=URI:https://odpady.piaseczno.eu/harmonogram-odbioru-odpadow/odbior/sektor-iii-jozefoslaw-od-ul-aleja-platynowa-do-ul-zwirowa-2/
SUMMARY:SEKTOR III:JÓZEFOSŁAW od ul. Aleja Platynowa do ul. Żwirowa
END:VEVENT
BEGIN:VEVENT
DTSTART:20260325T060000Z
DTEND:20260325T190000Z
DTSTAMP:20260421T213356Z
UID:69e7ed4451078
CATEGORIES:odpady segregowane - papier
LOCATION:SEKTOR III: JÓZEFOSŁAW od ul. Aleja Platynowa do ul. Żwirowa 
ORGANIZER;CN=WGO Gminy Piaseczno:MAILTO:go@piaseczno.eu
DESCRIPTION: Odbiór odpadów 
URL;VALUE=URI:https://odpady.piaseczno.eu/harmonogram-odbioru-odpadow/odbior/sektor-iii-jozefoslaw-od-ul-aleja-platynowa-do-ul-zwirowa-2/
SUMMARY:SEKTOR III:JÓZEFOSŁAW od ul. Aleja Platynowa do ul. Żwirowa
END:VEVENT
BEGIN:VEVENT
DTSTART:20260422T060000Z
DTEND:20260422T190000Z
DTSTAMP:20260421T213356Z
UID:69e7ed4451094
CATEGORIES:odpady segregowane - papier
LOCATION:SEKTOR III: JÓZEFOSŁAW od ul. Aleja Platynowa do ul. Żwirowa 
ORGANIZER;CN=WGO Gminy Piaseczno:MAILTO:go@piaseczno.eu
DESCRIPTION: Odbiór odpadów 
URL;VALUE=URI:https://odpady.piaseczno.eu/harmonogram-odbioru-odpadow/odbior/sektor-iii-jozefoslaw-od-ul-aleja-platynowa-do-ul-zwirowa-2/
SUMMARY:SEKTOR III:JÓZEFOSŁAW od ul. Aleja Platynowa do ul. Żwirowa
END:VEVENT
BEGIN:VEVENT
DTSTART:20260520T060000Z
DTEND:20260520T190000Z
DTSTAMP:20260421T213356Z
UID:69e7ed44510b0
CATEGORIES:odpady segregowane - papier
LOCATION:SEKTOR III: JÓZEFOSŁAW od ul. Aleja Platynowa do ul. Żwirowa 
ORGANIZER;CN=WGO Gminy Piaseczno:MAILTO:go@piaseczno.eu
DESCRIPTION: Odbiór odpadów 
URL;VALUE=URI:https://odpady.piaseczno.eu/harmonogram-odbioru-odpadow/odbior/sektor-iii-jozefoslaw-od-ul-aleja-platynowa-do-ul-zwirowa-2/
SUMMARY:SEKTOR III:JÓZEFOSŁAW od ul. Aleja Platynowa do ul. Żwirowa
END:VEVENT
BEGIN:VEVENT
DTSTART:20260617T060000Z
DTEND:20260617T190000Z
DTSTAMP:20260421T213356Z
UID:69e7ed44510d4
CATEGORIES:odpady segregowane - papier
LOCATION:SEKTOR III: JÓZEFOSŁAW od ul. Aleja Platynowa do ul. Żwirowa 
ORGANIZER;CN=WGO Gminy Piaseczno:MAILTO:go@piaseczno.eu
DESCRIPTION: Odbiór odpadów 
URL;VALUE=URI:https://odpady.piaseczno.eu/harmonogram-odbioru-odpadow/odbior/sektor-iii-jozefoslaw-od-ul-aleja-platynowa-do-ul-zwirowa-2/
SUMMARY:SEKTOR III:JÓZEFOSŁAW od ul. Aleja Platynowa do ul. Żwirowa
END:VEVENT
BEGIN:VEVENT
DTSTART:20260715T060000Z
DTEND:20260715T190000Z
DTSTAMP:20260421T213356Z
UID:69e7ed44510f5
CATEGORIES:odpady segregowane - papier
LOCATION:SEKTOR III: JÓZEFOSŁAW od ul. Aleja Platynowa do ul. Żwirowa 
ORGANIZER;CN=WGO Gminy Piaseczno:MAILTO:go@piaseczno.eu
DESCRIPTION: Odbiór odpadów 
URL;VALUE=URI:https://odpady.piaseczno.eu/harmonogram-odbioru-odpadow/odbior/sektor-iii-jozefoslaw-od-ul-aleja-platynowa-do-ul-zwirowa-2/
SUMMARY:SEKTOR III:JÓZEFOSŁAW od ul. Aleja Platynowa do ul. Żwirowa
END:VEVENT
BEGIN:VEVENT
DTSTART:20260812T060000Z
DTEND:20260812T190000Z
DTSTAMP:20260421T213356Z
UID:69e7ed4451111
CATEGORIES:odpady segregowane - papier
LOCATION:SEKTOR III: JÓZEFOSŁAW od ul. Aleja Platynowa do ul. Żwirowa 
ORGANIZER;CN=WGO Gminy Piaseczno:MAILTO:go@piaseczno.eu
DESCRIPTION: Odbiór odpadów 
URL;VALUE=URI:https://odpady.piaseczno.eu/harmonogram-odbioru-odpadow/odbior/sektor-iii-jozefoslaw-od-ul-aleja-platynowa-do-ul-zwirowa-2/
SUMMARY:SEKTOR III:JÓZEFOSŁAW od ul. Aleja Platynowa do ul. Żwirowa
END:VEVENT
BEGIN:VEVENT
DTSTART:20260909T060000Z
DTEND:20260909T190000Z
DTSTAMP:20260421T213356Z
UID:69e7ed445112c
CATEGORIES:odpady segregowane - papier
LOCATION:SEKTOR III: JÓZEFOSŁAW od ul. Aleja Platynowa do ul. Żwirowa 
ORGANIZER;CN=WGO Gminy Piaseczno:MAILTO:go@piaseczno.eu
DESCRIPTION: Odbiór odpadów 
URL;VALUE=URI:https://odpady.piaseczno.eu/harmonogram-odbioru-odpadow/odbior/sektor-iii-jozefoslaw-od-ul-aleja-platynowa-do-ul-zwirowa-2/
SUMMARY:SEKTOR III:JÓZEFOSŁAW od ul. Aleja Platynowa do ul. Żwirowa
END:VEVENT
BEGIN:VEVENT
DTSTART:20261007T060000Z
DTEND:20261007T190000Z
DTSTAMP:20260421T213356Z
UID:69e7ed4451146
CATEGORIES:odpady segregowane - papier
LOCATION:SEKTOR III: JÓZEFOSŁAW od ul. Aleja Platynowa do ul. Żwirowa 
ORGANIZER;CN=WGO Gminy Piaseczno:MAILTO:go@piaseczno.eu
DESCRIPTION: Odbiór odpadów 
URL;VALUE=URI:https://odpady.piaseczno.eu/harmonogram-odbioru-odpadow/odbior/sektor-iii-jozefoslaw-od-ul-aleja-platynowa-do-ul-zwirowa-2/
SUMMARY:SEKTOR III:JÓZEFOSŁAW od ul. Aleja Platynowa do ul. Żwirowa
END:VEVENT
BEGIN:VEVENT
DTSTART:20261104T060000Z
DTEND:20261104T190000Z
DTSTAMP:20260421T213356Z
UID:69e7ed4451160
CATEGORIES:odpady segregowane - papier
LOCATION:SEKTOR III: JÓZEFOSŁAW od ul. Aleja Platynowa do ul. Żwirowa 
ORGANIZER;CN=WGO Gminy Piaseczno:MAILTO:go@piaseczno.eu
DESCRIPTION: Odbiór odpadów 
URL;VALUE=URI:https://odpady.piaseczno.eu/harmonogram-odbioru-odpadow/odbior/sektor-iii-jozefoslaw-od-ul-aleja-platynowa-do-ul-zwirowa-2/
SUMMARY:SEKTOR III:JÓZEFOSŁAW od ul. Aleja Platynowa do ul. Żwirowa
END:VEVENT
END:VCALENDAR
