BEGIN:VCALENDAR
VERSION:2.0
PRODID:-//DIGITAL FACTORY//EVENTS MAKER V1.6.12//EN
CALSCALE:GREGORIAN
METHOD:PUBLISH
BEGIN:VEVENT
DTSTART:20251204T060000Z
DTEND:20251204T190000Z
DTSTAMP:20260426T003245Z
UID:69ed5d2dc4052
CATEGORIES:Odpady zmieszane
LOCATION:SEKTOR III: JÓZEFOSŁAW od ul. Bażancia do ul. Wiejska JÓZEFOSŁAW, MAZOWIECKIE, PL
ORGANIZER;CN=WGO Gminy Piaseczno:MAILTO:go@piaseczno.eu
DESCRIPTION: Odbiór odpadów 
URL;VALUE=URI:https://odpady.piaseczno.eu/harmonogram-odbioru-odpadow/odbior/sektor-iii-jozefoslaw-od-ul-aleja-bzow-do-ul-wiejska-odpady-zmieszane/
SUMMARY:SEKTOR III: JÓZEFOSŁAW od ul. Bażancia do ul. Wiejska
END:VEVENT
BEGIN:VEVENT
DTSTART:20251218T060000Z
DTEND:20251218T190000Z
DTSTAMP:20260426T003245Z
UID:69ed5d2dc413e
CATEGORIES:Odpady zmieszane
LOCATION:SEKTOR III: JÓZEFOSŁAW od ul. Bażancia do ul. Wiejska JÓZEFOSŁAW, MAZOWIECKIE, PL
ORGANIZER;CN=WGO Gminy Piaseczno:MAILTO:go@piaseczno.eu
DESCRIPTION: Odbiór odpadów 
URL;VALUE=URI:https://odpady.piaseczno.eu/harmonogram-odbioru-odpadow/odbior/sektor-iii-jozefoslaw-od-ul-aleja-bzow-do-ul-wiejska-odpady-zmieszane/
SUMMARY:SEKTOR III: JÓZEFOSŁAW od ul. Bażancia do ul. Wiejska
END:VEVENT
BEGIN:VEVENT
DTSTART:20260103T060000Z
DTEND:20260103T190000Z
DTSTAMP:20260426T003245Z
UID:69ed5d2dc4183
CATEGORIES:Odpady zmieszane
LOCATION:SEKTOR III: JÓZEFOSŁAW od ul. Bażancia do ul. Wiejska JÓZEFOSŁAW, MAZOWIECKIE, PL
ORGANIZER;CN=WGO Gminy Piaseczno:MAILTO:go@piaseczno.eu
DESCRIPTION: Odbiór odpadów 
URL;VALUE=URI:https://odpady.piaseczno.eu/harmonogram-odbioru-odpadow/odbior/sektor-iii-jozefoslaw-od-ul-aleja-bzow-do-ul-wiejska-odpady-zmieszane/
SUMMARY:SEKTOR III: JÓZEFOSŁAW od ul. Bażancia do ul. Wiejska
END:VEVENT
BEGIN:VEVENT
DTSTART:20260115T060000Z
DTEND:20260115T190000Z
DTSTAMP:20260426T003245Z
UID:69ed5d2dc41b0
CATEGORIES:Odpady zmieszane
LOCATION:SEKTOR III: JÓZEFOSŁAW od ul. Bażancia do ul. Wiejska JÓZEFOSŁAW, MAZOWIECKIE, PL
ORGANIZER;CN=WGO Gminy Piaseczno:MAILTO:go@piaseczno.eu
DESCRIPTION: Odbiór odpadów 
URL;VALUE=URI:https://odpady.piaseczno.eu/harmonogram-odbioru-odpadow/odbior/sektor-iii-jozefoslaw-od-ul-aleja-bzow-do-ul-wiejska-odpady-zmieszane/
SUMMARY:SEKTOR III: JÓZEFOSŁAW od ul. Bażancia do ul. Wiejska
END:VEVENT
BEGIN:VEVENT
DTSTART:20260129T060000Z
DTEND:20260129T190000Z
DTSTAMP:20260426T003245Z
UID:69ed5d2dc41d9
CATEGORIES:Odpady zmieszane
LOCATION:SEKTOR III: JÓZEFOSŁAW od ul. Bażancia do ul. Wiejska JÓZEFOSŁAW, MAZOWIECKIE, PL
ORGANIZER;CN=WGO Gminy Piaseczno:MAILTO:go@piaseczno.eu
DESCRIPTION: Odbiór odpadów 
URL;VALUE=URI:https://odpady.piaseczno.eu/harmonogram-odbioru-odpadow/odbior/sektor-iii-jozefoslaw-od-ul-aleja-bzow-do-ul-wiejska-odpady-zmieszane/
SUMMARY:SEKTOR III: JÓZEFOSŁAW od ul. Bażancia do ul. Wiejska
END:VEVENT
BEGIN:VEVENT
DTSTART:20260212T060000Z
DTEND:20260212T190000Z
DTSTAMP:20260426T003245Z
UID:69ed5d2dc4201
CATEGORIES:Odpady zmieszane
LOCATION:SEKTOR III: JÓZEFOSŁAW od ul. Bażancia do ul. Wiejska JÓZEFOSŁAW, MAZOWIECKIE, PL
ORGANIZER;CN=WGO Gminy Piaseczno:MAILTO:go@piaseczno.eu
DESCRIPTION: Odbiór odpadów 
URL;VALUE=URI:https://odpady.piaseczno.eu/harmonogram-odbioru-odpadow/odbior/sektor-iii-jozefoslaw-od-ul-aleja-bzow-do-ul-wiejska-odpady-zmieszane/
SUMMARY:SEKTOR III: JÓZEFOSŁAW od ul. Bażancia do ul. Wiejska
END:VEVENT
BEGIN:VEVENT
DTSTART:20260226T060000Z
DTEND:20260226T190000Z
DTSTAMP:20260426T003245Z
UID:69ed5d2dc4230
CATEGORIES:Odpady zmieszane
LOCATION:SEKTOR III: JÓZEFOSŁAW od ul. Bażancia do ul. Wiejska JÓZEFOSŁAW, MAZOWIECKIE, PL
ORGANIZER;CN=WGO Gminy Piaseczno:MAILTO:go@piaseczno.eu
DESCRIPTION: Odbiór odpadów 
URL;VALUE=URI:https://odpady.piaseczno.eu/harmonogram-odbioru-odpadow/odbior/sektor-iii-jozefoslaw-od-ul-aleja-bzow-do-ul-wiejska-odpady-zmieszane/
SUMMARY:SEKTOR III: JÓZEFOSŁAW od ul. Bażancia do ul. Wiejska
END:VEVENT
BEGIN:VEVENT
DTSTART:20260312T060000Z
DTEND:20260312T190000Z
DTSTAMP:20260426T003245Z
UID:69ed5d2dc4256
CATEGORIES:Odpady zmieszane
LOCATION:SEKTOR III: JÓZEFOSŁAW od ul. Bażancia do ul. Wiejska JÓZEFOSŁAW, MAZOWIECKIE, PL
ORGANIZER;CN=WGO Gminy Piaseczno:MAILTO:go@piaseczno.eu
DESCRIPTION: Odbiór odpadów 
URL;VALUE=URI:https://odpady.piaseczno.eu/harmonogram-odbioru-odpadow/odbior/sektor-iii-jozefoslaw-od-ul-aleja-bzow-do-ul-wiejska-odpady-zmieszane/
SUMMARY:SEKTOR III: JÓZEFOSŁAW od ul. Bażancia do ul. Wiejska
END:VEVENT
BEGIN:VEVENT
DTSTART:20260326T060000Z
DTEND:20260326T190000Z
DTSTAMP:20260426T003245Z
UID:69ed5d2dc4292
CATEGORIES:Odpady zmieszane
LOCATION:SEKTOR III: JÓZEFOSŁAW od ul. Bażancia do ul. Wiejska JÓZEFOSŁAW, MAZOWIECKIE, PL
ORGANIZER;CN=WGO Gminy Piaseczno:MAILTO:go@piaseczno.eu
DESCRIPTION: Odbiór odpadów 
URL;VALUE=URI:https://odpady.piaseczno.eu/harmonogram-odbioru-odpadow/odbior/sektor-iii-jozefoslaw-od-ul-aleja-bzow-do-ul-wiejska-odpady-zmieszane/
SUMMARY:SEKTOR III: JÓZEFOSŁAW od ul. Bażancia do ul. Wiejska
END:VEVENT
BEGIN:VEVENT
DTSTART:20260409T060000Z
DTEND:20260409T190000Z
DTSTAMP:20260426T003245Z
UID:69ed5d2dc42c6
CATEGORIES:Odpady zmieszane
LOCATION:SEKTOR III: JÓZEFOSŁAW od ul. Bażancia do ul. Wiejska JÓZEFOSŁAW, MAZOWIECKIE, PL
ORGANIZER;CN=WGO Gminy Piaseczno:MAILTO:go@piaseczno.eu
DESCRIPTION: Odbiór odpadów 
URL;VALUE=URI:https://odpady.piaseczno.eu/harmonogram-odbioru-odpadow/odbior/sektor-iii-jozefoslaw-od-ul-aleja-bzow-do-ul-wiejska-odpady-zmieszane/
SUMMARY:SEKTOR III: JÓZEFOSŁAW od ul. Bażancia do ul. Wiejska
END:VEVENT
BEGIN:VEVENT
DTSTART:20260423T060000Z
DTEND:20260423T190000Z
DTSTAMP:20260426T003245Z
UID:69ed5d2dc42eb
CATEGORIES:Odpady zmieszane
LOCATION:SEKTOR III: JÓZEFOSŁAW od ul. Bażancia do ul. Wiejska JÓZEFOSŁAW, MAZOWIECKIE, PL
ORGANIZER;CN=WGO Gminy Piaseczno:MAILTO:go@piaseczno.eu
DESCRIPTION: Odbiór odpadów 
URL;VALUE=URI:https://odpady.piaseczno.eu/harmonogram-odbioru-odpadow/odbior/sektor-iii-jozefoslaw-od-ul-aleja-bzow-do-ul-wiejska-odpady-zmieszane/
SUMMARY:SEKTOR III: JÓZEFOSŁAW od ul. Bażancia do ul. Wiejska
END:VEVENT
BEGIN:VEVENT
DTSTART:20260507T060000Z
DTEND:20260507T190000Z
DTSTAMP:20260426T003245Z
UID:69ed5d2dc432c
CATEGORIES:Odpady zmieszane
LOCATION:SEKTOR III: JÓZEFOSŁAW od ul. Bażancia do ul. Wiejska JÓZEFOSŁAW, MAZOWIECKIE, PL
ORGANIZER;CN=WGO Gminy Piaseczno:MAILTO:go@piaseczno.eu
DESCRIPTION: Odbiór odpadów 
URL;VALUE=URI:https://odpady.piaseczno.eu/harmonogram-odbioru-odpadow/odbior/sektor-iii-jozefoslaw-od-ul-aleja-bzow-do-ul-wiejska-odpady-zmieszane/
SUMMARY:SEKTOR III: JÓZEFOSŁAW od ul. Bażancia do ul. Wiejska
END:VEVENT
BEGIN:VEVENT
DTSTART:20260521T060000Z
DTEND:20260521T190000Z
DTSTAMP:20260426T003245Z
UID:69ed5d2dc4350
CATEGORIES:Odpady zmieszane
LOCATION:SEKTOR III: JÓZEFOSŁAW od ul. Bażancia do ul. Wiejska JÓZEFOSŁAW, MAZOWIECKIE, PL
ORGANIZER;CN=WGO Gminy Piaseczno:MAILTO:go@piaseczno.eu
DESCRIPTION: Odbiór odpadów 
URL;VALUE=URI:https://odpady.piaseczno.eu/harmonogram-odbioru-odpadow/odbior/sektor-iii-jozefoslaw-od-ul-aleja-bzow-do-ul-wiejska-odpady-zmieszane/
SUMMARY:SEKTOR III: JÓZEFOSŁAW od ul. Bażancia do ul. Wiejska
END:VEVENT
BEGIN:VEVENT
DTSTART:20260606T060000Z
DTEND:20260606T190000Z
DTSTAMP:20260426T003245Z
UID:69ed5d2dc4375
CATEGORIES:Odpady zmieszane
LOCATION:SEKTOR III: JÓZEFOSŁAW od ul. Bażancia do ul. Wiejska JÓZEFOSŁAW, MAZOWIECKIE, PL
ORGANIZER;CN=WGO Gminy Piaseczno:MAILTO:go@piaseczno.eu
DESCRIPTION: Odbiór odpadów 
URL;VALUE=URI:https://odpady.piaseczno.eu/harmonogram-odbioru-odpadow/odbior/sektor-iii-jozefoslaw-od-ul-aleja-bzow-do-ul-wiejska-odpady-zmieszane/
SUMMARY:SEKTOR III: JÓZEFOSŁAW od ul. Bażancia do ul. Wiejska
END:VEVENT
BEGIN:VEVENT
DTSTART:20260611T060000Z
DTEND:20260611T190000Z
DTSTAMP:20260426T003245Z
UID:69ed5d2dc4398
CATEGORIES:Odpady zmieszane
LOCATION:SEKTOR III: JÓZEFOSŁAW od ul. Bażancia do ul. Wiejska JÓZEFOSŁAW, MAZOWIECKIE, PL
ORGANIZER;CN=WGO Gminy Piaseczno:MAILTO:go@piaseczno.eu
DESCRIPTION: Odbiór odpadów 
URL;VALUE=URI:https://odpady.piaseczno.eu/harmonogram-odbioru-odpadow/odbior/sektor-iii-jozefoslaw-od-ul-aleja-bzow-do-ul-wiejska-odpady-zmieszane/
SUMMARY:SEKTOR III: JÓZEFOSŁAW od ul. Bażancia do ul. Wiejska
END:VEVENT
BEGIN:VEVENT
DTSTART:20260618T060000Z
DTEND:20260618T190000Z
DTSTAMP:20260426T003245Z
UID:69ed5d2dc43c2
CATEGORIES:Odpady zmieszane
LOCATION:SEKTOR III: JÓZEFOSŁAW od ul. Bażancia do ul. Wiejska JÓZEFOSŁAW, MAZOWIECKIE, PL
ORGANIZER;CN=WGO Gminy Piaseczno:MAILTO:go@piaseczno.eu
DESCRIPTION: Odbiór odpadów 
URL;VALUE=URI:https://odpady.piaseczno.eu/harmonogram-odbioru-odpadow/odbior/sektor-iii-jozefoslaw-od-ul-aleja-bzow-do-ul-wiejska-odpady-zmieszane/
SUMMARY:SEKTOR III: JÓZEFOSŁAW od ul. Bażancia do ul. Wiejska
END:VEVENT
BEGIN:VEVENT
DTSTART:20260625T060000Z
DTEND:20260625T190000Z
DTSTAMP:20260426T003245Z
UID:69ed5d2dc43e7
CATEGORIES:Odpady zmieszane
LOCATION:SEKTOR III: JÓZEFOSŁAW od ul. Bażancia do ul. Wiejska JÓZEFOSŁAW, MAZOWIECKIE, PL
ORGANIZER;CN=WGO Gminy Piaseczno:MAILTO:go@piaseczno.eu
DESCRIPTION: Odbiór odpadów 
URL;VALUE=URI:https://odpady.piaseczno.eu/harmonogram-odbioru-odpadow/odbior/sektor-iii-jozefoslaw-od-ul-aleja-bzow-do-ul-wiejska-odpady-zmieszane/
SUMMARY:SEKTOR III: JÓZEFOSŁAW od ul. Bażancia do ul. Wiejska
END:VEVENT
BEGIN:VEVENT
DTSTART:20260702T060000Z
DTEND:20260702T190000Z
DTSTAMP:20260426T003245Z
UID:69ed5d2dc440c
CATEGORIES:Odpady zmieszane
LOCATION:SEKTOR III: JÓZEFOSŁAW od ul. Bażancia do ul. Wiejska JÓZEFOSŁAW, MAZOWIECKIE, PL
ORGANIZER;CN=WGO Gminy Piaseczno:MAILTO:go@piaseczno.eu
DESCRIPTION: Odbiór odpadów 
URL;VALUE=URI:https://odpady.piaseczno.eu/harmonogram-odbioru-odpadow/odbior/sektor-iii-jozefoslaw-od-ul-aleja-bzow-do-ul-wiejska-odpady-zmieszane/
SUMMARY:SEKTOR III: JÓZEFOSŁAW od ul. Bażancia do ul. Wiejska
END:VEVENT
BEGIN:VEVENT
DTSTART:20260709T060000Z
DTEND:20260709T190000Z
DTSTAMP:20260426T003245Z
UID:69ed5d2dc4433
CATEGORIES:Odpady zmieszane
LOCATION:SEKTOR III: JÓZEFOSŁAW od ul. Bażancia do ul. Wiejska JÓZEFOSŁAW, MAZOWIECKIE, PL
ORGANIZER;CN=WGO Gminy Piaseczno:MAILTO:go@piaseczno.eu
DESCRIPTION: Odbiór odpadów 
URL;VALUE=URI:https://odpady.piaseczno.eu/harmonogram-odbioru-odpadow/odbior/sektor-iii-jozefoslaw-od-ul-aleja-bzow-do-ul-wiejska-odpady-zmieszane/
SUMMARY:SEKTOR III: JÓZEFOSŁAW od ul. Bażancia do ul. Wiejska
END:VEVENT
BEGIN:VEVENT
DTSTART:20260716T060000Z
DTEND:20260716T190000Z
DTSTAMP:20260426T003245Z
UID:69ed5d2dc445a
CATEGORIES:Odpady zmieszane
LOCATION:SEKTOR III: JÓZEFOSŁAW od ul. Bażancia do ul. Wiejska JÓZEFOSŁAW, MAZOWIECKIE, PL
ORGANIZER;CN=WGO Gminy Piaseczno:MAILTO:go@piaseczno.eu
DESCRIPTION: Odbiór odpadów 
URL;VALUE=URI:https://odpady.piaseczno.eu/harmonogram-odbioru-odpadow/odbior/sektor-iii-jozefoslaw-od-ul-aleja-bzow-do-ul-wiejska-odpady-zmieszane/
SUMMARY:SEKTOR III: JÓZEFOSŁAW od ul. Bażancia do ul. Wiejska
END:VEVENT
BEGIN:VEVENT
DTSTART:20260723T060000Z
DTEND:20260723T190000Z
DTSTAMP:20260426T003245Z
UID:69ed5d2dc4482
CATEGORIES:Odpady zmieszane
LOCATION:SEKTOR III: JÓZEFOSŁAW od ul. Bażancia do ul. Wiejska JÓZEFOSŁAW, MAZOWIECKIE, PL
ORGANIZER;CN=WGO Gminy Piaseczno:MAILTO:go@piaseczno.eu
DESCRIPTION: Odbiór odpadów 
URL;VALUE=URI:https://odpady.piaseczno.eu/harmonogram-odbioru-odpadow/odbior/sektor-iii-jozefoslaw-od-ul-aleja-bzow-do-ul-wiejska-odpady-zmieszane/
SUMMARY:SEKTOR III: JÓZEFOSŁAW od ul. Bażancia do ul. Wiejska
END:VEVENT
BEGIN:VEVENT
DTSTART:20260730T060000Z
DTEND:20260730T190000Z
DTSTAMP:20260426T003245Z
UID:69ed5d2dc44a9
CATEGORIES:Odpady zmieszane
LOCATION:SEKTOR III: JÓZEFOSŁAW od ul. Bażancia do ul. Wiejska JÓZEFOSŁAW, MAZOWIECKIE, PL
ORGANIZER;CN=WGO Gminy Piaseczno:MAILTO:go@piaseczno.eu
DESCRIPTION: Odbiór odpadów 
URL;VALUE=URI:https://odpady.piaseczno.eu/harmonogram-odbioru-odpadow/odbior/sektor-iii-jozefoslaw-od-ul-aleja-bzow-do-ul-wiejska-odpady-zmieszane/
SUMMARY:SEKTOR III: JÓZEFOSŁAW od ul. Bażancia do ul. Wiejska
END:VEVENT
BEGIN:VEVENT
DTSTART:20260806T060000Z
DTEND:20260806T190000Z
DTSTAMP:20260426T003245Z
UID:69ed5d2dc44e2
CATEGORIES:Odpady zmieszane
LOCATION:SEKTOR III: JÓZEFOSŁAW od ul. Bażancia do ul. Wiejska JÓZEFOSŁAW, MAZOWIECKIE, PL
ORGANIZER;CN=WGO Gminy Piaseczno:MAILTO:go@piaseczno.eu
DESCRIPTION: Odbiór odpadów 
URL;VALUE=URI:https://odpady.piaseczno.eu/harmonogram-odbioru-odpadow/odbior/sektor-iii-jozefoslaw-od-ul-aleja-bzow-do-ul-wiejska-odpady-zmieszane/
SUMMARY:SEKTOR III: JÓZEFOSŁAW od ul. Bażancia do ul. Wiejska
END:VEVENT
BEGIN:VEVENT
DTSTART:20260813T060000Z
DTEND:20260813T190000Z
DTSTAMP:20260426T003245Z
UID:69ed5d2dc4512
CATEGORIES:Odpady zmieszane
LOCATION:SEKTOR III: JÓZEFOSŁAW od ul. Bażancia do ul. Wiejska JÓZEFOSŁAW, MAZOWIECKIE, PL
ORGANIZER;CN=WGO Gminy Piaseczno:MAILTO:go@piaseczno.eu
DESCRIPTION: Odbiór odpadów 
URL;VALUE=URI:https://odpady.piaseczno.eu/harmonogram-odbioru-odpadow/odbior/sektor-iii-jozefoslaw-od-ul-aleja-bzow-do-ul-wiejska-odpady-zmieszane/
SUMMARY:SEKTOR III: JÓZEFOSŁAW od ul. Bażancia do ul. Wiejska
END:VEVENT
BEGIN:VEVENT
DTSTART:20260820T060000Z
DTEND:20260820T190000Z
DTSTAMP:20260426T003245Z
UID:69ed5d2dc4536
CATEGORIES:Odpady zmieszane
LOCATION:SEKTOR III: JÓZEFOSŁAW od ul. Bażancia do ul. Wiejska JÓZEFOSŁAW, MAZOWIECKIE, PL
ORGANIZER;CN=WGO Gminy Piaseczno:MAILTO:go@piaseczno.eu
DESCRIPTION: Odbiór odpadów 
URL;VALUE=URI:https://odpady.piaseczno.eu/harmonogram-odbioru-odpadow/odbior/sektor-iii-jozefoslaw-od-ul-aleja-bzow-do-ul-wiejska-odpady-zmieszane/
SUMMARY:SEKTOR III: JÓZEFOSŁAW od ul. Bażancia do ul. Wiejska
END:VEVENT
BEGIN:VEVENT
DTSTART:20260827T060000Z
DTEND:20260827T190000Z
DTSTAMP:20260426T003245Z
UID:69ed5d2dc4559
CATEGORIES:Odpady zmieszane
LOCATION:SEKTOR III: JÓZEFOSŁAW od ul. Bażancia do ul. Wiejska JÓZEFOSŁAW, MAZOWIECKIE, PL
ORGANIZER;CN=WGO Gminy Piaseczno:MAILTO:go@piaseczno.eu
DESCRIPTION: Odbiór odpadów 
URL;VALUE=URI:https://odpady.piaseczno.eu/harmonogram-odbioru-odpadow/odbior/sektor-iii-jozefoslaw-od-ul-aleja-bzow-do-ul-wiejska-odpady-zmieszane/
SUMMARY:SEKTOR III: JÓZEFOSŁAW od ul. Bażancia do ul. Wiejska
END:VEVENT
BEGIN:VEVENT
DTSTART:20260910T060000Z
DTEND:20260910T190000Z
DTSTAMP:20260426T003245Z
UID:69ed5d2dc457c
CATEGORIES:Odpady zmieszane
LOCATION:SEKTOR III: JÓZEFOSŁAW od ul. Bażancia do ul. Wiejska JÓZEFOSŁAW, MAZOWIECKIE, PL
ORGANIZER;CN=WGO Gminy Piaseczno:MAILTO:go@piaseczno.eu
DESCRIPTION: Odbiór odpadów 
URL;VALUE=URI:https://odpady.piaseczno.eu/harmonogram-odbioru-odpadow/odbior/sektor-iii-jozefoslaw-od-ul-aleja-bzow-do-ul-wiejska-odpady-zmieszane/
SUMMARY:SEKTOR III: JÓZEFOSŁAW od ul. Bażancia do ul. Wiejska
END:VEVENT
BEGIN:VEVENT
DTSTART:20260924T060000Z
DTEND:20260924T190000Z
DTSTAMP:20260426T003245Z
UID:69ed5d2dc459e
CATEGORIES:Odpady zmieszane
LOCATION:SEKTOR III: JÓZEFOSŁAW od ul. Bażancia do ul. Wiejska JÓZEFOSŁAW, MAZOWIECKIE, PL
ORGANIZER;CN=WGO Gminy Piaseczno:MAILTO:go@piaseczno.eu
DESCRIPTION: Odbiór odpadów 
URL;VALUE=URI:https://odpady.piaseczno.eu/harmonogram-odbioru-odpadow/odbior/sektor-iii-jozefoslaw-od-ul-aleja-bzow-do-ul-wiejska-odpady-zmieszane/
SUMMARY:SEKTOR III: JÓZEFOSŁAW od ul. Bażancia do ul. Wiejska
END:VEVENT
BEGIN:VEVENT
DTSTART:20261008T060000Z
DTEND:20261008T190000Z
DTSTAMP:20260426T003245Z
UID:69ed5d2dc45c1
CATEGORIES:Odpady zmieszane
LOCATION:SEKTOR III: JÓZEFOSŁAW od ul. Bażancia do ul. Wiejska JÓZEFOSŁAW, MAZOWIECKIE, PL
ORGANIZER;CN=WGO Gminy Piaseczno:MAILTO:go@piaseczno.eu
DESCRIPTION: Odbiór odpadów 
URL;VALUE=URI:https://odpady.piaseczno.eu/harmonogram-odbioru-odpadow/odbior/sektor-iii-jozefoslaw-od-ul-aleja-bzow-do-ul-wiejska-odpady-zmieszane/
SUMMARY:SEKTOR III: JÓZEFOSŁAW od ul. Bażancia do ul. Wiejska
END:VEVENT
BEGIN:VEVENT
DTSTART:20261022T060000Z
DTEND:20261022T190000Z
DTSTAMP:20260426T003245Z
UID:69ed5d2dc45e4
CATEGORIES:Odpady zmieszane
LOCATION:SEKTOR III: JÓZEFOSŁAW od ul. Bażancia do ul. Wiejska JÓZEFOSŁAW, MAZOWIECKIE, PL
ORGANIZER;CN=WGO Gminy Piaseczno:MAILTO:go@piaseczno.eu
DESCRIPTION: Odbiór odpadów 
URL;VALUE=URI:https://odpady.piaseczno.eu/harmonogram-odbioru-odpadow/odbior/sektor-iii-jozefoslaw-od-ul-aleja-bzow-do-ul-wiejska-odpady-zmieszane/
SUMMARY:SEKTOR III: JÓZEFOSŁAW od ul. Bażancia do ul. Wiejska
END:VEVENT
BEGIN:VEVENT
DTSTART:20261105T060000Z
DTEND:20261105T190000Z
DTSTAMP:20260426T003245Z
UID:69ed5d2dc460d
CATEGORIES:Odpady zmieszane
LOCATION:SEKTOR III: JÓZEFOSŁAW od ul. Bażancia do ul. Wiejska JÓZEFOSŁAW, MAZOWIECKIE, PL
ORGANIZER;CN=WGO Gminy Piaseczno:MAILTO:go@piaseczno.eu
DESCRIPTION: Odbiór odpadów 
URL;VALUE=URI:https://odpady.piaseczno.eu/harmonogram-odbioru-odpadow/odbior/sektor-iii-jozefoslaw-od-ul-aleja-bzow-do-ul-wiejska-odpady-zmieszane/
SUMMARY:SEKTOR III: JÓZEFOSŁAW od ul. Bażancia do ul. Wiejska
END:VEVENT
BEGIN:VEVENT
DTSTART:20261119T060000Z
DTEND:20261119T190000Z
DTSTAMP:20260426T003245Z
UID:69ed5d2dc464a
CATEGORIES:Odpady zmieszane
LOCATION:SEKTOR III: JÓZEFOSŁAW od ul. Bażancia do ul. Wiejska JÓZEFOSŁAW, MAZOWIECKIE, PL
ORGANIZER;CN=WGO Gminy Piaseczno:MAILTO:go@piaseczno.eu
DESCRIPTION: Odbiór odpadów 
URL;VALUE=URI:https://odpady.piaseczno.eu/harmonogram-odbioru-odpadow/odbior/sektor-iii-jozefoslaw-od-ul-aleja-bzow-do-ul-wiejska-odpady-zmieszane/
SUMMARY:SEKTOR III: JÓZEFOSŁAW od ul. Bażancia do ul. Wiejska
END:VEVENT
END:VCALENDAR
