BEGIN:VCALENDAR
VERSION:2.0
PRODID:-//DIGITAL FACTORY//EVENTS MAKER V1.6.12//EN
CALSCALE:GREGORIAN
METHOD:PUBLISH
BEGIN:VEVENT
DTSTART:20251205T060000Z
DTEND:20251205T190000Z
DTSTAMP:20260424T180859Z
UID:69ebb1bb4bd9e
CATEGORIES:odpady segregowane - papier
LOCATION:SEKTOR I: Piaseczno - od Andersena do Zielony Krąg 
ORGANIZER;CN=WGO Gminy Piaseczno:MAILTO:go@piaseczno.eu
DESCRIPTION: Odbiór odpadów 
URL;VALUE=URI:https://odpady.piaseczno.eu/harmonogram-odbioru-odpadow/odbior/sektor-i-piaseczno-ulice-andersena-do-zielony-krag-papier/
SUMMARY:Sektor I - Piaseczno ulice: Andersena do Zielony Krąg - papier
END:VEVENT
BEGIN:VEVENT
DTSTART:20260102T060000Z
DTEND:20260102T190000Z
DTSTAMP:20260424T180859Z
UID:69ebb1bb4be64
CATEGORIES:odpady segregowane - papier
LOCATION:SEKTOR I: Piaseczno - od Andersena do Zielony Krąg 
ORGANIZER;CN=WGO Gminy Piaseczno:MAILTO:go@piaseczno.eu
DESCRIPTION: Odbiór odpadów 
URL;VALUE=URI:https://odpady.piaseczno.eu/harmonogram-odbioru-odpadow/odbior/sektor-i-piaseczno-ulice-andersena-do-zielony-krag-papier/
SUMMARY:Sektor I - Piaseczno ulice: Andersena do Zielony Krąg - papier
END:VEVENT
BEGIN:VEVENT
DTSTART:20260130T060000Z
DTEND:20260130T190000Z
DTSTAMP:20260424T180859Z
UID:69ebb1bb4bea9
CATEGORIES:odpady segregowane - papier
LOCATION:SEKTOR I: Piaseczno - od Andersena do Zielony Krąg 
ORGANIZER;CN=WGO Gminy Piaseczno:MAILTO:go@piaseczno.eu
DESCRIPTION: Odbiór odpadów 
URL;VALUE=URI:https://odpady.piaseczno.eu/harmonogram-odbioru-odpadow/odbior/sektor-i-piaseczno-ulice-andersena-do-zielony-krag-papier/
SUMMARY:Sektor I - Piaseczno ulice: Andersena do Zielony Krąg - papier
END:VEVENT
BEGIN:VEVENT
DTSTART:20260227T060000Z
DTEND:20260227T190000Z
DTSTAMP:20260424T180859Z
UID:69ebb1bb4bef2
CATEGORIES:odpady segregowane - papier
LOCATION:SEKTOR I: Piaseczno - od Andersena do Zielony Krąg 
ORGANIZER;CN=WGO Gminy Piaseczno:MAILTO:go@piaseczno.eu
DESCRIPTION: Odbiór odpadów 
URL;VALUE=URI:https://odpady.piaseczno.eu/harmonogram-odbioru-odpadow/odbior/sektor-i-piaseczno-ulice-andersena-do-zielony-krag-papier/
SUMMARY:Sektor I - Piaseczno ulice: Andersena do Zielony Krąg - papier
END:VEVENT
BEGIN:VEVENT
DTSTART:20260327T060000Z
DTEND:20260327T190000Z
DTSTAMP:20260424T180859Z
UID:69ebb1bb4bf25
CATEGORIES:odpady segregowane - papier
LOCATION:SEKTOR I: Piaseczno - od Andersena do Zielony Krąg 
ORGANIZER;CN=WGO Gminy Piaseczno:MAILTO:go@piaseczno.eu
DESCRIPTION: Odbiór odpadów 
URL;VALUE=URI:https://odpady.piaseczno.eu/harmonogram-odbioru-odpadow/odbior/sektor-i-piaseczno-ulice-andersena-do-zielony-krag-papier/
SUMMARY:Sektor I - Piaseczno ulice: Andersena do Zielony Krąg - papier
END:VEVENT
BEGIN:VEVENT
DTSTART:20260424T060000Z
DTEND:20260424T190000Z
DTSTAMP:20260424T180859Z
UID:69ebb1bb4bf54
CATEGORIES:odpady segregowane - papier
LOCATION:SEKTOR I: Piaseczno - od Andersena do Zielony Krąg 
ORGANIZER;CN=WGO Gminy Piaseczno:MAILTO:go@piaseczno.eu
DESCRIPTION: Odbiór odpadów 
URL;VALUE=URI:https://odpady.piaseczno.eu/harmonogram-odbioru-odpadow/odbior/sektor-i-piaseczno-ulice-andersena-do-zielony-krag-papier/
SUMMARY:Sektor I - Piaseczno ulice: Andersena do Zielony Krąg - papier
END:VEVENT
BEGIN:VEVENT
DTSTART:20260522T060000Z
DTEND:20260522T190000Z
DTSTAMP:20260424T180859Z
UID:69ebb1bb4bf85
CATEGORIES:odpady segregowane - papier
LOCATION:SEKTOR I: Piaseczno - od Andersena do Zielony Krąg 
ORGANIZER;CN=WGO Gminy Piaseczno:MAILTO:go@piaseczno.eu
DESCRIPTION: Odbiór odpadów 
URL;VALUE=URI:https://odpady.piaseczno.eu/harmonogram-odbioru-odpadow/odbior/sektor-i-piaseczno-ulice-andersena-do-zielony-krag-papier/
SUMMARY:Sektor I - Piaseczno ulice: Andersena do Zielony Krąg - papier
END:VEVENT
BEGIN:VEVENT
DTSTART:20260619T060000Z
DTEND:20260619T190000Z
DTSTAMP:20260424T180859Z
UID:69ebb1bb4bfb5
CATEGORIES:odpady segregowane - papier
LOCATION:SEKTOR I: Piaseczno - od Andersena do Zielony Krąg 
ORGANIZER;CN=WGO Gminy Piaseczno:MAILTO:go@piaseczno.eu
DESCRIPTION: Odbiór odpadów 
URL;VALUE=URI:https://odpady.piaseczno.eu/harmonogram-odbioru-odpadow/odbior/sektor-i-piaseczno-ulice-andersena-do-zielony-krag-papier/
SUMMARY:Sektor I - Piaseczno ulice: Andersena do Zielony Krąg - papier
END:VEVENT
BEGIN:VEVENT
DTSTART:20260717T060000Z
DTEND:20260717T190000Z
DTSTAMP:20260424T180859Z
UID:69ebb1bb4bfea
CATEGORIES:odpady segregowane - papier
LOCATION:SEKTOR I: Piaseczno - od Andersena do Zielony Krąg 
ORGANIZER;CN=WGO Gminy Piaseczno:MAILTO:go@piaseczno.eu
DESCRIPTION: Odbiór odpadów 
URL;VALUE=URI:https://odpady.piaseczno.eu/harmonogram-odbioru-odpadow/odbior/sektor-i-piaseczno-ulice-andersena-do-zielony-krag-papier/
SUMMARY:Sektor I - Piaseczno ulice: Andersena do Zielony Krąg - papier
END:VEVENT
BEGIN:VEVENT
DTSTART:20260814T060000Z
DTEND:20260814T190000Z
DTSTAMP:20260424T180859Z
UID:69ebb1bb4c024
CATEGORIES:odpady segregowane - papier
LOCATION:SEKTOR I: Piaseczno - od Andersena do Zielony Krąg 
ORGANIZER;CN=WGO Gminy Piaseczno:MAILTO:go@piaseczno.eu
DESCRIPTION: Odbiór odpadów 
URL;VALUE=URI:https://odpady.piaseczno.eu/harmonogram-odbioru-odpadow/odbior/sektor-i-piaseczno-ulice-andersena-do-zielony-krag-papier/
SUMMARY:Sektor I - Piaseczno ulice: Andersena do Zielony Krąg - papier
END:VEVENT
BEGIN:VEVENT
DTSTART:20260911T060000Z
DTEND:20260911T190000Z
DTSTAMP:20260424T180859Z
UID:69ebb1bb4c054
CATEGORIES:odpady segregowane - papier
LOCATION:SEKTOR I: Piaseczno - od Andersena do Zielony Krąg 
ORGANIZER;CN=WGO Gminy Piaseczno:MAILTO:go@piaseczno.eu
DESCRIPTION: Odbiór odpadów 
URL;VALUE=URI:https://odpady.piaseczno.eu/harmonogram-odbioru-odpadow/odbior/sektor-i-piaseczno-ulice-andersena-do-zielony-krag-papier/
SUMMARY:Sektor I - Piaseczno ulice: Andersena do Zielony Krąg - papier
END:VEVENT
BEGIN:VEVENT
DTSTART:20261009T060000Z
DTEND:20261009T190000Z
DTSTAMP:20260424T180859Z
UID:69ebb1bb4c082
CATEGORIES:odpady segregowane - papier
LOCATION:SEKTOR I: Piaseczno - od Andersena do Zielony Krąg 
ORGANIZER;CN=WGO Gminy Piaseczno:MAILTO:go@piaseczno.eu
DESCRIPTION: Odbiór odpadów 
URL;VALUE=URI:https://odpady.piaseczno.eu/harmonogram-odbioru-odpadow/odbior/sektor-i-piaseczno-ulice-andersena-do-zielony-krag-papier/
SUMMARY:Sektor I - Piaseczno ulice: Andersena do Zielony Krąg - papier
END:VEVENT
BEGIN:VEVENT
DTSTART:20261106T060000Z
DTEND:20261106T190000Z
DTSTAMP:20260424T180859Z
UID:69ebb1bb4c0b7
CATEGORIES:odpady segregowane - papier
LOCATION:SEKTOR I: Piaseczno - od Andersena do Zielony Krąg 
ORGANIZER;CN=WGO Gminy Piaseczno:MAILTO:go@piaseczno.eu
DESCRIPTION: Odbiór odpadów 
URL;VALUE=URI:https://odpady.piaseczno.eu/harmonogram-odbioru-odpadow/odbior/sektor-i-piaseczno-ulice-andersena-do-zielony-krag-papier/
SUMMARY:Sektor I - Piaseczno ulice: Andersena do Zielony Krąg - papier
END:VEVENT
END:VCALENDAR
