BEGIN:VCALENDAR
VERSION:2.0
PRODID:-//DIGITAL FACTORY//EVENTS MAKER V1.6.12//EN
CALSCALE:GREGORIAN
METHOD:PUBLISH
BEGIN:VEVENT
DTSTART:20251124T060000Z
DTEND:20251124T190000Z
DTSTAMP:20260424T194311Z
UID:69ebc7cfd8e2e
CATEGORIES:Odpady wielkogabarytowe
LOCATION:SEKTOR I: Piaseczno - od Andersena do Zielony Krąg 
ORGANIZER;CN=WGO Gminy Piaseczno:MAILTO:go@piaseczno.eu
DESCRIPTION: Odbiór odpadów 
URL;VALUE=URI:https://odpady.piaseczno.eu/harmonogram-odbioru-odpadow/odbior/sektor-i-piaseczno-ulice-andersena-do-zielony-krag-odpady-wielkogabarytowe/
SUMMARY:Sektor I - Piaseczno ulice: Andersena do Zielony krąg - odpady wielkogabarytowe
END:VEVENT
BEGIN:VEVENT
DTSTART:20260216T060000Z
DTEND:20260216T190000Z
DTSTAMP:20260424T194311Z
UID:69ebc7cfd8eb4
CATEGORIES:Odpady wielkogabarytowe
LOCATION:SEKTOR I: Piaseczno - od Andersena do Zielony Krąg 
ORGANIZER;CN=WGO Gminy Piaseczno:MAILTO:go@piaseczno.eu
DESCRIPTION: Odbiór odpadów 
URL;VALUE=URI:https://odpady.piaseczno.eu/harmonogram-odbioru-odpadow/odbior/sektor-i-piaseczno-ulice-andersena-do-zielony-krag-odpady-wielkogabarytowe/
SUMMARY:Sektor I - Piaseczno ulice: Andersena do Zielony krąg - odpady wielkogabarytowe
END:VEVENT
BEGIN:VEVENT
DTSTART:20260511T060000Z
DTEND:20260511T190000Z
DTSTAMP:20260424T194311Z
UID:69ebc7cfd8edd
CATEGORIES:Odpady wielkogabarytowe
LOCATION:SEKTOR I: Piaseczno - od Andersena do Zielony Krąg 
ORGANIZER;CN=WGO Gminy Piaseczno:MAILTO:go@piaseczno.eu
DESCRIPTION: Odbiór odpadów 
URL;VALUE=URI:https://odpady.piaseczno.eu/harmonogram-odbioru-odpadow/odbior/sektor-i-piaseczno-ulice-andersena-do-zielony-krag-odpady-wielkogabarytowe/
SUMMARY:Sektor I - Piaseczno ulice: Andersena do Zielony krąg - odpady wielkogabarytowe
END:VEVENT
BEGIN:VEVENT
DTSTART:20260803T060000Z
DTEND:20260803T190000Z
DTSTAMP:20260424T194311Z
UID:69ebc7cfd8efe
CATEGORIES:Odpady wielkogabarytowe
LOCATION:SEKTOR I: Piaseczno - od Andersena do Zielony Krąg 
ORGANIZER;CN=WGO Gminy Piaseczno:MAILTO:go@piaseczno.eu
DESCRIPTION: Odbiór odpadów 
URL;VALUE=URI:https://odpady.piaseczno.eu/harmonogram-odbioru-odpadow/odbior/sektor-i-piaseczno-ulice-andersena-do-zielony-krag-odpady-wielkogabarytowe/
SUMMARY:Sektor I - Piaseczno ulice: Andersena do Zielony krąg - odpady wielkogabarytowe
END:VEVENT
BEGIN:VEVENT
DTSTART:20261026T060000Z
DTEND:20261026T190000Z
DTSTAMP:20260424T194311Z
UID:69ebc7cfd8f28
CATEGORIES:Odpady wielkogabarytowe
LOCATION:SEKTOR I: Piaseczno - od Andersena do Zielony Krąg 
ORGANIZER;CN=WGO Gminy Piaseczno:MAILTO:go@piaseczno.eu
DESCRIPTION: Odbiór odpadów 
URL;VALUE=URI:https://odpady.piaseczno.eu/harmonogram-odbioru-odpadow/odbior/sektor-i-piaseczno-ulice-andersena-do-zielony-krag-odpady-wielkogabarytowe/
SUMMARY:Sektor I - Piaseczno ulice: Andersena do Zielony krąg - odpady wielkogabarytowe
END:VEVENT
END:VCALENDAR
