BEGIN:VCALENDAR
VERSION:2.0
PRODID:-//DIGITAL FACTORY//EVENTS MAKER V1.6.12//EN
CALSCALE:GREGORIAN
METHOD:PUBLISH
BEGIN:VEVENT
DTSTART:20251203T060000Z
DTEND:20251203T190000Z
DTSTAMP:20260422T080252Z
UID:69e880aca35ae
CATEGORIES:odpady segregowane - papier
LOCATION:SEKTOR I: Piaseczno - od ul. Akacjowej do ul. Zachodniej Piaseczno, Mazowieckie, PL
ORGANIZER;CN=WGO Gminy Piaseczno:MAILTO:go@piaseczno.eu
DESCRIPTION: Odbiór odpadów 
URL;VALUE=URI:https://odpady.piaseczno.eu/harmonogram-odbioru-odpadow/odbior/piaseczno-sektor-i-wolka-kozodawska-ulice-dworska-jeziorki-polna-papier/
SUMMARY:Sektor I - Piaseczno ulice: Akacjowa do Zachodniej\, Wólka Kozodawska ulice: Dworska\, Jeziorki\, Polna - papier
END:VEVENT
BEGIN:VEVENT
DTSTART:20251231T060000Z
DTEND:20251231T190000Z
DTSTAMP:20260422T080252Z
UID:69e880aca364c
CATEGORIES:odpady segregowane - papier
LOCATION:SEKTOR I: Piaseczno - od ul. Akacjowej do ul. Zachodniej Piaseczno, Mazowieckie, PL
ORGANIZER;CN=WGO Gminy Piaseczno:MAILTO:go@piaseczno.eu
DESCRIPTION: Odbiór odpadów 
URL;VALUE=URI:https://odpady.piaseczno.eu/harmonogram-odbioru-odpadow/odbior/piaseczno-sektor-i-wolka-kozodawska-ulice-dworska-jeziorki-polna-papier/
SUMMARY:Sektor I - Piaseczno ulice: Akacjowa do Zachodniej\, Wólka Kozodawska ulice: Dworska\, Jeziorki\, Polna - papier
END:VEVENT
BEGIN:VEVENT
DTSTART:20260128T060000Z
DTEND:20260128T190000Z
DTSTAMP:20260422T080252Z
UID:69e880aca367a
CATEGORIES:odpady segregowane - papier
LOCATION:SEKTOR I: Piaseczno - od ul. Akacjowej do ul. Zachodniej Piaseczno, Mazowieckie, PL
ORGANIZER;CN=WGO Gminy Piaseczno:MAILTO:go@piaseczno.eu
DESCRIPTION: Odbiór odpadów 
URL;VALUE=URI:https://odpady.piaseczno.eu/harmonogram-odbioru-odpadow/odbior/piaseczno-sektor-i-wolka-kozodawska-ulice-dworska-jeziorki-polna-papier/
SUMMARY:Sektor I - Piaseczno ulice: Akacjowa do Zachodniej\, Wólka Kozodawska ulice: Dworska\, Jeziorki\, Polna - papier
END:VEVENT
BEGIN:VEVENT
DTSTART:20260225T060000Z
DTEND:20260225T190000Z
DTSTAMP:20260422T080252Z
UID:69e880aca369c
CATEGORIES:odpady segregowane - papier
LOCATION:SEKTOR I: Piaseczno - od ul. Akacjowej do ul. Zachodniej Piaseczno, Mazowieckie, PL
ORGANIZER;CN=WGO Gminy Piaseczno:MAILTO:go@piaseczno.eu
DESCRIPTION: Odbiór odpadów 
URL;VALUE=URI:https://odpady.piaseczno.eu/harmonogram-odbioru-odpadow/odbior/piaseczno-sektor-i-wolka-kozodawska-ulice-dworska-jeziorki-polna-papier/
SUMMARY:Sektor I - Piaseczno ulice: Akacjowa do Zachodniej\, Wólka Kozodawska ulice: Dworska\, Jeziorki\, Polna - papier
END:VEVENT
BEGIN:VEVENT
DTSTART:20260325T060000Z
DTEND:20260325T190000Z
DTSTAMP:20260422T080252Z
UID:69e880aca36c8
CATEGORIES:odpady segregowane - papier
LOCATION:SEKTOR I: Piaseczno - od ul. Akacjowej do ul. Zachodniej Piaseczno, Mazowieckie, PL
ORGANIZER;CN=WGO Gminy Piaseczno:MAILTO:go@piaseczno.eu
DESCRIPTION: Odbiór odpadów 
URL;VALUE=URI:https://odpady.piaseczno.eu/harmonogram-odbioru-odpadow/odbior/piaseczno-sektor-i-wolka-kozodawska-ulice-dworska-jeziorki-polna-papier/
SUMMARY:Sektor I - Piaseczno ulice: Akacjowa do Zachodniej\, Wólka Kozodawska ulice: Dworska\, Jeziorki\, Polna - papier
END:VEVENT
BEGIN:VEVENT
DTSTART:20260422T060000Z
DTEND:20260422T190000Z
DTSTAMP:20260422T080252Z
UID:69e880aca36e5
CATEGORIES:odpady segregowane - papier
LOCATION:SEKTOR I: Piaseczno - od ul. Akacjowej do ul. Zachodniej Piaseczno, Mazowieckie, PL
ORGANIZER;CN=WGO Gminy Piaseczno:MAILTO:go@piaseczno.eu
DESCRIPTION: Odbiór odpadów 
URL;VALUE=URI:https://odpady.piaseczno.eu/harmonogram-odbioru-odpadow/odbior/piaseczno-sektor-i-wolka-kozodawska-ulice-dworska-jeziorki-polna-papier/
SUMMARY:Sektor I - Piaseczno ulice: Akacjowa do Zachodniej\, Wólka Kozodawska ulice: Dworska\, Jeziorki\, Polna - papier
END:VEVENT
BEGIN:VEVENT
DTSTART:20260520T060000Z
DTEND:20260520T190000Z
DTSTAMP:20260422T080252Z
UID:69e880aca3701
CATEGORIES:odpady segregowane - papier
LOCATION:SEKTOR I: Piaseczno - od ul. Akacjowej do ul. Zachodniej Piaseczno, Mazowieckie, PL
ORGANIZER;CN=WGO Gminy Piaseczno:MAILTO:go@piaseczno.eu
DESCRIPTION: Odbiór odpadów 
URL;VALUE=URI:https://odpady.piaseczno.eu/harmonogram-odbioru-odpadow/odbior/piaseczno-sektor-i-wolka-kozodawska-ulice-dworska-jeziorki-polna-papier/
SUMMARY:Sektor I - Piaseczno ulice: Akacjowa do Zachodniej\, Wólka Kozodawska ulice: Dworska\, Jeziorki\, Polna - papier
END:VEVENT
BEGIN:VEVENT
DTSTART:20260617T060000Z
DTEND:20260617T190000Z
DTSTAMP:20260422T080252Z
UID:69e880aca371d
CATEGORIES:odpady segregowane - papier
LOCATION:SEKTOR I: Piaseczno - od ul. Akacjowej do ul. Zachodniej Piaseczno, Mazowieckie, PL
ORGANIZER;CN=WGO Gminy Piaseczno:MAILTO:go@piaseczno.eu
DESCRIPTION: Odbiór odpadów 
URL;VALUE=URI:https://odpady.piaseczno.eu/harmonogram-odbioru-odpadow/odbior/piaseczno-sektor-i-wolka-kozodawska-ulice-dworska-jeziorki-polna-papier/
SUMMARY:Sektor I - Piaseczno ulice: Akacjowa do Zachodniej\, Wólka Kozodawska ulice: Dworska\, Jeziorki\, Polna - papier
END:VEVENT
BEGIN:VEVENT
DTSTART:20260715T060000Z
DTEND:20260715T190000Z
DTSTAMP:20260422T080252Z
UID:69e880aca3739
CATEGORIES:odpady segregowane - papier
LOCATION:SEKTOR I: Piaseczno - od ul. Akacjowej do ul. Zachodniej Piaseczno, Mazowieckie, PL
ORGANIZER;CN=WGO Gminy Piaseczno:MAILTO:go@piaseczno.eu
DESCRIPTION: Odbiór odpadów 
URL;VALUE=URI:https://odpady.piaseczno.eu/harmonogram-odbioru-odpadow/odbior/piaseczno-sektor-i-wolka-kozodawska-ulice-dworska-jeziorki-polna-papier/
SUMMARY:Sektor I - Piaseczno ulice: Akacjowa do Zachodniej\, Wólka Kozodawska ulice: Dworska\, Jeziorki\, Polna - papier
END:VEVENT
BEGIN:VEVENT
DTSTART:20260812T060000Z
DTEND:20260812T190000Z
DTSTAMP:20260422T080252Z
UID:69e880aca375b
CATEGORIES:odpady segregowane - papier
LOCATION:SEKTOR I: Piaseczno - od ul. Akacjowej do ul. Zachodniej Piaseczno, Mazowieckie, PL
ORGANIZER;CN=WGO Gminy Piaseczno:MAILTO:go@piaseczno.eu
DESCRIPTION: Odbiór odpadów 
URL;VALUE=URI:https://odpady.piaseczno.eu/harmonogram-odbioru-odpadow/odbior/piaseczno-sektor-i-wolka-kozodawska-ulice-dworska-jeziorki-polna-papier/
SUMMARY:Sektor I - Piaseczno ulice: Akacjowa do Zachodniej\, Wólka Kozodawska ulice: Dworska\, Jeziorki\, Polna - papier
END:VEVENT
BEGIN:VEVENT
DTSTART:20260909T060000Z
DTEND:20260909T190000Z
DTSTAMP:20260422T080252Z
UID:69e880aca3778
CATEGORIES:odpady segregowane - papier
LOCATION:SEKTOR I: Piaseczno - od ul. Akacjowej do ul. Zachodniej Piaseczno, Mazowieckie, PL
ORGANIZER;CN=WGO Gminy Piaseczno:MAILTO:go@piaseczno.eu
DESCRIPTION: Odbiór odpadów 
URL;VALUE=URI:https://odpady.piaseczno.eu/harmonogram-odbioru-odpadow/odbior/piaseczno-sektor-i-wolka-kozodawska-ulice-dworska-jeziorki-polna-papier/
SUMMARY:Sektor I - Piaseczno ulice: Akacjowa do Zachodniej\, Wólka Kozodawska ulice: Dworska\, Jeziorki\, Polna - papier
END:VEVENT
BEGIN:VEVENT
DTSTART:20261007T060000Z
DTEND:20261007T190000Z
DTSTAMP:20260422T080252Z
UID:69e880aca3793
CATEGORIES:odpady segregowane - papier
LOCATION:SEKTOR I: Piaseczno - od ul. Akacjowej do ul. Zachodniej Piaseczno, Mazowieckie, PL
ORGANIZER;CN=WGO Gminy Piaseczno:MAILTO:go@piaseczno.eu
DESCRIPTION: Odbiór odpadów 
URL;VALUE=URI:https://odpady.piaseczno.eu/harmonogram-odbioru-odpadow/odbior/piaseczno-sektor-i-wolka-kozodawska-ulice-dworska-jeziorki-polna-papier/
SUMMARY:Sektor I - Piaseczno ulice: Akacjowa do Zachodniej\, Wólka Kozodawska ulice: Dworska\, Jeziorki\, Polna - papier
END:VEVENT
BEGIN:VEVENT
DTSTART:20261104T060000Z
DTEND:20261104T190000Z
DTSTAMP:20260422T080252Z
UID:69e880aca37ae
CATEGORIES:odpady segregowane - papier
LOCATION:SEKTOR I: Piaseczno - od ul. Akacjowej do ul. Zachodniej Piaseczno, Mazowieckie, PL
ORGANIZER;CN=WGO Gminy Piaseczno:MAILTO:go@piaseczno.eu
DESCRIPTION: Odbiór odpadów 
URL;VALUE=URI:https://odpady.piaseczno.eu/harmonogram-odbioru-odpadow/odbior/piaseczno-sektor-i-wolka-kozodawska-ulice-dworska-jeziorki-polna-papier/
SUMMARY:Sektor I - Piaseczno ulice: Akacjowa do Zachodniej\, Wólka Kozodawska ulice: Dworska\, Jeziorki\, Polna - papier
END:VEVENT
END:VCALENDAR
