BEGIN:VCALENDAR
VERSION:2.0
PRODID:-//DIGITAL FACTORY//EVENTS MAKER V1.6.12//EN
CALSCALE:GREGORIAN
METHOD:PUBLISH
BEGIN:VEVENT
DTSTART:20251128T060000Z
DTEND:20251128T190000Z
DTSTAMP:20260424T163417Z
UID:69eb9b890c51e
CATEGORIES:Odpady segregowane -tworzywa sztuczne i metale
LOCATION:SEKTOR I: Piaseczno - od Al. 3 Maja do ul. Żółkiewskiego Piaseczno, Mazowieckie, PL
ORGANIZER;CN=WGO Gminy Piaseczno:MAILTO:go@piaseczno.eu
DESCRIPTION: Odbiór odpadów 
URL;VALUE=URI:https://odpady.piaseczno.eu/harmonogram-odbioru-odpadow/odbior/piaseczno-iv-papier-plastik-metal-tekstylia/
SUMMARY:Sektor I - Piaseczno ulice: Aleja 3 Maja do Żółkiewskiego - tworzywa sztuczne i metale
END:VEVENT
BEGIN:VEVENT
DTSTART:20251212T060000Z
DTEND:20251212T190000Z
DTSTAMP:20260424T163417Z
UID:69eb9b890c59b
CATEGORIES:Odpady segregowane -tworzywa sztuczne i metale
LOCATION:SEKTOR I: Piaseczno - od Al. 3 Maja do ul. Żółkiewskiego Piaseczno, Mazowieckie, PL
ORGANIZER;CN=WGO Gminy Piaseczno:MAILTO:go@piaseczno.eu
DESCRIPTION: Odbiór odpadów 
URL;VALUE=URI:https://odpady.piaseczno.eu/harmonogram-odbioru-odpadow/odbior/piaseczno-iv-papier-plastik-metal-tekstylia/
SUMMARY:Sektor I - Piaseczno ulice: Aleja 3 Maja do Żółkiewskiego - tworzywa sztuczne i metale
END:VEVENT
BEGIN:VEVENT
DTSTART:20251227T060000Z
DTEND:20251227T190000Z
DTSTAMP:20260424T163417Z
UID:69eb9b890c5c4
CATEGORIES:Odpady segregowane -tworzywa sztuczne i metale
LOCATION:SEKTOR I: Piaseczno - od Al. 3 Maja do ul. Żółkiewskiego Piaseczno, Mazowieckie, PL
ORGANIZER;CN=WGO Gminy Piaseczno:MAILTO:go@piaseczno.eu
DESCRIPTION: Odbiór odpadów 
URL;VALUE=URI:https://odpady.piaseczno.eu/harmonogram-odbioru-odpadow/odbior/piaseczno-iv-papier-plastik-metal-tekstylia/
SUMMARY:Sektor I - Piaseczno ulice: Aleja 3 Maja do Żółkiewskiego - tworzywa sztuczne i metale
END:VEVENT
BEGIN:VEVENT
DTSTART:20260109T060000Z
DTEND:20260109T190000Z
DTSTAMP:20260424T163417Z
UID:69eb9b890c5e5
CATEGORIES:Odpady segregowane -tworzywa sztuczne i metale
LOCATION:SEKTOR I: Piaseczno - od Al. 3 Maja do ul. Żółkiewskiego Piaseczno, Mazowieckie, PL
ORGANIZER;CN=WGO Gminy Piaseczno:MAILTO:go@piaseczno.eu
DESCRIPTION: Odbiór odpadów 
URL;VALUE=URI:https://odpady.piaseczno.eu/harmonogram-odbioru-odpadow/odbior/piaseczno-iv-papier-plastik-metal-tekstylia/
SUMMARY:Sektor I - Piaseczno ulice: Aleja 3 Maja do Żółkiewskiego - tworzywa sztuczne i metale
END:VEVENT
BEGIN:VEVENT
DTSTART:20260123T060000Z
DTEND:20260123T190000Z
DTSTAMP:20260424T163417Z
UID:69eb9b890c602
CATEGORIES:Odpady segregowane -tworzywa sztuczne i metale
LOCATION:SEKTOR I: Piaseczno - od Al. 3 Maja do ul. Żółkiewskiego Piaseczno, Mazowieckie, PL
ORGANIZER;CN=WGO Gminy Piaseczno:MAILTO:go@piaseczno.eu
DESCRIPTION: Odbiór odpadów 
URL;VALUE=URI:https://odpady.piaseczno.eu/harmonogram-odbioru-odpadow/odbior/piaseczno-iv-papier-plastik-metal-tekstylia/
SUMMARY:Sektor I - Piaseczno ulice: Aleja 3 Maja do Żółkiewskiego - tworzywa sztuczne i metale
END:VEVENT
BEGIN:VEVENT
DTSTART:20260206T060000Z
DTEND:20260206T190000Z
DTSTAMP:20260424T163417Z
UID:69eb9b890c61e
CATEGORIES:Odpady segregowane -tworzywa sztuczne i metale
LOCATION:SEKTOR I: Piaseczno - od Al. 3 Maja do ul. Żółkiewskiego Piaseczno, Mazowieckie, PL
ORGANIZER;CN=WGO Gminy Piaseczno:MAILTO:go@piaseczno.eu
DESCRIPTION: Odbiór odpadów 
URL;VALUE=URI:https://odpady.piaseczno.eu/harmonogram-odbioru-odpadow/odbior/piaseczno-iv-papier-plastik-metal-tekstylia/
SUMMARY:Sektor I - Piaseczno ulice: Aleja 3 Maja do Żółkiewskiego - tworzywa sztuczne i metale
END:VEVENT
BEGIN:VEVENT
DTSTART:20260220T060000Z
DTEND:20260220T190000Z
DTSTAMP:20260424T163417Z
UID:69eb9b890c640
CATEGORIES:Odpady segregowane -tworzywa sztuczne i metale
LOCATION:SEKTOR I: Piaseczno - od Al. 3 Maja do ul. Żółkiewskiego Piaseczno, Mazowieckie, PL
ORGANIZER;CN=WGO Gminy Piaseczno:MAILTO:go@piaseczno.eu
DESCRIPTION: Odbiór odpadów 
URL;VALUE=URI:https://odpady.piaseczno.eu/harmonogram-odbioru-odpadow/odbior/piaseczno-iv-papier-plastik-metal-tekstylia/
SUMMARY:Sektor I - Piaseczno ulice: Aleja 3 Maja do Żółkiewskiego - tworzywa sztuczne i metale
END:VEVENT
BEGIN:VEVENT
DTSTART:20260306T060000Z
DTEND:20260306T190000Z
DTSTAMP:20260424T163417Z
UID:69eb9b890c65f
CATEGORIES:Odpady segregowane -tworzywa sztuczne i metale
LOCATION:SEKTOR I: Piaseczno - od Al. 3 Maja do ul. Żółkiewskiego Piaseczno, Mazowieckie, PL
ORGANIZER;CN=WGO Gminy Piaseczno:MAILTO:go@piaseczno.eu
DESCRIPTION: Odbiór odpadów 
URL;VALUE=URI:https://odpady.piaseczno.eu/harmonogram-odbioru-odpadow/odbior/piaseczno-iv-papier-plastik-metal-tekstylia/
SUMMARY:Sektor I - Piaseczno ulice: Aleja 3 Maja do Żółkiewskiego - tworzywa sztuczne i metale
END:VEVENT
BEGIN:VEVENT
DTSTART:20260320T060000Z
DTEND:20260320T190000Z
DTSTAMP:20260424T163417Z
UID:69eb9b890c67a
CATEGORIES:Odpady segregowane -tworzywa sztuczne i metale
LOCATION:SEKTOR I: Piaseczno - od Al. 3 Maja do ul. Żółkiewskiego Piaseczno, Mazowieckie, PL
ORGANIZER;CN=WGO Gminy Piaseczno:MAILTO:go@piaseczno.eu
DESCRIPTION: Odbiór odpadów 
URL;VALUE=URI:https://odpady.piaseczno.eu/harmonogram-odbioru-odpadow/odbior/piaseczno-iv-papier-plastik-metal-tekstylia/
SUMMARY:Sektor I - Piaseczno ulice: Aleja 3 Maja do Żółkiewskiego - tworzywa sztuczne i metale
END:VEVENT
BEGIN:VEVENT
DTSTART:20260403T060000Z
DTEND:20260403T190000Z
DTSTAMP:20260424T163417Z
UID:69eb9b890c694
CATEGORIES:Odpady segregowane -tworzywa sztuczne i metale
LOCATION:SEKTOR I: Piaseczno - od Al. 3 Maja do ul. Żółkiewskiego Piaseczno, Mazowieckie, PL
ORGANIZER;CN=WGO Gminy Piaseczno:MAILTO:go@piaseczno.eu
DESCRIPTION: Odbiór odpadów 
URL;VALUE=URI:https://odpady.piaseczno.eu/harmonogram-odbioru-odpadow/odbior/piaseczno-iv-papier-plastik-metal-tekstylia/
SUMMARY:Sektor I - Piaseczno ulice: Aleja 3 Maja do Żółkiewskiego - tworzywa sztuczne i metale
END:VEVENT
BEGIN:VEVENT
DTSTART:20260417T060000Z
DTEND:20260417T190000Z
DTSTAMP:20260424T163417Z
UID:69eb9b890c6ae
CATEGORIES:Odpady segregowane -tworzywa sztuczne i metale
LOCATION:SEKTOR I: Piaseczno - od Al. 3 Maja do ul. Żółkiewskiego Piaseczno, Mazowieckie, PL
ORGANIZER;CN=WGO Gminy Piaseczno:MAILTO:go@piaseczno.eu
DESCRIPTION: Odbiór odpadów 
URL;VALUE=URI:https://odpady.piaseczno.eu/harmonogram-odbioru-odpadow/odbior/piaseczno-iv-papier-plastik-metal-tekstylia/
SUMMARY:Sektor I - Piaseczno ulice: Aleja 3 Maja do Żółkiewskiego - tworzywa sztuczne i metale
END:VEVENT
BEGIN:VEVENT
DTSTART:20260430T060000Z
DTEND:20260430T190000Z
DTSTAMP:20260424T163417Z
UID:69eb9b890c6c7
CATEGORIES:Odpady segregowane -tworzywa sztuczne i metale
LOCATION:SEKTOR I: Piaseczno - od Al. 3 Maja do ul. Żółkiewskiego Piaseczno, Mazowieckie, PL
ORGANIZER;CN=WGO Gminy Piaseczno:MAILTO:go@piaseczno.eu
DESCRIPTION: Odbiór odpadów 
URL;VALUE=URI:https://odpady.piaseczno.eu/harmonogram-odbioru-odpadow/odbior/piaseczno-iv-papier-plastik-metal-tekstylia/
SUMMARY:Sektor I - Piaseczno ulice: Aleja 3 Maja do Żółkiewskiego - tworzywa sztuczne i metale
END:VEVENT
BEGIN:VEVENT
DTSTART:20260515T060000Z
DTEND:20260515T190000Z
DTSTAMP:20260424T163417Z
UID:69eb9b890c6e1
CATEGORIES:Odpady segregowane -tworzywa sztuczne i metale
LOCATION:SEKTOR I: Piaseczno - od Al. 3 Maja do ul. Żółkiewskiego Piaseczno, Mazowieckie, PL
ORGANIZER;CN=WGO Gminy Piaseczno:MAILTO:go@piaseczno.eu
DESCRIPTION: Odbiór odpadów 
URL;VALUE=URI:https://odpady.piaseczno.eu/harmonogram-odbioru-odpadow/odbior/piaseczno-iv-papier-plastik-metal-tekstylia/
SUMMARY:Sektor I - Piaseczno ulice: Aleja 3 Maja do Żółkiewskiego - tworzywa sztuczne i metale
END:VEVENT
BEGIN:VEVENT
DTSTART:20260529T060000Z
DTEND:20260529T190000Z
DTSTAMP:20260424T163417Z
UID:69eb9b890c6fb
CATEGORIES:Odpady segregowane -tworzywa sztuczne i metale
LOCATION:SEKTOR I: Piaseczno - od Al. 3 Maja do ul. Żółkiewskiego Piaseczno, Mazowieckie, PL
ORGANIZER;CN=WGO Gminy Piaseczno:MAILTO:go@piaseczno.eu
DESCRIPTION: Odbiór odpadów 
URL;VALUE=URI:https://odpady.piaseczno.eu/harmonogram-odbioru-odpadow/odbior/piaseczno-iv-papier-plastik-metal-tekstylia/
SUMMARY:Sektor I - Piaseczno ulice: Aleja 3 Maja do Żółkiewskiego - tworzywa sztuczne i metale
END:VEVENT
BEGIN:VEVENT
DTSTART:20260612T060000Z
DTEND:20260612T190000Z
DTSTAMP:20260424T163417Z
UID:69eb9b890c728
CATEGORIES:Odpady segregowane -tworzywa sztuczne i metale
LOCATION:SEKTOR I: Piaseczno - od Al. 3 Maja do ul. Żółkiewskiego Piaseczno, Mazowieckie, PL
ORGANIZER;CN=WGO Gminy Piaseczno:MAILTO:go@piaseczno.eu
DESCRIPTION: Odbiór odpadów 
URL;VALUE=URI:https://odpady.piaseczno.eu/harmonogram-odbioru-odpadow/odbior/piaseczno-iv-papier-plastik-metal-tekstylia/
SUMMARY:Sektor I - Piaseczno ulice: Aleja 3 Maja do Żółkiewskiego - tworzywa sztuczne i metale
END:VEVENT
BEGIN:VEVENT
DTSTART:20260626T060000Z
DTEND:20260626T190000Z
DTSTAMP:20260424T163417Z
UID:69eb9b890c743
CATEGORIES:Odpady segregowane -tworzywa sztuczne i metale
LOCATION:SEKTOR I: Piaseczno - od Al. 3 Maja do ul. Żółkiewskiego Piaseczno, Mazowieckie, PL
ORGANIZER;CN=WGO Gminy Piaseczno:MAILTO:go@piaseczno.eu
DESCRIPTION: Odbiór odpadów 
URL;VALUE=URI:https://odpady.piaseczno.eu/harmonogram-odbioru-odpadow/odbior/piaseczno-iv-papier-plastik-metal-tekstylia/
SUMMARY:Sektor I - Piaseczno ulice: Aleja 3 Maja do Żółkiewskiego - tworzywa sztuczne i metale
END:VEVENT
BEGIN:VEVENT
DTSTART:20260710T060000Z
DTEND:20260710T190000Z
DTSTAMP:20260424T163417Z
UID:69eb9b890c75c
CATEGORIES:Odpady segregowane -tworzywa sztuczne i metale
LOCATION:SEKTOR I: Piaseczno - od Al. 3 Maja do ul. Żółkiewskiego Piaseczno, Mazowieckie, PL
ORGANIZER;CN=WGO Gminy Piaseczno:MAILTO:go@piaseczno.eu
DESCRIPTION: Odbiór odpadów 
URL;VALUE=URI:https://odpady.piaseczno.eu/harmonogram-odbioru-odpadow/odbior/piaseczno-iv-papier-plastik-metal-tekstylia/
SUMMARY:Sektor I - Piaseczno ulice: Aleja 3 Maja do Żółkiewskiego - tworzywa sztuczne i metale
END:VEVENT
BEGIN:VEVENT
DTSTART:20260724T060000Z
DTEND:20260724T190000Z
DTSTAMP:20260424T163417Z
UID:69eb9b890c776
CATEGORIES:Odpady segregowane -tworzywa sztuczne i metale
LOCATION:SEKTOR I: Piaseczno - od Al. 3 Maja do ul. Żółkiewskiego Piaseczno, Mazowieckie, PL
ORGANIZER;CN=WGO Gminy Piaseczno:MAILTO:go@piaseczno.eu
DESCRIPTION: Odbiór odpadów 
URL;VALUE=URI:https://odpady.piaseczno.eu/harmonogram-odbioru-odpadow/odbior/piaseczno-iv-papier-plastik-metal-tekstylia/
SUMMARY:Sektor I - Piaseczno ulice: Aleja 3 Maja do Żółkiewskiego - tworzywa sztuczne i metale
END:VEVENT
BEGIN:VEVENT
DTSTART:20260807T060000Z
DTEND:20260807T190000Z
DTSTAMP:20260424T163417Z
UID:69eb9b890c78f
CATEGORIES:Odpady segregowane -tworzywa sztuczne i metale
LOCATION:SEKTOR I: Piaseczno - od Al. 3 Maja do ul. Żółkiewskiego Piaseczno, Mazowieckie, PL
ORGANIZER;CN=WGO Gminy Piaseczno:MAILTO:go@piaseczno.eu
DESCRIPTION: Odbiór odpadów 
URL;VALUE=URI:https://odpady.piaseczno.eu/harmonogram-odbioru-odpadow/odbior/piaseczno-iv-papier-plastik-metal-tekstylia/
SUMMARY:Sektor I - Piaseczno ulice: Aleja 3 Maja do Żółkiewskiego - tworzywa sztuczne i metale
END:VEVENT
BEGIN:VEVENT
DTSTART:20260821T060000Z
DTEND:20260821T190000Z
DTSTAMP:20260424T163417Z
UID:69eb9b890c7a8
CATEGORIES:Odpady segregowane -tworzywa sztuczne i metale
LOCATION:SEKTOR I: Piaseczno - od Al. 3 Maja do ul. Żółkiewskiego Piaseczno, Mazowieckie, PL
ORGANIZER;CN=WGO Gminy Piaseczno:MAILTO:go@piaseczno.eu
DESCRIPTION: Odbiór odpadów 
URL;VALUE=URI:https://odpady.piaseczno.eu/harmonogram-odbioru-odpadow/odbior/piaseczno-iv-papier-plastik-metal-tekstylia/
SUMMARY:Sektor I - Piaseczno ulice: Aleja 3 Maja do Żółkiewskiego - tworzywa sztuczne i metale
END:VEVENT
BEGIN:VEVENT
DTSTART:20260904T060000Z
DTEND:20260904T190000Z
DTSTAMP:20260424T163417Z
UID:69eb9b890c7c1
CATEGORIES:Odpady segregowane -tworzywa sztuczne i metale
LOCATION:SEKTOR I: Piaseczno - od Al. 3 Maja do ul. Żółkiewskiego Piaseczno, Mazowieckie, PL
ORGANIZER;CN=WGO Gminy Piaseczno:MAILTO:go@piaseczno.eu
DESCRIPTION: Odbiór odpadów 
URL;VALUE=URI:https://odpady.piaseczno.eu/harmonogram-odbioru-odpadow/odbior/piaseczno-iv-papier-plastik-metal-tekstylia/
SUMMARY:Sektor I - Piaseczno ulice: Aleja 3 Maja do Żółkiewskiego - tworzywa sztuczne i metale
END:VEVENT
BEGIN:VEVENT
DTSTART:20260918T060000Z
DTEND:20260918T190000Z
DTSTAMP:20260424T163417Z
UID:69eb9b890c7dd
CATEGORIES:Odpady segregowane -tworzywa sztuczne i metale
LOCATION:SEKTOR I: Piaseczno - od Al. 3 Maja do ul. Żółkiewskiego Piaseczno, Mazowieckie, PL
ORGANIZER;CN=WGO Gminy Piaseczno:MAILTO:go@piaseczno.eu
DESCRIPTION: Odbiór odpadów 
URL;VALUE=URI:https://odpady.piaseczno.eu/harmonogram-odbioru-odpadow/odbior/piaseczno-iv-papier-plastik-metal-tekstylia/
SUMMARY:Sektor I - Piaseczno ulice: Aleja 3 Maja do Żółkiewskiego - tworzywa sztuczne i metale
END:VEVENT
BEGIN:VEVENT
DTSTART:20261002T060000Z
DTEND:20261002T190000Z
DTSTAMP:20260424T163417Z
UID:69eb9b890c7f7
CATEGORIES:Odpady segregowane -tworzywa sztuczne i metale
LOCATION:SEKTOR I: Piaseczno - od Al. 3 Maja do ul. Żółkiewskiego Piaseczno, Mazowieckie, PL
ORGANIZER;CN=WGO Gminy Piaseczno:MAILTO:go@piaseczno.eu
DESCRIPTION: Odbiór odpadów 
URL;VALUE=URI:https://odpady.piaseczno.eu/harmonogram-odbioru-odpadow/odbior/piaseczno-iv-papier-plastik-metal-tekstylia/
SUMMARY:Sektor I - Piaseczno ulice: Aleja 3 Maja do Żółkiewskiego - tworzywa sztuczne i metale
END:VEVENT
BEGIN:VEVENT
DTSTART:20261016T060000Z
DTEND:20261016T190000Z
DTSTAMP:20260424T163417Z
UID:69eb9b890c810
CATEGORIES:Odpady segregowane -tworzywa sztuczne i metale
LOCATION:SEKTOR I: Piaseczno - od Al. 3 Maja do ul. Żółkiewskiego Piaseczno, Mazowieckie, PL
ORGANIZER;CN=WGO Gminy Piaseczno:MAILTO:go@piaseczno.eu
DESCRIPTION: Odbiór odpadów 
URL;VALUE=URI:https://odpady.piaseczno.eu/harmonogram-odbioru-odpadow/odbior/piaseczno-iv-papier-plastik-metal-tekstylia/
SUMMARY:Sektor I - Piaseczno ulice: Aleja 3 Maja do Żółkiewskiego - tworzywa sztuczne i metale
END:VEVENT
BEGIN:VEVENT
DTSTART:20261030T060000Z
DTEND:20261030T190000Z
DTSTAMP:20260424T163417Z
UID:69eb9b890c82a
CATEGORIES:Odpady segregowane -tworzywa sztuczne i metale
LOCATION:SEKTOR I: Piaseczno - od Al. 3 Maja do ul. Żółkiewskiego Piaseczno, Mazowieckie, PL
ORGANIZER;CN=WGO Gminy Piaseczno:MAILTO:go@piaseczno.eu
DESCRIPTION: Odbiór odpadów 
URL;VALUE=URI:https://odpady.piaseczno.eu/harmonogram-odbioru-odpadow/odbior/piaseczno-iv-papier-plastik-metal-tekstylia/
SUMMARY:Sektor I - Piaseczno ulice: Aleja 3 Maja do Żółkiewskiego - tworzywa sztuczne i metale
END:VEVENT
BEGIN:VEVENT
DTSTART:20261113T060000Z
DTEND:20261113T190000Z
DTSTAMP:20260424T163417Z
UID:69eb9b890c843
CATEGORIES:Odpady segregowane -tworzywa sztuczne i metale
LOCATION:SEKTOR I: Piaseczno - od Al. 3 Maja do ul. Żółkiewskiego Piaseczno, Mazowieckie, PL
ORGANIZER;CN=WGO Gminy Piaseczno:MAILTO:go@piaseczno.eu
DESCRIPTION: Odbiór odpadów 
URL;VALUE=URI:https://odpady.piaseczno.eu/harmonogram-odbioru-odpadow/odbior/piaseczno-iv-papier-plastik-metal-tekstylia/
SUMMARY:Sektor I - Piaseczno ulice: Aleja 3 Maja do Żółkiewskiego - tworzywa sztuczne i metale
END:VEVENT
BEGIN:VEVENT
DTSTART:20261127T060000Z
DTEND:20261127T190000Z
DTSTAMP:20260424T163417Z
UID:69eb9b890c85c
CATEGORIES:Odpady segregowane -tworzywa sztuczne i metale
LOCATION:SEKTOR I: Piaseczno - od Al. 3 Maja do ul. Żółkiewskiego Piaseczno, Mazowieckie, PL
ORGANIZER;CN=WGO Gminy Piaseczno:MAILTO:go@piaseczno.eu
DESCRIPTION: Odbiór odpadów 
URL;VALUE=URI:https://odpady.piaseczno.eu/harmonogram-odbioru-odpadow/odbior/piaseczno-iv-papier-plastik-metal-tekstylia/
SUMMARY:Sektor I - Piaseczno ulice: Aleja 3 Maja do Żółkiewskiego - tworzywa sztuczne i metale
END:VEVENT
END:VCALENDAR
