BEGIN:VCALENDAR
VERSION:2.0
PRODID:-//DIGITAL FACTORY//EVENTS MAKER V1.6.12//EN
CALSCALE:GREGORIAN
METHOD:PUBLISH
BEGIN:VEVENT
DTSTART:20251124T060000Z
DTEND:20251124T190000Z
DTSTAMP:20260424T194159Z
UID:69ebc787340bb
CATEGORIES:Odpady wielkogabarytowe
LOCATION:SEKTOR I: Piaseczno - od Al. 3 Maja do ul. Żółkiewskiego Piaseczno, Mazowieckie, PL
ORGANIZER;CN=WGO Gminy Piaseczno:MAILTO:go@piaseczno.eu
DESCRIPTION: Odbiór odpadów 
URL;VALUE=URI:https://odpady.piaseczno.eu/harmonogram-odbioru-odpadow/odbior/piaseczno-iv-odpady-wielkogabarytowe/
SUMMARY:Sektor I - Piaseczno ulice: Aleja 3 Maja do Żółkiewskiego - Odpady wielkogabarytowe
END:VEVENT
BEGIN:VEVENT
DTSTART:20260216T060000Z
DTEND:20260216T190000Z
DTSTAMP:20260424T194159Z
UID:69ebc7873413c
CATEGORIES:Odpady wielkogabarytowe
LOCATION:SEKTOR I: Piaseczno - od Al. 3 Maja do ul. Żółkiewskiego Piaseczno, Mazowieckie, PL
ORGANIZER;CN=WGO Gminy Piaseczno:MAILTO:go@piaseczno.eu
DESCRIPTION: Odbiór odpadów 
URL;VALUE=URI:https://odpady.piaseczno.eu/harmonogram-odbioru-odpadow/odbior/piaseczno-iv-odpady-wielkogabarytowe/
SUMMARY:Sektor I - Piaseczno ulice: Aleja 3 Maja do Żółkiewskiego - Odpady wielkogabarytowe
END:VEVENT
BEGIN:VEVENT
DTSTART:20260511T060000Z
DTEND:20260511T190000Z
DTSTAMP:20260424T194159Z
UID:69ebc78734163
CATEGORIES:Odpady wielkogabarytowe
LOCATION:SEKTOR I: Piaseczno - od Al. 3 Maja do ul. Żółkiewskiego Piaseczno, Mazowieckie, PL
ORGANIZER;CN=WGO Gminy Piaseczno:MAILTO:go@piaseczno.eu
DESCRIPTION: Odbiór odpadów 
URL;VALUE=URI:https://odpady.piaseczno.eu/harmonogram-odbioru-odpadow/odbior/piaseczno-iv-odpady-wielkogabarytowe/
SUMMARY:Sektor I - Piaseczno ulice: Aleja 3 Maja do Żółkiewskiego - Odpady wielkogabarytowe
END:VEVENT
BEGIN:VEVENT
DTSTART:20260803T060000Z
DTEND:20260803T190000Z
DTSTAMP:20260424T194159Z
UID:69ebc78734182
CATEGORIES:Odpady wielkogabarytowe
LOCATION:SEKTOR I: Piaseczno - od Al. 3 Maja do ul. Żółkiewskiego Piaseczno, Mazowieckie, PL
ORGANIZER;CN=WGO Gminy Piaseczno:MAILTO:go@piaseczno.eu
DESCRIPTION: Odbiór odpadów 
URL;VALUE=URI:https://odpady.piaseczno.eu/harmonogram-odbioru-odpadow/odbior/piaseczno-iv-odpady-wielkogabarytowe/
SUMMARY:Sektor I - Piaseczno ulice: Aleja 3 Maja do Żółkiewskiego - Odpady wielkogabarytowe
END:VEVENT
BEGIN:VEVENT
DTSTART:20261026T060000Z
DTEND:20261026T190000Z
DTSTAMP:20260424T194159Z
UID:69ebc7873419f
CATEGORIES:Odpady wielkogabarytowe
LOCATION:SEKTOR I: Piaseczno - od Al. 3 Maja do ul. Żółkiewskiego Piaseczno, Mazowieckie, PL
ORGANIZER;CN=WGO Gminy Piaseczno:MAILTO:go@piaseczno.eu
DESCRIPTION: Odbiór odpadów 
URL;VALUE=URI:https://odpady.piaseczno.eu/harmonogram-odbioru-odpadow/odbior/piaseczno-iv-odpady-wielkogabarytowe/
SUMMARY:Sektor I - Piaseczno ulice: Aleja 3 Maja do Żółkiewskiego - Odpady wielkogabarytowe
END:VEVENT
END:VCALENDAR
