BEGIN:VCALENDAR
VERSION:2.0
PRODID:-//DIGITAL FACTORY//EVENTS MAKER V1.6.12//EN
CALSCALE:GREGORIAN
METHOD:PUBLISH
BEGIN:VEVENT
DTSTART:20260109T060000Z
DTEND:20260109T190000Z
DTSTAMP:20260424T213820Z
UID:69ebe2cc94c92
CATEGORIES:Odbiór choinek
LOCATION:SEKTOR I: Piaseczno - od Al. 3 Maja do ul. Żółkiewskiego Piaseczno, Mazowieckie, PL
ORGANIZER;CN=WGO Gminy Piaseczno:MAILTO:go@piaseczno.eu
DESCRIPTION: Odbiór odpadów 
URL;VALUE=URI:https://odpady.piaseczno.eu/harmonogram-odbioru-odpadow/odbior/piaseczno-iv-choinki/
SUMMARY:Sektor I - Piaseczno ulice: Aleja 3 Maja do Żółkiewskiego - Choinki
END:VEVENT
BEGIN:VEVENT
DTSTART:20260206T060000Z
DTEND:20260206T190000Z
DTSTAMP:20260424T213820Z
UID:69ebe2cc94d0f
CATEGORIES:Odbiór choinek
LOCATION:SEKTOR I: Piaseczno - od Al. 3 Maja do ul. Żółkiewskiego Piaseczno, Mazowieckie, PL
ORGANIZER;CN=WGO Gminy Piaseczno:MAILTO:go@piaseczno.eu
DESCRIPTION: Odbiór odpadów 
URL;VALUE=URI:https://odpady.piaseczno.eu/harmonogram-odbioru-odpadow/odbior/piaseczno-iv-choinki/
SUMMARY:Sektor I - Piaseczno ulice: Aleja 3 Maja do Żółkiewskiego - Choinki
END:VEVENT
END:VCALENDAR
