BEGIN:VCALENDAR
VERSION:2.0
PRODID:-//DIGITAL FACTORY//EVENTS MAKER V1.6.12//EN
CALSCALE:GREGORIAN
METHOD:PUBLISH
BEGIN:VEVENT
DTSTART:20251126T060000Z
DTEND:20251126T190000Z
DTSTAMP:20260424T101814Z
UID:69eb43662f812
CATEGORIES:Odpady segregowane -tworzywa sztuczne i metale
LOCATION:SEKTOR I: Piaseczno - od ul. Akacjowej do ul. Zachodniej Piaseczno, Mazowieckie, PL
ORGANIZER;CN=WGO Gminy Piaseczno:MAILTO:go@piaseczno.eu
DESCRIPTION: Odbiór odpadów 
URL;VALUE=URI:https://odpady.piaseczno.eu/harmonogram-odbioru-odpadow/odbior/piaseczno-iii-wolka-kozodawska-ii-papier-plastik-metal-tekstylia/
SUMMARY:Piaseczno ulice: Akacjowa do Zachodniej\, Wólka Kozodawska ulice: Jeziorki i Polna  - tworzywa sztuczne i metale
END:VEVENT
BEGIN:VEVENT
DTSTART:20251210T060000Z
DTEND:20251210T190000Z
DTSTAMP:20260424T101814Z
UID:69eb43662f889
CATEGORIES:Odpady segregowane -tworzywa sztuczne i metale
LOCATION:SEKTOR I: Piaseczno - od ul. Akacjowej do ul. Zachodniej Piaseczno, Mazowieckie, PL
ORGANIZER;CN=WGO Gminy Piaseczno:MAILTO:go@piaseczno.eu
DESCRIPTION: Odbiór odpadów 
URL;VALUE=URI:https://odpady.piaseczno.eu/harmonogram-odbioru-odpadow/odbior/piaseczno-iii-wolka-kozodawska-ii-papier-plastik-metal-tekstylia/
SUMMARY:Piaseczno ulice: Akacjowa do Zachodniej\, Wólka Kozodawska ulice: Jeziorki i Polna  - tworzywa sztuczne i metale
END:VEVENT
BEGIN:VEVENT
DTSTART:20251223T060000Z
DTEND:20251223T190000Z
DTSTAMP:20260424T101814Z
UID:69eb43662f8af
CATEGORIES:Odpady segregowane -tworzywa sztuczne i metale
LOCATION:SEKTOR I: Piaseczno - od ul. Akacjowej do ul. Zachodniej Piaseczno, Mazowieckie, PL
ORGANIZER;CN=WGO Gminy Piaseczno:MAILTO:go@piaseczno.eu
DESCRIPTION: Odbiór odpadów 
URL;VALUE=URI:https://odpady.piaseczno.eu/harmonogram-odbioru-odpadow/odbior/piaseczno-iii-wolka-kozodawska-ii-papier-plastik-metal-tekstylia/
SUMMARY:Piaseczno ulice: Akacjowa do Zachodniej\, Wólka Kozodawska ulice: Jeziorki i Polna  - tworzywa sztuczne i metale
END:VEVENT
BEGIN:VEVENT
DTSTART:20260107T060000Z
DTEND:20260107T190000Z
DTSTAMP:20260424T101814Z
UID:69eb43662f8cf
CATEGORIES:Odpady segregowane -tworzywa sztuczne i metale
LOCATION:SEKTOR I: Piaseczno - od ul. Akacjowej do ul. Zachodniej Piaseczno, Mazowieckie, PL
ORGANIZER;CN=WGO Gminy Piaseczno:MAILTO:go@piaseczno.eu
DESCRIPTION: Odbiór odpadów 
URL;VALUE=URI:https://odpady.piaseczno.eu/harmonogram-odbioru-odpadow/odbior/piaseczno-iii-wolka-kozodawska-ii-papier-plastik-metal-tekstylia/
SUMMARY:Piaseczno ulice: Akacjowa do Zachodniej\, Wólka Kozodawska ulice: Jeziorki i Polna  - tworzywa sztuczne i metale
END:VEVENT
BEGIN:VEVENT
DTSTART:20260121T060000Z
DTEND:20260121T190000Z
DTSTAMP:20260424T101814Z
UID:69eb43662f8ed
CATEGORIES:Odpady segregowane -tworzywa sztuczne i metale
LOCATION:SEKTOR I: Piaseczno - od ul. Akacjowej do ul. Zachodniej Piaseczno, Mazowieckie, PL
ORGANIZER;CN=WGO Gminy Piaseczno:MAILTO:go@piaseczno.eu
DESCRIPTION: Odbiór odpadów 
URL;VALUE=URI:https://odpady.piaseczno.eu/harmonogram-odbioru-odpadow/odbior/piaseczno-iii-wolka-kozodawska-ii-papier-plastik-metal-tekstylia/
SUMMARY:Piaseczno ulice: Akacjowa do Zachodniej\, Wólka Kozodawska ulice: Jeziorki i Polna  - tworzywa sztuczne i metale
END:VEVENT
BEGIN:VEVENT
DTSTART:20260204T060000Z
DTEND:20260204T190000Z
DTSTAMP:20260424T101814Z
UID:69eb43662f90e
CATEGORIES:Odpady segregowane -tworzywa sztuczne i metale
LOCATION:SEKTOR I: Piaseczno - od ul. Akacjowej do ul. Zachodniej Piaseczno, Mazowieckie, PL
ORGANIZER;CN=WGO Gminy Piaseczno:MAILTO:go@piaseczno.eu
DESCRIPTION: Odbiór odpadów 
URL;VALUE=URI:https://odpady.piaseczno.eu/harmonogram-odbioru-odpadow/odbior/piaseczno-iii-wolka-kozodawska-ii-papier-plastik-metal-tekstylia/
SUMMARY:Piaseczno ulice: Akacjowa do Zachodniej\, Wólka Kozodawska ulice: Jeziorki i Polna  - tworzywa sztuczne i metale
END:VEVENT
BEGIN:VEVENT
DTSTART:20260218T060000Z
DTEND:20260218T190000Z
DTSTAMP:20260424T101814Z
UID:69eb43662f92a
CATEGORIES:Odpady segregowane -tworzywa sztuczne i metale
LOCATION:SEKTOR I: Piaseczno - od ul. Akacjowej do ul. Zachodniej Piaseczno, Mazowieckie, PL
ORGANIZER;CN=WGO Gminy Piaseczno:MAILTO:go@piaseczno.eu
DESCRIPTION: Odbiór odpadów 
URL;VALUE=URI:https://odpady.piaseczno.eu/harmonogram-odbioru-odpadow/odbior/piaseczno-iii-wolka-kozodawska-ii-papier-plastik-metal-tekstylia/
SUMMARY:Piaseczno ulice: Akacjowa do Zachodniej\, Wólka Kozodawska ulice: Jeziorki i Polna  - tworzywa sztuczne i metale
END:VEVENT
BEGIN:VEVENT
DTSTART:20260304T060000Z
DTEND:20260304T190000Z
DTSTAMP:20260424T101814Z
UID:69eb43662f949
CATEGORIES:Odpady segregowane -tworzywa sztuczne i metale
LOCATION:SEKTOR I: Piaseczno - od ul. Akacjowej do ul. Zachodniej Piaseczno, Mazowieckie, PL
ORGANIZER;CN=WGO Gminy Piaseczno:MAILTO:go@piaseczno.eu
DESCRIPTION: Odbiór odpadów 
URL;VALUE=URI:https://odpady.piaseczno.eu/harmonogram-odbioru-odpadow/odbior/piaseczno-iii-wolka-kozodawska-ii-papier-plastik-metal-tekstylia/
SUMMARY:Piaseczno ulice: Akacjowa do Zachodniej\, Wólka Kozodawska ulice: Jeziorki i Polna  - tworzywa sztuczne i metale
END:VEVENT
BEGIN:VEVENT
DTSTART:20260318T060000Z
DTEND:20260318T190000Z
DTSTAMP:20260424T101814Z
UID:69eb43662f963
CATEGORIES:Odpady segregowane -tworzywa sztuczne i metale
LOCATION:SEKTOR I: Piaseczno - od ul. Akacjowej do ul. Zachodniej Piaseczno, Mazowieckie, PL
ORGANIZER;CN=WGO Gminy Piaseczno:MAILTO:go@piaseczno.eu
DESCRIPTION: Odbiór odpadów 
URL;VALUE=URI:https://odpady.piaseczno.eu/harmonogram-odbioru-odpadow/odbior/piaseczno-iii-wolka-kozodawska-ii-papier-plastik-metal-tekstylia/
SUMMARY:Piaseczno ulice: Akacjowa do Zachodniej\, Wólka Kozodawska ulice: Jeziorki i Polna  - tworzywa sztuczne i metale
END:VEVENT
BEGIN:VEVENT
DTSTART:20260401T060000Z
DTEND:20260401T190000Z
DTSTAMP:20260424T101814Z
UID:69eb43662f97d
CATEGORIES:Odpady segregowane -tworzywa sztuczne i metale
LOCATION:SEKTOR I: Piaseczno - od ul. Akacjowej do ul. Zachodniej Piaseczno, Mazowieckie, PL
ORGANIZER;CN=WGO Gminy Piaseczno:MAILTO:go@piaseczno.eu
DESCRIPTION: Odbiór odpadów 
URL;VALUE=URI:https://odpady.piaseczno.eu/harmonogram-odbioru-odpadow/odbior/piaseczno-iii-wolka-kozodawska-ii-papier-plastik-metal-tekstylia/
SUMMARY:Piaseczno ulice: Akacjowa do Zachodniej\, Wólka Kozodawska ulice: Jeziorki i Polna  - tworzywa sztuczne i metale
END:VEVENT
BEGIN:VEVENT
DTSTART:20260415T060000Z
DTEND:20260415T190000Z
DTSTAMP:20260424T101814Z
UID:69eb43662f9ab
CATEGORIES:Odpady segregowane -tworzywa sztuczne i metale
LOCATION:SEKTOR I: Piaseczno - od ul. Akacjowej do ul. Zachodniej Piaseczno, Mazowieckie, PL
ORGANIZER;CN=WGO Gminy Piaseczno:MAILTO:go@piaseczno.eu
DESCRIPTION: Odbiór odpadów 
URL;VALUE=URI:https://odpady.piaseczno.eu/harmonogram-odbioru-odpadow/odbior/piaseczno-iii-wolka-kozodawska-ii-papier-plastik-metal-tekstylia/
SUMMARY:Piaseczno ulice: Akacjowa do Zachodniej\, Wólka Kozodawska ulice: Jeziorki i Polna  - tworzywa sztuczne i metale
END:VEVENT
BEGIN:VEVENT
DTSTART:20260429T060000Z
DTEND:20260429T190000Z
DTSTAMP:20260424T101814Z
UID:69eb43662f9c7
CATEGORIES:Odpady segregowane -tworzywa sztuczne i metale
LOCATION:SEKTOR I: Piaseczno - od ul. Akacjowej do ul. Zachodniej Piaseczno, Mazowieckie, PL
ORGANIZER;CN=WGO Gminy Piaseczno:MAILTO:go@piaseczno.eu
DESCRIPTION: Odbiór odpadów 
URL;VALUE=URI:https://odpady.piaseczno.eu/harmonogram-odbioru-odpadow/odbior/piaseczno-iii-wolka-kozodawska-ii-papier-plastik-metal-tekstylia/
SUMMARY:Piaseczno ulice: Akacjowa do Zachodniej\, Wólka Kozodawska ulice: Jeziorki i Polna  - tworzywa sztuczne i metale
END:VEVENT
BEGIN:VEVENT
DTSTART:20260513T060000Z
DTEND:20260513T190000Z
DTSTAMP:20260424T101814Z
UID:69eb43662f9e0
CATEGORIES:Odpady segregowane -tworzywa sztuczne i metale
LOCATION:SEKTOR I: Piaseczno - od ul. Akacjowej do ul. Zachodniej Piaseczno, Mazowieckie, PL
ORGANIZER;CN=WGO Gminy Piaseczno:MAILTO:go@piaseczno.eu
DESCRIPTION: Odbiór odpadów 
URL;VALUE=URI:https://odpady.piaseczno.eu/harmonogram-odbioru-odpadow/odbior/piaseczno-iii-wolka-kozodawska-ii-papier-plastik-metal-tekstylia/
SUMMARY:Piaseczno ulice: Akacjowa do Zachodniej\, Wólka Kozodawska ulice: Jeziorki i Polna  - tworzywa sztuczne i metale
END:VEVENT
BEGIN:VEVENT
DTSTART:20260527T060000Z
DTEND:20260527T190000Z
DTSTAMP:20260424T101814Z
UID:69eb43662f9ff
CATEGORIES:Odpady segregowane -tworzywa sztuczne i metale
LOCATION:SEKTOR I: Piaseczno - od ul. Akacjowej do ul. Zachodniej Piaseczno, Mazowieckie, PL
ORGANIZER;CN=WGO Gminy Piaseczno:MAILTO:go@piaseczno.eu
DESCRIPTION: Odbiór odpadów 
URL;VALUE=URI:https://odpady.piaseczno.eu/harmonogram-odbioru-odpadow/odbior/piaseczno-iii-wolka-kozodawska-ii-papier-plastik-metal-tekstylia/
SUMMARY:Piaseczno ulice: Akacjowa do Zachodniej\, Wólka Kozodawska ulice: Jeziorki i Polna  - tworzywa sztuczne i metale
END:VEVENT
BEGIN:VEVENT
DTSTART:20260610T060000Z
DTEND:20260610T190000Z
DTSTAMP:20260424T101814Z
UID:69eb43662fa1a
CATEGORIES:Odpady segregowane -tworzywa sztuczne i metale
LOCATION:SEKTOR I: Piaseczno - od ul. Akacjowej do ul. Zachodniej Piaseczno, Mazowieckie, PL
ORGANIZER;CN=WGO Gminy Piaseczno:MAILTO:go@piaseczno.eu
DESCRIPTION: Odbiór odpadów 
URL;VALUE=URI:https://odpady.piaseczno.eu/harmonogram-odbioru-odpadow/odbior/piaseczno-iii-wolka-kozodawska-ii-papier-plastik-metal-tekstylia/
SUMMARY:Piaseczno ulice: Akacjowa do Zachodniej\, Wólka Kozodawska ulice: Jeziorki i Polna  - tworzywa sztuczne i metale
END:VEVENT
BEGIN:VEVENT
DTSTART:20260624T060000Z
DTEND:20260624T190000Z
DTSTAMP:20260424T101814Z
UID:69eb43662fa33
CATEGORIES:Odpady segregowane -tworzywa sztuczne i metale
LOCATION:SEKTOR I: Piaseczno - od ul. Akacjowej do ul. Zachodniej Piaseczno, Mazowieckie, PL
ORGANIZER;CN=WGO Gminy Piaseczno:MAILTO:go@piaseczno.eu
DESCRIPTION: Odbiór odpadów 
URL;VALUE=URI:https://odpady.piaseczno.eu/harmonogram-odbioru-odpadow/odbior/piaseczno-iii-wolka-kozodawska-ii-papier-plastik-metal-tekstylia/
SUMMARY:Piaseczno ulice: Akacjowa do Zachodniej\, Wólka Kozodawska ulice: Jeziorki i Polna  - tworzywa sztuczne i metale
END:VEVENT
BEGIN:VEVENT
DTSTART:20260708T060000Z
DTEND:20260708T190000Z
DTSTAMP:20260424T101814Z
UID:69eb43662fa4c
CATEGORIES:Odpady segregowane -tworzywa sztuczne i metale
LOCATION:SEKTOR I: Piaseczno - od ul. Akacjowej do ul. Zachodniej Piaseczno, Mazowieckie, PL
ORGANIZER;CN=WGO Gminy Piaseczno:MAILTO:go@piaseczno.eu
DESCRIPTION: Odbiór odpadów 
URL;VALUE=URI:https://odpady.piaseczno.eu/harmonogram-odbioru-odpadow/odbior/piaseczno-iii-wolka-kozodawska-ii-papier-plastik-metal-tekstylia/
SUMMARY:Piaseczno ulice: Akacjowa do Zachodniej\, Wólka Kozodawska ulice: Jeziorki i Polna  - tworzywa sztuczne i metale
END:VEVENT
BEGIN:VEVENT
DTSTART:20260722T060000Z
DTEND:20260722T190000Z
DTSTAMP:20260424T101814Z
UID:69eb43662fa65
CATEGORIES:Odpady segregowane -tworzywa sztuczne i metale
LOCATION:SEKTOR I: Piaseczno - od ul. Akacjowej do ul. Zachodniej Piaseczno, Mazowieckie, PL
ORGANIZER;CN=WGO Gminy Piaseczno:MAILTO:go@piaseczno.eu
DESCRIPTION: Odbiór odpadów 
URL;VALUE=URI:https://odpady.piaseczno.eu/harmonogram-odbioru-odpadow/odbior/piaseczno-iii-wolka-kozodawska-ii-papier-plastik-metal-tekstylia/
SUMMARY:Piaseczno ulice: Akacjowa do Zachodniej\, Wólka Kozodawska ulice: Jeziorki i Polna  - tworzywa sztuczne i metale
END:VEVENT
BEGIN:VEVENT
DTSTART:20260805T060000Z
DTEND:20260805T190000Z
DTSTAMP:20260424T101814Z
UID:69eb43662fa7e
CATEGORIES:Odpady segregowane -tworzywa sztuczne i metale
LOCATION:SEKTOR I: Piaseczno - od ul. Akacjowej do ul. Zachodniej Piaseczno, Mazowieckie, PL
ORGANIZER;CN=WGO Gminy Piaseczno:MAILTO:go@piaseczno.eu
DESCRIPTION: Odbiór odpadów 
URL;VALUE=URI:https://odpady.piaseczno.eu/harmonogram-odbioru-odpadow/odbior/piaseczno-iii-wolka-kozodawska-ii-papier-plastik-metal-tekstylia/
SUMMARY:Piaseczno ulice: Akacjowa do Zachodniej\, Wólka Kozodawska ulice: Jeziorki i Polna  - tworzywa sztuczne i metale
END:VEVENT
BEGIN:VEVENT
DTSTART:20260819T060000Z
DTEND:20260819T190000Z
DTSTAMP:20260424T101814Z
UID:69eb43662fa97
CATEGORIES:Odpady segregowane -tworzywa sztuczne i metale
LOCATION:SEKTOR I: Piaseczno - od ul. Akacjowej do ul. Zachodniej Piaseczno, Mazowieckie, PL
ORGANIZER;CN=WGO Gminy Piaseczno:MAILTO:go@piaseczno.eu
DESCRIPTION: Odbiór odpadów 
URL;VALUE=URI:https://odpady.piaseczno.eu/harmonogram-odbioru-odpadow/odbior/piaseczno-iii-wolka-kozodawska-ii-papier-plastik-metal-tekstylia/
SUMMARY:Piaseczno ulice: Akacjowa do Zachodniej\, Wólka Kozodawska ulice: Jeziorki i Polna  - tworzywa sztuczne i metale
END:VEVENT
BEGIN:VEVENT
DTSTART:20260902T060000Z
DTEND:20260902T190000Z
DTSTAMP:20260424T101814Z
UID:69eb43662fab4
CATEGORIES:Odpady segregowane -tworzywa sztuczne i metale
LOCATION:SEKTOR I: Piaseczno - od ul. Akacjowej do ul. Zachodniej Piaseczno, Mazowieckie, PL
ORGANIZER;CN=WGO Gminy Piaseczno:MAILTO:go@piaseczno.eu
DESCRIPTION: Odbiór odpadów 
URL;VALUE=URI:https://odpady.piaseczno.eu/harmonogram-odbioru-odpadow/odbior/piaseczno-iii-wolka-kozodawska-ii-papier-plastik-metal-tekstylia/
SUMMARY:Piaseczno ulice: Akacjowa do Zachodniej\, Wólka Kozodawska ulice: Jeziorki i Polna  - tworzywa sztuczne i metale
END:VEVENT
BEGIN:VEVENT
DTSTART:20260916T060000Z
DTEND:20260916T190000Z
DTSTAMP:20260424T101814Z
UID:69eb43662face
CATEGORIES:Odpady segregowane -tworzywa sztuczne i metale
LOCATION:SEKTOR I: Piaseczno - od ul. Akacjowej do ul. Zachodniej Piaseczno, Mazowieckie, PL
ORGANIZER;CN=WGO Gminy Piaseczno:MAILTO:go@piaseczno.eu
DESCRIPTION: Odbiór odpadów 
URL;VALUE=URI:https://odpady.piaseczno.eu/harmonogram-odbioru-odpadow/odbior/piaseczno-iii-wolka-kozodawska-ii-papier-plastik-metal-tekstylia/
SUMMARY:Piaseczno ulice: Akacjowa do Zachodniej\, Wólka Kozodawska ulice: Jeziorki i Polna  - tworzywa sztuczne i metale
END:VEVENT
BEGIN:VEVENT
DTSTART:20260930T060000Z
DTEND:20260930T190000Z
DTSTAMP:20260424T101814Z
UID:69eb43662fae7
CATEGORIES:Odpady segregowane -tworzywa sztuczne i metale
LOCATION:SEKTOR I: Piaseczno - od ul. Akacjowej do ul. Zachodniej Piaseczno, Mazowieckie, PL
ORGANIZER;CN=WGO Gminy Piaseczno:MAILTO:go@piaseczno.eu
DESCRIPTION: Odbiór odpadów 
URL;VALUE=URI:https://odpady.piaseczno.eu/harmonogram-odbioru-odpadow/odbior/piaseczno-iii-wolka-kozodawska-ii-papier-plastik-metal-tekstylia/
SUMMARY:Piaseczno ulice: Akacjowa do Zachodniej\, Wólka Kozodawska ulice: Jeziorki i Polna  - tworzywa sztuczne i metale
END:VEVENT
BEGIN:VEVENT
DTSTART:20261014T060000Z
DTEND:20261014T190000Z
DTSTAMP:20260424T101814Z
UID:69eb43662fb01
CATEGORIES:Odpady segregowane -tworzywa sztuczne i metale
LOCATION:SEKTOR I: Piaseczno - od ul. Akacjowej do ul. Zachodniej Piaseczno, Mazowieckie, PL
ORGANIZER;CN=WGO Gminy Piaseczno:MAILTO:go@piaseczno.eu
DESCRIPTION: Odbiór odpadów 
URL;VALUE=URI:https://odpady.piaseczno.eu/harmonogram-odbioru-odpadow/odbior/piaseczno-iii-wolka-kozodawska-ii-papier-plastik-metal-tekstylia/
SUMMARY:Piaseczno ulice: Akacjowa do Zachodniej\, Wólka Kozodawska ulice: Jeziorki i Polna  - tworzywa sztuczne i metale
END:VEVENT
BEGIN:VEVENT
DTSTART:20261028T060000Z
DTEND:20261028T190000Z
DTSTAMP:20260424T101814Z
UID:69eb43662fb1a
CATEGORIES:Odpady segregowane -tworzywa sztuczne i metale
LOCATION:SEKTOR I: Piaseczno - od ul. Akacjowej do ul. Zachodniej Piaseczno, Mazowieckie, PL
ORGANIZER;CN=WGO Gminy Piaseczno:MAILTO:go@piaseczno.eu
DESCRIPTION: Odbiór odpadów 
URL;VALUE=URI:https://odpady.piaseczno.eu/harmonogram-odbioru-odpadow/odbior/piaseczno-iii-wolka-kozodawska-ii-papier-plastik-metal-tekstylia/
SUMMARY:Piaseczno ulice: Akacjowa do Zachodniej\, Wólka Kozodawska ulice: Jeziorki i Polna  - tworzywa sztuczne i metale
END:VEVENT
BEGIN:VEVENT
DTSTART:20261114T060000Z
DTEND:20261114T190000Z
DTSTAMP:20260424T101814Z
UID:69eb43662fb33
CATEGORIES:Odpady segregowane -tworzywa sztuczne i metale
LOCATION:SEKTOR I: Piaseczno - od ul. Akacjowej do ul. Zachodniej Piaseczno, Mazowieckie, PL
ORGANIZER;CN=WGO Gminy Piaseczno:MAILTO:go@piaseczno.eu
DESCRIPTION: Odbiór odpadów 
URL;VALUE=URI:https://odpady.piaseczno.eu/harmonogram-odbioru-odpadow/odbior/piaseczno-iii-wolka-kozodawska-ii-papier-plastik-metal-tekstylia/
SUMMARY:Piaseczno ulice: Akacjowa do Zachodniej\, Wólka Kozodawska ulice: Jeziorki i Polna  - tworzywa sztuczne i metale
END:VEVENT
BEGIN:VEVENT
DTSTART:20261125T060000Z
DTEND:20261125T190000Z
DTSTAMP:20260424T101814Z
UID:69eb43662fb52
CATEGORIES:Odpady segregowane -tworzywa sztuczne i metale
LOCATION:SEKTOR I: Piaseczno - od ul. Akacjowej do ul. Zachodniej Piaseczno, Mazowieckie, PL
ORGANIZER;CN=WGO Gminy Piaseczno:MAILTO:go@piaseczno.eu
DESCRIPTION: Odbiór odpadów 
URL;VALUE=URI:https://odpady.piaseczno.eu/harmonogram-odbioru-odpadow/odbior/piaseczno-iii-wolka-kozodawska-ii-papier-plastik-metal-tekstylia/
SUMMARY:Piaseczno ulice: Akacjowa do Zachodniej\, Wólka Kozodawska ulice: Jeziorki i Polna  - tworzywa sztuczne i metale
END:VEVENT
END:VCALENDAR
