BEGIN:VCALENDAR
VERSION:2.0
PRODID:-//DIGITAL FACTORY//EVENTS MAKER V1.6.12//EN
CALSCALE:GREGORIAN
METHOD:PUBLISH
BEGIN:VEVENT
DTSTART:20251118T060000Z
DTEND:20251118T190000Z
DTSTAMP:20260424T114306Z
UID:69eb574a3b49d
CATEGORIES:Odpady zmieszane
LOCATION:SEKTOR I: Piaseczno - od ul. Akacjowej do ul. Zachodniej Piaseczno, Mazowieckie, PL
ORGANIZER;CN=WGO Gminy Piaseczno:MAILTO:go@piaseczno.eu
DESCRIPTION: Odbiór odpadów 
URL;VALUE=URI:https://odpady.piaseczno.eu/harmonogram-odbioru-odpadow/odbior/piaseczno-iii-wolka-kozodawska-ii-odpady-zmieszane/
SUMMARY:Sektor I - Piaseczno ulice: Akacjowa do Zachodniej\, Wólka Kozodawska ulice: Dworska\, Jeziorki\, Polna - Odpady zmieszane
END:VEVENT
BEGIN:VEVENT
DTSTART:20251202T060000Z
DTEND:20251202T190000Z
DTSTAMP:20260424T114306Z
UID:69eb574a3b567
CATEGORIES:Odpady zmieszane
LOCATION:SEKTOR I: Piaseczno - od ul. Akacjowej do ul. Zachodniej Piaseczno, Mazowieckie, PL
ORGANIZER;CN=WGO Gminy Piaseczno:MAILTO:go@piaseczno.eu
DESCRIPTION: Odbiór odpadów 
URL;VALUE=URI:https://odpady.piaseczno.eu/harmonogram-odbioru-odpadow/odbior/piaseczno-iii-wolka-kozodawska-ii-odpady-zmieszane/
SUMMARY:Sektor I - Piaseczno ulice: Akacjowa do Zachodniej\, Wólka Kozodawska ulice: Dworska\, Jeziorki\, Polna - Odpady zmieszane
END:VEVENT
BEGIN:VEVENT
DTSTART:20251216T060000Z
DTEND:20251216T190000Z
DTSTAMP:20260424T114306Z
UID:69eb574a3b5a2
CATEGORIES:Odpady zmieszane
LOCATION:SEKTOR I: Piaseczno - od ul. Akacjowej do ul. Zachodniej Piaseczno, Mazowieckie, PL
ORGANIZER;CN=WGO Gminy Piaseczno:MAILTO:go@piaseczno.eu
DESCRIPTION: Odbiór odpadów 
URL;VALUE=URI:https://odpady.piaseczno.eu/harmonogram-odbioru-odpadow/odbior/piaseczno-iii-wolka-kozodawska-ii-odpady-zmieszane/
SUMMARY:Sektor I - Piaseczno ulice: Akacjowa do Zachodniej\, Wólka Kozodawska ulice: Dworska\, Jeziorki\, Polna - Odpady zmieszane
END:VEVENT
BEGIN:VEVENT
DTSTART:20251230T060000Z
DTEND:20251230T190000Z
DTSTAMP:20260424T114306Z
UID:69eb574a3b5c3
CATEGORIES:Odpady zmieszane
LOCATION:SEKTOR I: Piaseczno - od ul. Akacjowej do ul. Zachodniej Piaseczno, Mazowieckie, PL
ORGANIZER;CN=WGO Gminy Piaseczno:MAILTO:go@piaseczno.eu
DESCRIPTION: Odbiór odpadów 
URL;VALUE=URI:https://odpady.piaseczno.eu/harmonogram-odbioru-odpadow/odbior/piaseczno-iii-wolka-kozodawska-ii-odpady-zmieszane/
SUMMARY:Sektor I - Piaseczno ulice: Akacjowa do Zachodniej\, Wólka Kozodawska ulice: Dworska\, Jeziorki\, Polna - Odpady zmieszane
END:VEVENT
BEGIN:VEVENT
DTSTART:20260113T060000Z
DTEND:20260113T190000Z
DTSTAMP:20260424T114306Z
UID:69eb574a3b5e0
CATEGORIES:Odpady zmieszane
LOCATION:SEKTOR I: Piaseczno - od ul. Akacjowej do ul. Zachodniej Piaseczno, Mazowieckie, PL
ORGANIZER;CN=WGO Gminy Piaseczno:MAILTO:go@piaseczno.eu
DESCRIPTION: Odbiór odpadów 
URL;VALUE=URI:https://odpady.piaseczno.eu/harmonogram-odbioru-odpadow/odbior/piaseczno-iii-wolka-kozodawska-ii-odpady-zmieszane/
SUMMARY:Sektor I - Piaseczno ulice: Akacjowa do Zachodniej\, Wólka Kozodawska ulice: Dworska\, Jeziorki\, Polna - Odpady zmieszane
END:VEVENT
BEGIN:VEVENT
DTSTART:20260127T060000Z
DTEND:20260127T190000Z
DTSTAMP:20260424T114306Z
UID:69eb574a3b5fd
CATEGORIES:Odpady zmieszane
LOCATION:SEKTOR I: Piaseczno - od ul. Akacjowej do ul. Zachodniej Piaseczno, Mazowieckie, PL
ORGANIZER;CN=WGO Gminy Piaseczno:MAILTO:go@piaseczno.eu
DESCRIPTION: Odbiór odpadów 
URL;VALUE=URI:https://odpady.piaseczno.eu/harmonogram-odbioru-odpadow/odbior/piaseczno-iii-wolka-kozodawska-ii-odpady-zmieszane/
SUMMARY:Sektor I - Piaseczno ulice: Akacjowa do Zachodniej\, Wólka Kozodawska ulice: Dworska\, Jeziorki\, Polna - Odpady zmieszane
END:VEVENT
BEGIN:VEVENT
DTSTART:20260210T060000Z
DTEND:20260210T190000Z
DTSTAMP:20260424T114306Z
UID:69eb574a3b618
CATEGORIES:Odpady zmieszane
LOCATION:SEKTOR I: Piaseczno - od ul. Akacjowej do ul. Zachodniej Piaseczno, Mazowieckie, PL
ORGANIZER;CN=WGO Gminy Piaseczno:MAILTO:go@piaseczno.eu
DESCRIPTION: Odbiór odpadów 
URL;VALUE=URI:https://odpady.piaseczno.eu/harmonogram-odbioru-odpadow/odbior/piaseczno-iii-wolka-kozodawska-ii-odpady-zmieszane/
SUMMARY:Sektor I - Piaseczno ulice: Akacjowa do Zachodniej\, Wólka Kozodawska ulice: Dworska\, Jeziorki\, Polna - Odpady zmieszane
END:VEVENT
BEGIN:VEVENT
DTSTART:20260224T060000Z
DTEND:20260224T190000Z
DTSTAMP:20260424T114306Z
UID:69eb574a3b637
CATEGORIES:Odpady zmieszane
LOCATION:SEKTOR I: Piaseczno - od ul. Akacjowej do ul. Zachodniej Piaseczno, Mazowieckie, PL
ORGANIZER;CN=WGO Gminy Piaseczno:MAILTO:go@piaseczno.eu
DESCRIPTION: Odbiór odpadów 
URL;VALUE=URI:https://odpady.piaseczno.eu/harmonogram-odbioru-odpadow/odbior/piaseczno-iii-wolka-kozodawska-ii-odpady-zmieszane/
SUMMARY:Sektor I - Piaseczno ulice: Akacjowa do Zachodniej\, Wólka Kozodawska ulice: Dworska\, Jeziorki\, Polna - Odpady zmieszane
END:VEVENT
BEGIN:VEVENT
DTSTART:20260310T060000Z
DTEND:20260310T190000Z
DTSTAMP:20260424T114306Z
UID:69eb574a3b652
CATEGORIES:Odpady zmieszane
LOCATION:SEKTOR I: Piaseczno - od ul. Akacjowej do ul. Zachodniej Piaseczno, Mazowieckie, PL
ORGANIZER;CN=WGO Gminy Piaseczno:MAILTO:go@piaseczno.eu
DESCRIPTION: Odbiór odpadów 
URL;VALUE=URI:https://odpady.piaseczno.eu/harmonogram-odbioru-odpadow/odbior/piaseczno-iii-wolka-kozodawska-ii-odpady-zmieszane/
SUMMARY:Sektor I - Piaseczno ulice: Akacjowa do Zachodniej\, Wólka Kozodawska ulice: Dworska\, Jeziorki\, Polna - Odpady zmieszane
END:VEVENT
BEGIN:VEVENT
DTSTART:20260324T060000Z
DTEND:20260324T190000Z
DTSTAMP:20260424T114306Z
UID:69eb574a3b678
CATEGORIES:Odpady zmieszane
LOCATION:SEKTOR I: Piaseczno - od ul. Akacjowej do ul. Zachodniej Piaseczno, Mazowieckie, PL
ORGANIZER;CN=WGO Gminy Piaseczno:MAILTO:go@piaseczno.eu
DESCRIPTION: Odbiór odpadów 
URL;VALUE=URI:https://odpady.piaseczno.eu/harmonogram-odbioru-odpadow/odbior/piaseczno-iii-wolka-kozodawska-ii-odpady-zmieszane/
SUMMARY:Sektor I - Piaseczno ulice: Akacjowa do Zachodniej\, Wólka Kozodawska ulice: Dworska\, Jeziorki\, Polna - Odpady zmieszane
END:VEVENT
BEGIN:VEVENT
DTSTART:20260407T060000Z
DTEND:20260407T190000Z
DTSTAMP:20260424T114306Z
UID:69eb574a3b6b2
CATEGORIES:Odpady zmieszane
LOCATION:SEKTOR I: Piaseczno - od ul. Akacjowej do ul. Zachodniej Piaseczno, Mazowieckie, PL
ORGANIZER;CN=WGO Gminy Piaseczno:MAILTO:go@piaseczno.eu
DESCRIPTION: Odbiór odpadów 
URL;VALUE=URI:https://odpady.piaseczno.eu/harmonogram-odbioru-odpadow/odbior/piaseczno-iii-wolka-kozodawska-ii-odpady-zmieszane/
SUMMARY:Sektor I - Piaseczno ulice: Akacjowa do Zachodniej\, Wólka Kozodawska ulice: Dworska\, Jeziorki\, Polna - Odpady zmieszane
END:VEVENT
BEGIN:VEVENT
DTSTART:20260421T060000Z
DTEND:20260421T190000Z
DTSTAMP:20260424T114306Z
UID:69eb574a3b6ea
CATEGORIES:Odpady zmieszane
LOCATION:SEKTOR I: Piaseczno - od ul. Akacjowej do ul. Zachodniej Piaseczno, Mazowieckie, PL
ORGANIZER;CN=WGO Gminy Piaseczno:MAILTO:go@piaseczno.eu
DESCRIPTION: Odbiór odpadów 
URL;VALUE=URI:https://odpady.piaseczno.eu/harmonogram-odbioru-odpadow/odbior/piaseczno-iii-wolka-kozodawska-ii-odpady-zmieszane/
SUMMARY:Sektor I - Piaseczno ulice: Akacjowa do Zachodniej\, Wólka Kozodawska ulice: Dworska\, Jeziorki\, Polna - Odpady zmieszane
END:VEVENT
BEGIN:VEVENT
DTSTART:20260505T060000Z
DTEND:20260505T190000Z
DTSTAMP:20260424T114306Z
UID:69eb574a3b721
CATEGORIES:Odpady zmieszane
LOCATION:SEKTOR I: Piaseczno - od ul. Akacjowej do ul. Zachodniej Piaseczno, Mazowieckie, PL
ORGANIZER;CN=WGO Gminy Piaseczno:MAILTO:go@piaseczno.eu
DESCRIPTION: Odbiór odpadów 
URL;VALUE=URI:https://odpady.piaseczno.eu/harmonogram-odbioru-odpadow/odbior/piaseczno-iii-wolka-kozodawska-ii-odpady-zmieszane/
SUMMARY:Sektor I - Piaseczno ulice: Akacjowa do Zachodniej\, Wólka Kozodawska ulice: Dworska\, Jeziorki\, Polna - Odpady zmieszane
END:VEVENT
BEGIN:VEVENT
DTSTART:20260519T060000Z
DTEND:20260519T190000Z
DTSTAMP:20260424T114306Z
UID:69eb574a3b758
CATEGORIES:Odpady zmieszane
LOCATION:SEKTOR I: Piaseczno - od ul. Akacjowej do ul. Zachodniej Piaseczno, Mazowieckie, PL
ORGANIZER;CN=WGO Gminy Piaseczno:MAILTO:go@piaseczno.eu
DESCRIPTION: Odbiór odpadów 
URL;VALUE=URI:https://odpady.piaseczno.eu/harmonogram-odbioru-odpadow/odbior/piaseczno-iii-wolka-kozodawska-ii-odpady-zmieszane/
SUMMARY:Sektor I - Piaseczno ulice: Akacjowa do Zachodniej\, Wólka Kozodawska ulice: Dworska\, Jeziorki\, Polna - Odpady zmieszane
END:VEVENT
BEGIN:VEVENT
DTSTART:20260602T060000Z
DTEND:20260602T190000Z
DTSTAMP:20260424T114306Z
UID:69eb574a3b794
CATEGORIES:Odpady zmieszane
LOCATION:SEKTOR I: Piaseczno - od ul. Akacjowej do ul. Zachodniej Piaseczno, Mazowieckie, PL
ORGANIZER;CN=WGO Gminy Piaseczno:MAILTO:go@piaseczno.eu
DESCRIPTION: Odbiór odpadów 
URL;VALUE=URI:https://odpady.piaseczno.eu/harmonogram-odbioru-odpadow/odbior/piaseczno-iii-wolka-kozodawska-ii-odpady-zmieszane/
SUMMARY:Sektor I - Piaseczno ulice: Akacjowa do Zachodniej\, Wólka Kozodawska ulice: Dworska\, Jeziorki\, Polna - Odpady zmieszane
END:VEVENT
BEGIN:VEVENT
DTSTART:20260609T060000Z
DTEND:20260609T190000Z
DTSTAMP:20260424T114306Z
UID:69eb574a3b7cc
CATEGORIES:Odpady zmieszane
LOCATION:SEKTOR I: Piaseczno - od ul. Akacjowej do ul. Zachodniej Piaseczno, Mazowieckie, PL
ORGANIZER;CN=WGO Gminy Piaseczno:MAILTO:go@piaseczno.eu
DESCRIPTION: Odbiór odpadów 
URL;VALUE=URI:https://odpady.piaseczno.eu/harmonogram-odbioru-odpadow/odbior/piaseczno-iii-wolka-kozodawska-ii-odpady-zmieszane/
SUMMARY:Sektor I - Piaseczno ulice: Akacjowa do Zachodniej\, Wólka Kozodawska ulice: Dworska\, Jeziorki\, Polna - Odpady zmieszane
END:VEVENT
BEGIN:VEVENT
DTSTART:20260616T060000Z
DTEND:20260616T190000Z
DTSTAMP:20260424T114306Z
UID:69eb574a3b803
CATEGORIES:Odpady zmieszane
LOCATION:SEKTOR I: Piaseczno - od ul. Akacjowej do ul. Zachodniej Piaseczno, Mazowieckie, PL
ORGANIZER;CN=WGO Gminy Piaseczno:MAILTO:go@piaseczno.eu
DESCRIPTION: Odbiór odpadów 
URL;VALUE=URI:https://odpady.piaseczno.eu/harmonogram-odbioru-odpadow/odbior/piaseczno-iii-wolka-kozodawska-ii-odpady-zmieszane/
SUMMARY:Sektor I - Piaseczno ulice: Akacjowa do Zachodniej\, Wólka Kozodawska ulice: Dworska\, Jeziorki\, Polna - Odpady zmieszane
END:VEVENT
BEGIN:VEVENT
DTSTART:20260623T060000Z
DTEND:20260623T190000Z
DTSTAMP:20260424T114306Z
UID:69eb574a3b83a
CATEGORIES:Odpady zmieszane
LOCATION:SEKTOR I: Piaseczno - od ul. Akacjowej do ul. Zachodniej Piaseczno, Mazowieckie, PL
ORGANIZER;CN=WGO Gminy Piaseczno:MAILTO:go@piaseczno.eu
DESCRIPTION: Odbiór odpadów 
URL;VALUE=URI:https://odpady.piaseczno.eu/harmonogram-odbioru-odpadow/odbior/piaseczno-iii-wolka-kozodawska-ii-odpady-zmieszane/
SUMMARY:Sektor I - Piaseczno ulice: Akacjowa do Zachodniej\, Wólka Kozodawska ulice: Dworska\, Jeziorki\, Polna - Odpady zmieszane
END:VEVENT
BEGIN:VEVENT
DTSTART:20260630T060000Z
DTEND:20260630T190000Z
DTSTAMP:20260424T114306Z
UID:69eb574a3b872
CATEGORIES:Odpady zmieszane
LOCATION:SEKTOR I: Piaseczno - od ul. Akacjowej do ul. Zachodniej Piaseczno, Mazowieckie, PL
ORGANIZER;CN=WGO Gminy Piaseczno:MAILTO:go@piaseczno.eu
DESCRIPTION: Odbiór odpadów 
URL;VALUE=URI:https://odpady.piaseczno.eu/harmonogram-odbioru-odpadow/odbior/piaseczno-iii-wolka-kozodawska-ii-odpady-zmieszane/
SUMMARY:Sektor I - Piaseczno ulice: Akacjowa do Zachodniej\, Wólka Kozodawska ulice: Dworska\, Jeziorki\, Polna - Odpady zmieszane
END:VEVENT
BEGIN:VEVENT
DTSTART:20260707T060000Z
DTEND:20260707T190000Z
DTSTAMP:20260424T114306Z
UID:69eb574a3b8aa
CATEGORIES:Odpady zmieszane
LOCATION:SEKTOR I: Piaseczno - od ul. Akacjowej do ul. Zachodniej Piaseczno, Mazowieckie, PL
ORGANIZER;CN=WGO Gminy Piaseczno:MAILTO:go@piaseczno.eu
DESCRIPTION: Odbiór odpadów 
URL;VALUE=URI:https://odpady.piaseczno.eu/harmonogram-odbioru-odpadow/odbior/piaseczno-iii-wolka-kozodawska-ii-odpady-zmieszane/
SUMMARY:Sektor I - Piaseczno ulice: Akacjowa do Zachodniej\, Wólka Kozodawska ulice: Dworska\, Jeziorki\, Polna - Odpady zmieszane
END:VEVENT
BEGIN:VEVENT
DTSTART:20260714T060000Z
DTEND:20260714T190000Z
DTSTAMP:20260424T114306Z
UID:69eb574a3b8e1
CATEGORIES:Odpady zmieszane
LOCATION:SEKTOR I: Piaseczno - od ul. Akacjowej do ul. Zachodniej Piaseczno, Mazowieckie, PL
ORGANIZER;CN=WGO Gminy Piaseczno:MAILTO:go@piaseczno.eu
DESCRIPTION: Odbiór odpadów 
URL;VALUE=URI:https://odpady.piaseczno.eu/harmonogram-odbioru-odpadow/odbior/piaseczno-iii-wolka-kozodawska-ii-odpady-zmieszane/
SUMMARY:Sektor I - Piaseczno ulice: Akacjowa do Zachodniej\, Wólka Kozodawska ulice: Dworska\, Jeziorki\, Polna - Odpady zmieszane
END:VEVENT
BEGIN:VEVENT
DTSTART:20260721T060000Z
DTEND:20260721T190000Z
DTSTAMP:20260424T114306Z
UID:69eb574a3b926
CATEGORIES:Odpady zmieszane
LOCATION:SEKTOR I: Piaseczno - od ul. Akacjowej do ul. Zachodniej Piaseczno, Mazowieckie, PL
ORGANIZER;CN=WGO Gminy Piaseczno:MAILTO:go@piaseczno.eu
DESCRIPTION: Odbiór odpadów 
URL;VALUE=URI:https://odpady.piaseczno.eu/harmonogram-odbioru-odpadow/odbior/piaseczno-iii-wolka-kozodawska-ii-odpady-zmieszane/
SUMMARY:Sektor I - Piaseczno ulice: Akacjowa do Zachodniej\, Wólka Kozodawska ulice: Dworska\, Jeziorki\, Polna - Odpady zmieszane
END:VEVENT
BEGIN:VEVENT
DTSTART:20260728T060000Z
DTEND:20260728T190000Z
DTSTAMP:20260424T114306Z
UID:69eb574a3b942
CATEGORIES:Odpady zmieszane
LOCATION:SEKTOR I: Piaseczno - od ul. Akacjowej do ul. Zachodniej Piaseczno, Mazowieckie, PL
ORGANIZER;CN=WGO Gminy Piaseczno:MAILTO:go@piaseczno.eu
DESCRIPTION: Odbiór odpadów 
URL;VALUE=URI:https://odpady.piaseczno.eu/harmonogram-odbioru-odpadow/odbior/piaseczno-iii-wolka-kozodawska-ii-odpady-zmieszane/
SUMMARY:Sektor I - Piaseczno ulice: Akacjowa do Zachodniej\, Wólka Kozodawska ulice: Dworska\, Jeziorki\, Polna - Odpady zmieszane
END:VEVENT
BEGIN:VEVENT
DTSTART:20260804T060000Z
DTEND:20260804T190000Z
DTSTAMP:20260424T114306Z
UID:69eb574a3b95d
CATEGORIES:Odpady zmieszane
LOCATION:SEKTOR I: Piaseczno - od ul. Akacjowej do ul. Zachodniej Piaseczno, Mazowieckie, PL
ORGANIZER;CN=WGO Gminy Piaseczno:MAILTO:go@piaseczno.eu
DESCRIPTION: Odbiór odpadów 
URL;VALUE=URI:https://odpady.piaseczno.eu/harmonogram-odbioru-odpadow/odbior/piaseczno-iii-wolka-kozodawska-ii-odpady-zmieszane/
SUMMARY:Sektor I - Piaseczno ulice: Akacjowa do Zachodniej\, Wólka Kozodawska ulice: Dworska\, Jeziorki\, Polna - Odpady zmieszane
END:VEVENT
BEGIN:VEVENT
DTSTART:20260811T060000Z
DTEND:20260811T190000Z
DTSTAMP:20260424T114306Z
UID:69eb574a3b977
CATEGORIES:Odpady zmieszane
LOCATION:SEKTOR I: Piaseczno - od ul. Akacjowej do ul. Zachodniej Piaseczno, Mazowieckie, PL
ORGANIZER;CN=WGO Gminy Piaseczno:MAILTO:go@piaseczno.eu
DESCRIPTION: Odbiór odpadów 
URL;VALUE=URI:https://odpady.piaseczno.eu/harmonogram-odbioru-odpadow/odbior/piaseczno-iii-wolka-kozodawska-ii-odpady-zmieszane/
SUMMARY:Sektor I - Piaseczno ulice: Akacjowa do Zachodniej\, Wólka Kozodawska ulice: Dworska\, Jeziorki\, Polna - Odpady zmieszane
END:VEVENT
BEGIN:VEVENT
DTSTART:20260818T060000Z
DTEND:20260818T190000Z
DTSTAMP:20260424T114306Z
UID:69eb574a3b992
CATEGORIES:Odpady zmieszane
LOCATION:SEKTOR I: Piaseczno - od ul. Akacjowej do ul. Zachodniej Piaseczno, Mazowieckie, PL
ORGANIZER;CN=WGO Gminy Piaseczno:MAILTO:go@piaseczno.eu
DESCRIPTION: Odbiór odpadów 
URL;VALUE=URI:https://odpady.piaseczno.eu/harmonogram-odbioru-odpadow/odbior/piaseczno-iii-wolka-kozodawska-ii-odpady-zmieszane/
SUMMARY:Sektor I - Piaseczno ulice: Akacjowa do Zachodniej\, Wólka Kozodawska ulice: Dworska\, Jeziorki\, Polna - Odpady zmieszane
END:VEVENT
BEGIN:VEVENT
DTSTART:20260825T060000Z
DTEND:20260825T190000Z
DTSTAMP:20260424T114306Z
UID:69eb574a3b9ac
CATEGORIES:Odpady zmieszane
LOCATION:SEKTOR I: Piaseczno - od ul. Akacjowej do ul. Zachodniej Piaseczno, Mazowieckie, PL
ORGANIZER;CN=WGO Gminy Piaseczno:MAILTO:go@piaseczno.eu
DESCRIPTION: Odbiór odpadów 
URL;VALUE=URI:https://odpady.piaseczno.eu/harmonogram-odbioru-odpadow/odbior/piaseczno-iii-wolka-kozodawska-ii-odpady-zmieszane/
SUMMARY:Sektor I - Piaseczno ulice: Akacjowa do Zachodniej\, Wólka Kozodawska ulice: Dworska\, Jeziorki\, Polna - Odpady zmieszane
END:VEVENT
BEGIN:VEVENT
DTSTART:20260908T060000Z
DTEND:20260908T190000Z
DTSTAMP:20260424T114306Z
UID:69eb574a3b9c6
CATEGORIES:Odpady zmieszane
LOCATION:SEKTOR I: Piaseczno - od ul. Akacjowej do ul. Zachodniej Piaseczno, Mazowieckie, PL
ORGANIZER;CN=WGO Gminy Piaseczno:MAILTO:go@piaseczno.eu
DESCRIPTION: Odbiór odpadów 
URL;VALUE=URI:https://odpady.piaseczno.eu/harmonogram-odbioru-odpadow/odbior/piaseczno-iii-wolka-kozodawska-ii-odpady-zmieszane/
SUMMARY:Sektor I - Piaseczno ulice: Akacjowa do Zachodniej\, Wólka Kozodawska ulice: Dworska\, Jeziorki\, Polna - Odpady zmieszane
END:VEVENT
BEGIN:VEVENT
DTSTART:20260922T060000Z
DTEND:20260922T190000Z
DTSTAMP:20260424T114306Z
UID:69eb574a3b9e4
CATEGORIES:Odpady zmieszane
LOCATION:SEKTOR I: Piaseczno - od ul. Akacjowej do ul. Zachodniej Piaseczno, Mazowieckie, PL
ORGANIZER;CN=WGO Gminy Piaseczno:MAILTO:go@piaseczno.eu
DESCRIPTION: Odbiór odpadów 
URL;VALUE=URI:https://odpady.piaseczno.eu/harmonogram-odbioru-odpadow/odbior/piaseczno-iii-wolka-kozodawska-ii-odpady-zmieszane/
SUMMARY:Sektor I - Piaseczno ulice: Akacjowa do Zachodniej\, Wólka Kozodawska ulice: Dworska\, Jeziorki\, Polna - Odpady zmieszane
END:VEVENT
BEGIN:VEVENT
DTSTART:20261006T060000Z
DTEND:20261006T190000Z
DTSTAMP:20260424T114306Z
UID:69eb574a3b9ff
CATEGORIES:Odpady zmieszane
LOCATION:SEKTOR I: Piaseczno - od ul. Akacjowej do ul. Zachodniej Piaseczno, Mazowieckie, PL
ORGANIZER;CN=WGO Gminy Piaseczno:MAILTO:go@piaseczno.eu
DESCRIPTION: Odbiór odpadów 
URL;VALUE=URI:https://odpady.piaseczno.eu/harmonogram-odbioru-odpadow/odbior/piaseczno-iii-wolka-kozodawska-ii-odpady-zmieszane/
SUMMARY:Sektor I - Piaseczno ulice: Akacjowa do Zachodniej\, Wólka Kozodawska ulice: Dworska\, Jeziorki\, Polna - Odpady zmieszane
END:VEVENT
BEGIN:VEVENT
DTSTART:20261020T060000Z
DTEND:20261020T190000Z
DTSTAMP:20260424T114306Z
UID:69eb574a3ba19
CATEGORIES:Odpady zmieszane
LOCATION:SEKTOR I: Piaseczno - od ul. Akacjowej do ul. Zachodniej Piaseczno, Mazowieckie, PL
ORGANIZER;CN=WGO Gminy Piaseczno:MAILTO:go@piaseczno.eu
DESCRIPTION: Odbiór odpadów 
URL;VALUE=URI:https://odpady.piaseczno.eu/harmonogram-odbioru-odpadow/odbior/piaseczno-iii-wolka-kozodawska-ii-odpady-zmieszane/
SUMMARY:Sektor I - Piaseczno ulice: Akacjowa do Zachodniej\, Wólka Kozodawska ulice: Dworska\, Jeziorki\, Polna - Odpady zmieszane
END:VEVENT
BEGIN:VEVENT
DTSTART:20261103T060000Z
DTEND:20261103T190000Z
DTSTAMP:20260424T114306Z
UID:69eb574a3ba32
CATEGORIES:Odpady zmieszane
LOCATION:SEKTOR I: Piaseczno - od ul. Akacjowej do ul. Zachodniej Piaseczno, Mazowieckie, PL
ORGANIZER;CN=WGO Gminy Piaseczno:MAILTO:go@piaseczno.eu
DESCRIPTION: Odbiór odpadów 
URL;VALUE=URI:https://odpady.piaseczno.eu/harmonogram-odbioru-odpadow/odbior/piaseczno-iii-wolka-kozodawska-ii-odpady-zmieszane/
SUMMARY:Sektor I - Piaseczno ulice: Akacjowa do Zachodniej\, Wólka Kozodawska ulice: Dworska\, Jeziorki\, Polna - Odpady zmieszane
END:VEVENT
BEGIN:VEVENT
DTSTART:20261117T060000Z
DTEND:20261117T190000Z
DTSTAMP:20260424T114306Z
UID:69eb574a3ba4c
CATEGORIES:Odpady zmieszane
LOCATION:SEKTOR I: Piaseczno - od ul. Akacjowej do ul. Zachodniej Piaseczno, Mazowieckie, PL
ORGANIZER;CN=WGO Gminy Piaseczno:MAILTO:go@piaseczno.eu
DESCRIPTION: Odbiór odpadów 
URL;VALUE=URI:https://odpady.piaseczno.eu/harmonogram-odbioru-odpadow/odbior/piaseczno-iii-wolka-kozodawska-ii-odpady-zmieszane/
SUMMARY:Sektor I - Piaseczno ulice: Akacjowa do Zachodniej\, Wólka Kozodawska ulice: Dworska\, Jeziorki\, Polna - Odpady zmieszane
END:VEVENT
END:VCALENDAR
