BEGIN:VCALENDAR
VERSION:2.0
PRODID:-//DIGITAL FACTORY//EVENTS MAKER V1.6.12//EN
CALSCALE:GREGORIAN
METHOD:PUBLISH
BEGIN:VEVENT
DTSTART:20251124T060000Z
DTEND:20251124T190000Z
DTSTAMP:20260424T194403Z
UID:69ebc803c9dd9
CATEGORIES:Odpady wielkogabarytowe
LOCATION:SEKTOR I: Piaseczno - od ul. Akacjowej do ul. Zachodniej Piaseczno, Mazowieckie, PL
ORGANIZER;CN=WGO Gminy Piaseczno:MAILTO:go@piaseczno.eu
DESCRIPTION: Odbiór odpadów 
URL;VALUE=URI:https://odpady.piaseczno.eu/harmonogram-odbioru-odpadow/odbior/piaseczno-iii-wolka-kozodawska-ii-odpady-wielkogabarytowe/
SUMMARY:Sektor I - Piaseczno ulice: Akacjowa do Zachodniej\, Wólka Kozodawska ulice: Dworska\, Jeziorki\, Polna - Odpady wielkogabarytowe
END:VEVENT
BEGIN:VEVENT
DTSTART:20260216T060000Z
DTEND:20260216T190000Z
DTSTAMP:20260424T194403Z
UID:69ebc803c9e86
CATEGORIES:Odpady wielkogabarytowe
LOCATION:SEKTOR I: Piaseczno - od ul. Akacjowej do ul. Zachodniej Piaseczno, Mazowieckie, PL
ORGANIZER;CN=WGO Gminy Piaseczno:MAILTO:go@piaseczno.eu
DESCRIPTION: Odbiór odpadów 
URL;VALUE=URI:https://odpady.piaseczno.eu/harmonogram-odbioru-odpadow/odbior/piaseczno-iii-wolka-kozodawska-ii-odpady-wielkogabarytowe/
SUMMARY:Sektor I - Piaseczno ulice: Akacjowa do Zachodniej\, Wólka Kozodawska ulice: Dworska\, Jeziorki\, Polna - Odpady wielkogabarytowe
END:VEVENT
BEGIN:VEVENT
DTSTART:20260511T060000Z
DTEND:20260511T190000Z
DTSTAMP:20260424T194403Z
UID:69ebc803c9eb7
CATEGORIES:Odpady wielkogabarytowe
LOCATION:SEKTOR I: Piaseczno - od ul. Akacjowej do ul. Zachodniej Piaseczno, Mazowieckie, PL
ORGANIZER;CN=WGO Gminy Piaseczno:MAILTO:go@piaseczno.eu
DESCRIPTION: Odbiór odpadów 
URL;VALUE=URI:https://odpady.piaseczno.eu/harmonogram-odbioru-odpadow/odbior/piaseczno-iii-wolka-kozodawska-ii-odpady-wielkogabarytowe/
SUMMARY:Sektor I - Piaseczno ulice: Akacjowa do Zachodniej\, Wólka Kozodawska ulice: Dworska\, Jeziorki\, Polna - Odpady wielkogabarytowe
END:VEVENT
BEGIN:VEVENT
DTSTART:20260803T060000Z
DTEND:20260803T190000Z
DTSTAMP:20260424T194403Z
UID:69ebc803c9ee7
CATEGORIES:Odpady wielkogabarytowe
LOCATION:SEKTOR I: Piaseczno - od ul. Akacjowej do ul. Zachodniej Piaseczno, Mazowieckie, PL
ORGANIZER;CN=WGO Gminy Piaseczno:MAILTO:go@piaseczno.eu
DESCRIPTION: Odbiór odpadów 
URL;VALUE=URI:https://odpady.piaseczno.eu/harmonogram-odbioru-odpadow/odbior/piaseczno-iii-wolka-kozodawska-ii-odpady-wielkogabarytowe/
SUMMARY:Sektor I - Piaseczno ulice: Akacjowa do Zachodniej\, Wólka Kozodawska ulice: Dworska\, Jeziorki\, Polna - Odpady wielkogabarytowe
END:VEVENT
BEGIN:VEVENT
DTSTART:20261026T060000Z
DTEND:20261026T190000Z
DTSTAMP:20260424T194403Z
UID:69ebc803c9f06
CATEGORIES:Odpady wielkogabarytowe
LOCATION:SEKTOR I: Piaseczno - od ul. Akacjowej do ul. Zachodniej Piaseczno, Mazowieckie, PL
ORGANIZER;CN=WGO Gminy Piaseczno:MAILTO:go@piaseczno.eu
DESCRIPTION: Odbiór odpadów 
URL;VALUE=URI:https://odpady.piaseczno.eu/harmonogram-odbioru-odpadow/odbior/piaseczno-iii-wolka-kozodawska-ii-odpady-wielkogabarytowe/
SUMMARY:Sektor I - Piaseczno ulice: Akacjowa do Zachodniej\, Wólka Kozodawska ulice: Dworska\, Jeziorki\, Polna - Odpady wielkogabarytowe
END:VEVENT
END:VCALENDAR
