BEGIN:VCALENDAR
VERSION:2.0
PRODID:-//DIGITAL FACTORY//EVENTS MAKER V1.6.12//EN
CALSCALE:GREGORIAN
METHOD:PUBLISH
BEGIN:VEVENT
DTSTART:20260108T060000Z
DTEND:20260108T190000Z
DTSTAMP:20260424T211920Z
UID:69ebde584ba12
CATEGORIES:Odbiór choinek
LOCATION:SEKTOR I: Piaseczno - od ul. Akacjowej do ul. Zachodniej Piaseczno, Mazowieckie, PL
ORGANIZER;CN=WGO Gminy Piaseczno:MAILTO:go@piaseczno.eu
DESCRIPTION: Odbiór odpadów 
URL;VALUE=URI:https://odpady.piaseczno.eu/harmonogram-odbioru-odpadow/odbior/piaseczno-iii-wolka-kozodawska-ii-choinki/
SUMMARY:Sektor I - Piaseczno ulice: Akacjowa do Zachodniej\, Wólka Kozodawska ulice: Dworska\, Jeziorki\, Polna - Choinki
END:VEVENT
BEGIN:VEVENT
DTSTART:20260205T060000Z
DTEND:20260205T190000Z
DTSTAMP:20260424T211920Z
UID:69ebde584bab1
CATEGORIES:Odbiór choinek
LOCATION:SEKTOR I: Piaseczno - od ul. Akacjowej do ul. Zachodniej Piaseczno, Mazowieckie, PL
ORGANIZER;CN=WGO Gminy Piaseczno:MAILTO:go@piaseczno.eu
DESCRIPTION: Odbiór odpadów 
URL;VALUE=URI:https://odpady.piaseczno.eu/harmonogram-odbioru-odpadow/odbior/piaseczno-iii-wolka-kozodawska-ii-choinki/
SUMMARY:Sektor I - Piaseczno ulice: Akacjowa do Zachodniej\, Wólka Kozodawska ulice: Dworska\, Jeziorki\, Polna - Choinki
END:VEVENT
END:VCALENDAR
