BEGIN:VCALENDAR
VERSION:2.0
PRODID:-//DIGITAL FACTORY//EVENTS MAKER V1.6.12//EN
CALSCALE:GREGORIAN
METHOD:PUBLISH
BEGIN:VEVENT
DTSTART:20251229T060000Z
DTEND:20251229T190000Z
DTSTAMP:20260420T155803Z
UID:69e64d0b80d57
CATEGORIES:Odpady wielkogabarytowe
LOCATION:Jesówka (tylko ul. Czapli, Dzikich Gęsi, Konika Polnego, Leśnych Malin, Orlika, Ptasia, Zimorodka, Źródlana) jesówka, MAZOWIECKIE, PL
ORGANIZER;CN=WGO Gminy Piaseczno:MAILTO:go@piaseczno.eu
DESCRIPTION: Odbiór odpadów 
URL;VALUE=URI:https://odpady.piaseczno.eu/harmonogram-odbioru-odpadow/odbior/jesowka-tylko-ul-dzikich-gesi-konika-polnego-od-nr-42-do-46-lesnych-malin-ptasia-zrodlanawolka-kozodawska-z-wyjatkiem-ulic-bukietowej-dworskiej-gromadzkiej-jeziorki-polnej-zalesie-gorne-7/
SUMMARY:Jesówka (tylko ul. Czapli\, Dzikich Gęsi\, Konika Polnego\, Leśnych Malin\, Orlika\, Ptasia\, Zimorodka\, Źródlana)\,Wólka Kozodawska z wyjątkiem ulic: Bukietowej\, Dworskiej\, Gromadzkiej\, Jeziorki\, Polnej\, Zalesie Górne tylko ul. Droga Dzików (od nr 45 do 57)\, Żabieniec ul. Rybakówka\, Rzekotki
END:VEVENT
BEGIN:VEVENT
DTSTART:20260323T060000Z
DTEND:20260323T190000Z
DTSTAMP:20260420T155803Z
UID:69e64d0b80de7
CATEGORIES:Odpady wielkogabarytowe
LOCATION:Jesówka (tylko ul. Czapli, Dzikich Gęsi, Konika Polnego, Leśnych Malin, Orlika, Ptasia, Zimorodka, Źródlana) jesówka, MAZOWIECKIE, PL
ORGANIZER;CN=WGO Gminy Piaseczno:MAILTO:go@piaseczno.eu
DESCRIPTION: Odbiór odpadów 
URL;VALUE=URI:https://odpady.piaseczno.eu/harmonogram-odbioru-odpadow/odbior/jesowka-tylko-ul-dzikich-gesi-konika-polnego-od-nr-42-do-46-lesnych-malin-ptasia-zrodlanawolka-kozodawska-z-wyjatkiem-ulic-bukietowej-dworskiej-gromadzkiej-jeziorki-polnej-zalesie-gorne-7/
SUMMARY:Jesówka (tylko ul. Czapli\, Dzikich Gęsi\, Konika Polnego\, Leśnych Malin\, Orlika\, Ptasia\, Zimorodka\, Źródlana)\,Wólka Kozodawska z wyjątkiem ulic: Bukietowej\, Dworskiej\, Gromadzkiej\, Jeziorki\, Polnej\, Zalesie Górne tylko ul. Droga Dzików (od nr 45 do 57)\, Żabieniec ul. Rybakówka\, Rzekotki
END:VEVENT
BEGIN:VEVENT
DTSTART:20260615T060000Z
DTEND:20260615T190000Z
DTSTAMP:20260420T155803Z
UID:69e64d0b80e16
CATEGORIES:Odpady wielkogabarytowe
LOCATION:Jesówka (tylko ul. Czapli, Dzikich Gęsi, Konika Polnego, Leśnych Malin, Orlika, Ptasia, Zimorodka, Źródlana) jesówka, MAZOWIECKIE, PL
ORGANIZER;CN=WGO Gminy Piaseczno:MAILTO:go@piaseczno.eu
DESCRIPTION: Odbiór odpadów 
URL;VALUE=URI:https://odpady.piaseczno.eu/harmonogram-odbioru-odpadow/odbior/jesowka-tylko-ul-dzikich-gesi-konika-polnego-od-nr-42-do-46-lesnych-malin-ptasia-zrodlanawolka-kozodawska-z-wyjatkiem-ulic-bukietowej-dworskiej-gromadzkiej-jeziorki-polnej-zalesie-gorne-7/
SUMMARY:Jesówka (tylko ul. Czapli\, Dzikich Gęsi\, Konika Polnego\, Leśnych Malin\, Orlika\, Ptasia\, Zimorodka\, Źródlana)\,Wólka Kozodawska z wyjątkiem ulic: Bukietowej\, Dworskiej\, Gromadzkiej\, Jeziorki\, Polnej\, Zalesie Górne tylko ul. Droga Dzików (od nr 45 do 57)\, Żabieniec ul. Rybakówka\, Rzekotki
END:VEVENT
BEGIN:VEVENT
DTSTART:20260907T060000Z
DTEND:20260907T190000Z
DTSTAMP:20260420T155803Z
UID:69e64d0b80e49
CATEGORIES:Odpady wielkogabarytowe
LOCATION:Jesówka (tylko ul. Czapli, Dzikich Gęsi, Konika Polnego, Leśnych Malin, Orlika, Ptasia, Zimorodka, Źródlana) jesówka, MAZOWIECKIE, PL
ORGANIZER;CN=WGO Gminy Piaseczno:MAILTO:go@piaseczno.eu
DESCRIPTION: Odbiór odpadów 
URL;VALUE=URI:https://odpady.piaseczno.eu/harmonogram-odbioru-odpadow/odbior/jesowka-tylko-ul-dzikich-gesi-konika-polnego-od-nr-42-do-46-lesnych-malin-ptasia-zrodlanawolka-kozodawska-z-wyjatkiem-ulic-bukietowej-dworskiej-gromadzkiej-jeziorki-polnej-zalesie-gorne-7/
SUMMARY:Jesówka (tylko ul. Czapli\, Dzikich Gęsi\, Konika Polnego\, Leśnych Malin\, Orlika\, Ptasia\, Zimorodka\, Źródlana)\,Wólka Kozodawska z wyjątkiem ulic: Bukietowej\, Dworskiej\, Gromadzkiej\, Jeziorki\, Polnej\, Zalesie Górne tylko ul. Droga Dzików (od nr 45 do 57)\, Żabieniec ul. Rybakówka\, Rzekotki
END:VEVENT
BEGIN:VEVENT
DTSTART:20261130T060000Z
DTEND:20261130T190000Z
DTSTAMP:20260420T155803Z
UID:69e64d0b80e6d
CATEGORIES:Odpady wielkogabarytowe
LOCATION:Jesówka (tylko ul. Czapli, Dzikich Gęsi, Konika Polnego, Leśnych Malin, Orlika, Ptasia, Zimorodka, Źródlana) jesówka, MAZOWIECKIE, PL
ORGANIZER;CN=WGO Gminy Piaseczno:MAILTO:go@piaseczno.eu
DESCRIPTION: Odbiór odpadów 
URL;VALUE=URI:https://odpady.piaseczno.eu/harmonogram-odbioru-odpadow/odbior/jesowka-tylko-ul-dzikich-gesi-konika-polnego-od-nr-42-do-46-lesnych-malin-ptasia-zrodlanawolka-kozodawska-z-wyjatkiem-ulic-bukietowej-dworskiej-gromadzkiej-jeziorki-polnej-zalesie-gorne-7/
SUMMARY:Jesówka (tylko ul. Czapli\, Dzikich Gęsi\, Konika Polnego\, Leśnych Malin\, Orlika\, Ptasia\, Zimorodka\, Źródlana)\,Wólka Kozodawska z wyjątkiem ulic: Bukietowej\, Dworskiej\, Gromadzkiej\, Jeziorki\, Polnej\, Zalesie Górne tylko ul. Droga Dzików (od nr 45 do 57)\, Żabieniec ul. Rybakówka\, Rzekotki
END:VEVENT
END:VCALENDAR
