BEGIN:VCALENDAR
VERSION:2.0
PRODID:-//DIGITAL FACTORY//EVENTS MAKER V1.6.12//EN
CALSCALE:GREGORIAN
METHOD:PUBLISH
BEGIN:VEVENT
DTSTART:20251127T060000Z
DTEND:20251127T190000Z
DTSTAMP:20260423T015708Z
UID:69e97c74f2f3c
CATEGORIES:Odpady segregowane -tworzywa sztuczne i metale
LOCATION:Jesówka (tylko ul. Czapli, Dzikich Gęsi, Konika Polnego, Leśnych Malin, Orlika, Ptasia, Zimorodka, Źródlana) jesówka, MAZOWIECKIE, PL
ORGANIZER;CN=WGO Gminy Piaseczno:MAILTO:go@piaseczno.eu
DESCRIPTION: Odbiór odpadów 
URL;VALUE=URI:https://odpady.piaseczno.eu/harmonogram-odbioru-odpadow/odbior/jesowka-tylko-ul-dzikich-gesi-konika-polnego-od-nr-42-do-46-lesnych-malin-ptasia-zrodlanawolka-kozodawska-z-wyjatkiem-ulic-bukietowej-dworskiej-gromadzkiej-jeziorki-polnej-zalesie-gorne-4/
SUMMARY:Jesówka (tylko ul. Czapli\, Dzikich Gęsi\, Konika Polnego\, Leśnych Malin\, Orlika\, Ptasia\, Zimorodka\, Źródlana)\,Wólka Kozodawska z wyjątkiem ulic: Bukietowej\, Dworskiej\, Gromadzkiej\, Jeziorki\, Polnej\, Zalesie Górne tylko ul. Droga Dzików (od nr 45 do 57)\, Żabieniec ul. Rybakówka\, Rzekotki
END:VEVENT
BEGIN:VEVENT
DTSTART:20251211T060000Z
DTEND:20251211T190000Z
DTSTAMP:20260423T015708Z
UID:69e97c74f2fe8
CATEGORIES:Odpady segregowane -tworzywa sztuczne i metale
LOCATION:Jesówka (tylko ul. Czapli, Dzikich Gęsi, Konika Polnego, Leśnych Malin, Orlika, Ptasia, Zimorodka, Źródlana) jesówka, MAZOWIECKIE, PL
ORGANIZER;CN=WGO Gminy Piaseczno:MAILTO:go@piaseczno.eu
DESCRIPTION: Odbiór odpadów 
URL;VALUE=URI:https://odpady.piaseczno.eu/harmonogram-odbioru-odpadow/odbior/jesowka-tylko-ul-dzikich-gesi-konika-polnego-od-nr-42-do-46-lesnych-malin-ptasia-zrodlanawolka-kozodawska-z-wyjatkiem-ulic-bukietowej-dworskiej-gromadzkiej-jeziorki-polnej-zalesie-gorne-4/
SUMMARY:Jesówka (tylko ul. Czapli\, Dzikich Gęsi\, Konika Polnego\, Leśnych Malin\, Orlika\, Ptasia\, Zimorodka\, Źródlana)\,Wólka Kozodawska z wyjątkiem ulic: Bukietowej\, Dworskiej\, Gromadzkiej\, Jeziorki\, Polnej\, Zalesie Górne tylko ul. Droga Dzików (od nr 45 do 57)\, Żabieniec ul. Rybakówka\, Rzekotki
END:VEVENT
BEGIN:VEVENT
DTSTART:20251220T060000Z
DTEND:20251220T190000Z
DTSTAMP:20260423T015708Z
UID:69e97c74f3017
CATEGORIES:Odpady segregowane -tworzywa sztuczne i metale
LOCATION:Jesówka (tylko ul. Czapli, Dzikich Gęsi, Konika Polnego, Leśnych Malin, Orlika, Ptasia, Zimorodka, Źródlana) jesówka, MAZOWIECKIE, PL
ORGANIZER;CN=WGO Gminy Piaseczno:MAILTO:go@piaseczno.eu
DESCRIPTION: Odbiór odpadów 
URL;VALUE=URI:https://odpady.piaseczno.eu/harmonogram-odbioru-odpadow/odbior/jesowka-tylko-ul-dzikich-gesi-konika-polnego-od-nr-42-do-46-lesnych-malin-ptasia-zrodlanawolka-kozodawska-z-wyjatkiem-ulic-bukietowej-dworskiej-gromadzkiej-jeziorki-polnej-zalesie-gorne-4/
SUMMARY:Jesówka (tylko ul. Czapli\, Dzikich Gęsi\, Konika Polnego\, Leśnych Malin\, Orlika\, Ptasia\, Zimorodka\, Źródlana)\,Wólka Kozodawska z wyjątkiem ulic: Bukietowej\, Dworskiej\, Gromadzkiej\, Jeziorki\, Polnej\, Zalesie Górne tylko ul. Droga Dzików (od nr 45 do 57)\, Żabieniec ul. Rybakówka\, Rzekotki
END:VEVENT
BEGIN:VEVENT
DTSTART:20260108T060000Z
DTEND:20260108T190000Z
DTSTAMP:20260423T015708Z
UID:69e97c74f303c
CATEGORIES:Odpady segregowane -tworzywa sztuczne i metale
LOCATION:Jesówka (tylko ul. Czapli, Dzikich Gęsi, Konika Polnego, Leśnych Malin, Orlika, Ptasia, Zimorodka, Źródlana) jesówka, MAZOWIECKIE, PL
ORGANIZER;CN=WGO Gminy Piaseczno:MAILTO:go@piaseczno.eu
DESCRIPTION: Odbiór odpadów 
URL;VALUE=URI:https://odpady.piaseczno.eu/harmonogram-odbioru-odpadow/odbior/jesowka-tylko-ul-dzikich-gesi-konika-polnego-od-nr-42-do-46-lesnych-malin-ptasia-zrodlanawolka-kozodawska-z-wyjatkiem-ulic-bukietowej-dworskiej-gromadzkiej-jeziorki-polnej-zalesie-gorne-4/
SUMMARY:Jesówka (tylko ul. Czapli\, Dzikich Gęsi\, Konika Polnego\, Leśnych Malin\, Orlika\, Ptasia\, Zimorodka\, Źródlana)\,Wólka Kozodawska z wyjątkiem ulic: Bukietowej\, Dworskiej\, Gromadzkiej\, Jeziorki\, Polnej\, Zalesie Górne tylko ul. Droga Dzików (od nr 45 do 57)\, Żabieniec ul. Rybakówka\, Rzekotki
END:VEVENT
BEGIN:VEVENT
DTSTART:20260122T060000Z
DTEND:20260122T190000Z
DTSTAMP:20260423T015708Z
UID:69e97c74f3060
CATEGORIES:Odpady segregowane -tworzywa sztuczne i metale
LOCATION:Jesówka (tylko ul. Czapli, Dzikich Gęsi, Konika Polnego, Leśnych Malin, Orlika, Ptasia, Zimorodka, Źródlana) jesówka, MAZOWIECKIE, PL
ORGANIZER;CN=WGO Gminy Piaseczno:MAILTO:go@piaseczno.eu
DESCRIPTION: Odbiór odpadów 
URL;VALUE=URI:https://odpady.piaseczno.eu/harmonogram-odbioru-odpadow/odbior/jesowka-tylko-ul-dzikich-gesi-konika-polnego-od-nr-42-do-46-lesnych-malin-ptasia-zrodlanawolka-kozodawska-z-wyjatkiem-ulic-bukietowej-dworskiej-gromadzkiej-jeziorki-polnej-zalesie-gorne-4/
SUMMARY:Jesówka (tylko ul. Czapli\, Dzikich Gęsi\, Konika Polnego\, Leśnych Malin\, Orlika\, Ptasia\, Zimorodka\, Źródlana)\,Wólka Kozodawska z wyjątkiem ulic: Bukietowej\, Dworskiej\, Gromadzkiej\, Jeziorki\, Polnej\, Zalesie Górne tylko ul. Droga Dzików (od nr 45 do 57)\, Żabieniec ul. Rybakówka\, Rzekotki
END:VEVENT
BEGIN:VEVENT
DTSTART:20260205T060000Z
DTEND:20260205T190000Z
DTSTAMP:20260423T015708Z
UID:69e97c74f3081
CATEGORIES:Odpady segregowane -tworzywa sztuczne i metale
LOCATION:Jesówka (tylko ul. Czapli, Dzikich Gęsi, Konika Polnego, Leśnych Malin, Orlika, Ptasia, Zimorodka, Źródlana) jesówka, MAZOWIECKIE, PL
ORGANIZER;CN=WGO Gminy Piaseczno:MAILTO:go@piaseczno.eu
DESCRIPTION: Odbiór odpadów 
URL;VALUE=URI:https://odpady.piaseczno.eu/harmonogram-odbioru-odpadow/odbior/jesowka-tylko-ul-dzikich-gesi-konika-polnego-od-nr-42-do-46-lesnych-malin-ptasia-zrodlanawolka-kozodawska-z-wyjatkiem-ulic-bukietowej-dworskiej-gromadzkiej-jeziorki-polnej-zalesie-gorne-4/
SUMMARY:Jesówka (tylko ul. Czapli\, Dzikich Gęsi\, Konika Polnego\, Leśnych Malin\, Orlika\, Ptasia\, Zimorodka\, Źródlana)\,Wólka Kozodawska z wyjątkiem ulic: Bukietowej\, Dworskiej\, Gromadzkiej\, Jeziorki\, Polnej\, Zalesie Górne tylko ul. Droga Dzików (od nr 45 do 57)\, Żabieniec ul. Rybakówka\, Rzekotki
END:VEVENT
BEGIN:VEVENT
DTSTART:20260219T060000Z
DTEND:20260219T190000Z
DTSTAMP:20260423T015708Z
UID:69e97c74f309f
CATEGORIES:Odpady segregowane -tworzywa sztuczne i metale
LOCATION:Jesówka (tylko ul. Czapli, Dzikich Gęsi, Konika Polnego, Leśnych Malin, Orlika, Ptasia, Zimorodka, Źródlana) jesówka, MAZOWIECKIE, PL
ORGANIZER;CN=WGO Gminy Piaseczno:MAILTO:go@piaseczno.eu
DESCRIPTION: Odbiór odpadów 
URL;VALUE=URI:https://odpady.piaseczno.eu/harmonogram-odbioru-odpadow/odbior/jesowka-tylko-ul-dzikich-gesi-konika-polnego-od-nr-42-do-46-lesnych-malin-ptasia-zrodlanawolka-kozodawska-z-wyjatkiem-ulic-bukietowej-dworskiej-gromadzkiej-jeziorki-polnej-zalesie-gorne-4/
SUMMARY:Jesówka (tylko ul. Czapli\, Dzikich Gęsi\, Konika Polnego\, Leśnych Malin\, Orlika\, Ptasia\, Zimorodka\, Źródlana)\,Wólka Kozodawska z wyjątkiem ulic: Bukietowej\, Dworskiej\, Gromadzkiej\, Jeziorki\, Polnej\, Zalesie Górne tylko ul. Droga Dzików (od nr 45 do 57)\, Żabieniec ul. Rybakówka\, Rzekotki
END:VEVENT
BEGIN:VEVENT
DTSTART:20260305T060000Z
DTEND:20260305T190000Z
DTSTAMP:20260423T015708Z
UID:69e97c74f30bd
CATEGORIES:Odpady segregowane -tworzywa sztuczne i metale
LOCATION:Jesówka (tylko ul. Czapli, Dzikich Gęsi, Konika Polnego, Leśnych Malin, Orlika, Ptasia, Zimorodka, Źródlana) jesówka, MAZOWIECKIE, PL
ORGANIZER;CN=WGO Gminy Piaseczno:MAILTO:go@piaseczno.eu
DESCRIPTION: Odbiór odpadów 
URL;VALUE=URI:https://odpady.piaseczno.eu/harmonogram-odbioru-odpadow/odbior/jesowka-tylko-ul-dzikich-gesi-konika-polnego-od-nr-42-do-46-lesnych-malin-ptasia-zrodlanawolka-kozodawska-z-wyjatkiem-ulic-bukietowej-dworskiej-gromadzkiej-jeziorki-polnej-zalesie-gorne-4/
SUMMARY:Jesówka (tylko ul. Czapli\, Dzikich Gęsi\, Konika Polnego\, Leśnych Malin\, Orlika\, Ptasia\, Zimorodka\, Źródlana)\,Wólka Kozodawska z wyjątkiem ulic: Bukietowej\, Dworskiej\, Gromadzkiej\, Jeziorki\, Polnej\, Zalesie Górne tylko ul. Droga Dzików (od nr 45 do 57)\, Żabieniec ul. Rybakówka\, Rzekotki
END:VEVENT
BEGIN:VEVENT
DTSTART:20260319T060000Z
DTEND:20260319T190000Z
DTSTAMP:20260423T015708Z
UID:69e97c74f30da
CATEGORIES:Odpady segregowane -tworzywa sztuczne i metale
LOCATION:Jesówka (tylko ul. Czapli, Dzikich Gęsi, Konika Polnego, Leśnych Malin, Orlika, Ptasia, Zimorodka, Źródlana) jesówka, MAZOWIECKIE, PL
ORGANIZER;CN=WGO Gminy Piaseczno:MAILTO:go@piaseczno.eu
DESCRIPTION: Odbiór odpadów 
URL;VALUE=URI:https://odpady.piaseczno.eu/harmonogram-odbioru-odpadow/odbior/jesowka-tylko-ul-dzikich-gesi-konika-polnego-od-nr-42-do-46-lesnych-malin-ptasia-zrodlanawolka-kozodawska-z-wyjatkiem-ulic-bukietowej-dworskiej-gromadzkiej-jeziorki-polnej-zalesie-gorne-4/
SUMMARY:Jesówka (tylko ul. Czapli\, Dzikich Gęsi\, Konika Polnego\, Leśnych Malin\, Orlika\, Ptasia\, Zimorodka\, Źródlana)\,Wólka Kozodawska z wyjątkiem ulic: Bukietowej\, Dworskiej\, Gromadzkiej\, Jeziorki\, Polnej\, Zalesie Górne tylko ul. Droga Dzików (od nr 45 do 57)\, Żabieniec ul. Rybakówka\, Rzekotki
END:VEVENT
BEGIN:VEVENT
DTSTART:20260402T060000Z
DTEND:20260402T190000Z
DTSTAMP:20260423T015708Z
UID:69e97c74f3108
CATEGORIES:Odpady segregowane -tworzywa sztuczne i metale
LOCATION:Jesówka (tylko ul. Czapli, Dzikich Gęsi, Konika Polnego, Leśnych Malin, Orlika, Ptasia, Zimorodka, Źródlana) jesówka, MAZOWIECKIE, PL
ORGANIZER;CN=WGO Gminy Piaseczno:MAILTO:go@piaseczno.eu
DESCRIPTION: Odbiór odpadów 
URL;VALUE=URI:https://odpady.piaseczno.eu/harmonogram-odbioru-odpadow/odbior/jesowka-tylko-ul-dzikich-gesi-konika-polnego-od-nr-42-do-46-lesnych-malin-ptasia-zrodlanawolka-kozodawska-z-wyjatkiem-ulic-bukietowej-dworskiej-gromadzkiej-jeziorki-polnej-zalesie-gorne-4/
SUMMARY:Jesówka (tylko ul. Czapli\, Dzikich Gęsi\, Konika Polnego\, Leśnych Malin\, Orlika\, Ptasia\, Zimorodka\, Źródlana)\,Wólka Kozodawska z wyjątkiem ulic: Bukietowej\, Dworskiej\, Gromadzkiej\, Jeziorki\, Polnej\, Zalesie Górne tylko ul. Droga Dzików (od nr 45 do 57)\, Żabieniec ul. Rybakówka\, Rzekotki
END:VEVENT
BEGIN:VEVENT
DTSTART:20260416T060000Z
DTEND:20260416T190000Z
DTSTAMP:20260423T015708Z
UID:69e97c74f3125
CATEGORIES:Odpady segregowane -tworzywa sztuczne i metale
LOCATION:Jesówka (tylko ul. Czapli, Dzikich Gęsi, Konika Polnego, Leśnych Malin, Orlika, Ptasia, Zimorodka, Źródlana) jesówka, MAZOWIECKIE, PL
ORGANIZER;CN=WGO Gminy Piaseczno:MAILTO:go@piaseczno.eu
DESCRIPTION: Odbiór odpadów 
URL;VALUE=URI:https://odpady.piaseczno.eu/harmonogram-odbioru-odpadow/odbior/jesowka-tylko-ul-dzikich-gesi-konika-polnego-od-nr-42-do-46-lesnych-malin-ptasia-zrodlanawolka-kozodawska-z-wyjatkiem-ulic-bukietowej-dworskiej-gromadzkiej-jeziorki-polnej-zalesie-gorne-4/
SUMMARY:Jesówka (tylko ul. Czapli\, Dzikich Gęsi\, Konika Polnego\, Leśnych Malin\, Orlika\, Ptasia\, Zimorodka\, Źródlana)\,Wólka Kozodawska z wyjątkiem ulic: Bukietowej\, Dworskiej\, Gromadzkiej\, Jeziorki\, Polnej\, Zalesie Górne tylko ul. Droga Dzików (od nr 45 do 57)\, Żabieniec ul. Rybakówka\, Rzekotki
END:VEVENT
BEGIN:VEVENT
DTSTART:20260430T060000Z
DTEND:20260430T190000Z
DTSTAMP:20260423T015708Z
UID:69e97c74f3142
CATEGORIES:Odpady segregowane -tworzywa sztuczne i metale
LOCATION:Jesówka (tylko ul. Czapli, Dzikich Gęsi, Konika Polnego, Leśnych Malin, Orlika, Ptasia, Zimorodka, Źródlana) jesówka, MAZOWIECKIE, PL
ORGANIZER;CN=WGO Gminy Piaseczno:MAILTO:go@piaseczno.eu
DESCRIPTION: Odbiór odpadów 
URL;VALUE=URI:https://odpady.piaseczno.eu/harmonogram-odbioru-odpadow/odbior/jesowka-tylko-ul-dzikich-gesi-konika-polnego-od-nr-42-do-46-lesnych-malin-ptasia-zrodlanawolka-kozodawska-z-wyjatkiem-ulic-bukietowej-dworskiej-gromadzkiej-jeziorki-polnej-zalesie-gorne-4/
SUMMARY:Jesówka (tylko ul. Czapli\, Dzikich Gęsi\, Konika Polnego\, Leśnych Malin\, Orlika\, Ptasia\, Zimorodka\, Źródlana)\,Wólka Kozodawska z wyjątkiem ulic: Bukietowej\, Dworskiej\, Gromadzkiej\, Jeziorki\, Polnej\, Zalesie Górne tylko ul. Droga Dzików (od nr 45 do 57)\, Żabieniec ul. Rybakówka\, Rzekotki
END:VEVENT
BEGIN:VEVENT
DTSTART:20260514T060000Z
DTEND:20260514T190000Z
DTSTAMP:20260423T015708Z
UID:69e97c74f315f
CATEGORIES:Odpady segregowane -tworzywa sztuczne i metale
LOCATION:Jesówka (tylko ul. Czapli, Dzikich Gęsi, Konika Polnego, Leśnych Malin, Orlika, Ptasia, Zimorodka, Źródlana) jesówka, MAZOWIECKIE, PL
ORGANIZER;CN=WGO Gminy Piaseczno:MAILTO:go@piaseczno.eu
DESCRIPTION: Odbiór odpadów 
URL;VALUE=URI:https://odpady.piaseczno.eu/harmonogram-odbioru-odpadow/odbior/jesowka-tylko-ul-dzikich-gesi-konika-polnego-od-nr-42-do-46-lesnych-malin-ptasia-zrodlanawolka-kozodawska-z-wyjatkiem-ulic-bukietowej-dworskiej-gromadzkiej-jeziorki-polnej-zalesie-gorne-4/
SUMMARY:Jesówka (tylko ul. Czapli\, Dzikich Gęsi\, Konika Polnego\, Leśnych Malin\, Orlika\, Ptasia\, Zimorodka\, Źródlana)\,Wólka Kozodawska z wyjątkiem ulic: Bukietowej\, Dworskiej\, Gromadzkiej\, Jeziorki\, Polnej\, Zalesie Górne tylko ul. Droga Dzików (od nr 45 do 57)\, Żabieniec ul. Rybakówka\, Rzekotki
END:VEVENT
BEGIN:VEVENT
DTSTART:20260528T060000Z
DTEND:20260528T190000Z
DTSTAMP:20260423T015708Z
UID:69e97c74f3180
CATEGORIES:Odpady segregowane -tworzywa sztuczne i metale
LOCATION:Jesówka (tylko ul. Czapli, Dzikich Gęsi, Konika Polnego, Leśnych Malin, Orlika, Ptasia, Zimorodka, Źródlana) jesówka, MAZOWIECKIE, PL
ORGANIZER;CN=WGO Gminy Piaseczno:MAILTO:go@piaseczno.eu
DESCRIPTION: Odbiór odpadów 
URL;VALUE=URI:https://odpady.piaseczno.eu/harmonogram-odbioru-odpadow/odbior/jesowka-tylko-ul-dzikich-gesi-konika-polnego-od-nr-42-do-46-lesnych-malin-ptasia-zrodlanawolka-kozodawska-z-wyjatkiem-ulic-bukietowej-dworskiej-gromadzkiej-jeziorki-polnej-zalesie-gorne-4/
SUMMARY:Jesówka (tylko ul. Czapli\, Dzikich Gęsi\, Konika Polnego\, Leśnych Malin\, Orlika\, Ptasia\, Zimorodka\, Źródlana)\,Wólka Kozodawska z wyjątkiem ulic: Bukietowej\, Dworskiej\, Gromadzkiej\, Jeziorki\, Polnej\, Zalesie Górne tylko ul. Droga Dzików (od nr 45 do 57)\, Żabieniec ul. Rybakówka\, Rzekotki
END:VEVENT
BEGIN:VEVENT
DTSTART:20260611T060000Z
DTEND:20260611T190000Z
DTSTAMP:20260423T015708Z
UID:69e97c74f319d
CATEGORIES:Odpady segregowane -tworzywa sztuczne i metale
LOCATION:Jesówka (tylko ul. Czapli, Dzikich Gęsi, Konika Polnego, Leśnych Malin, Orlika, Ptasia, Zimorodka, Źródlana) jesówka, MAZOWIECKIE, PL
ORGANIZER;CN=WGO Gminy Piaseczno:MAILTO:go@piaseczno.eu
DESCRIPTION: Odbiór odpadów 
URL;VALUE=URI:https://odpady.piaseczno.eu/harmonogram-odbioru-odpadow/odbior/jesowka-tylko-ul-dzikich-gesi-konika-polnego-od-nr-42-do-46-lesnych-malin-ptasia-zrodlanawolka-kozodawska-z-wyjatkiem-ulic-bukietowej-dworskiej-gromadzkiej-jeziorki-polnej-zalesie-gorne-4/
SUMMARY:Jesówka (tylko ul. Czapli\, Dzikich Gęsi\, Konika Polnego\, Leśnych Malin\, Orlika\, Ptasia\, Zimorodka\, Źródlana)\,Wólka Kozodawska z wyjątkiem ulic: Bukietowej\, Dworskiej\, Gromadzkiej\, Jeziorki\, Polnej\, Zalesie Górne tylko ul. Droga Dzików (od nr 45 do 57)\, Żabieniec ul. Rybakówka\, Rzekotki
END:VEVENT
BEGIN:VEVENT
DTSTART:20260625T060000Z
DTEND:20260625T190000Z
DTSTAMP:20260423T015708Z
UID:69e97c74f31ba
CATEGORIES:Odpady segregowane -tworzywa sztuczne i metale
LOCATION:Jesówka (tylko ul. Czapli, Dzikich Gęsi, Konika Polnego, Leśnych Malin, Orlika, Ptasia, Zimorodka, Źródlana) jesówka, MAZOWIECKIE, PL
ORGANIZER;CN=WGO Gminy Piaseczno:MAILTO:go@piaseczno.eu
DESCRIPTION: Odbiór odpadów 
URL;VALUE=URI:https://odpady.piaseczno.eu/harmonogram-odbioru-odpadow/odbior/jesowka-tylko-ul-dzikich-gesi-konika-polnego-od-nr-42-do-46-lesnych-malin-ptasia-zrodlanawolka-kozodawska-z-wyjatkiem-ulic-bukietowej-dworskiej-gromadzkiej-jeziorki-polnej-zalesie-gorne-4/
SUMMARY:Jesówka (tylko ul. Czapli\, Dzikich Gęsi\, Konika Polnego\, Leśnych Malin\, Orlika\, Ptasia\, Zimorodka\, Źródlana)\,Wólka Kozodawska z wyjątkiem ulic: Bukietowej\, Dworskiej\, Gromadzkiej\, Jeziorki\, Polnej\, Zalesie Górne tylko ul. Droga Dzików (od nr 45 do 57)\, Żabieniec ul. Rybakówka\, Rzekotki
END:VEVENT
BEGIN:VEVENT
DTSTART:20260709T060000Z
DTEND:20260709T190000Z
DTSTAMP:20260423T015708Z
UID:69e97c74f31d7
CATEGORIES:Odpady segregowane -tworzywa sztuczne i metale
LOCATION:Jesówka (tylko ul. Czapli, Dzikich Gęsi, Konika Polnego, Leśnych Malin, Orlika, Ptasia, Zimorodka, Źródlana) jesówka, MAZOWIECKIE, PL
ORGANIZER;CN=WGO Gminy Piaseczno:MAILTO:go@piaseczno.eu
DESCRIPTION: Odbiór odpadów 
URL;VALUE=URI:https://odpady.piaseczno.eu/harmonogram-odbioru-odpadow/odbior/jesowka-tylko-ul-dzikich-gesi-konika-polnego-od-nr-42-do-46-lesnych-malin-ptasia-zrodlanawolka-kozodawska-z-wyjatkiem-ulic-bukietowej-dworskiej-gromadzkiej-jeziorki-polnej-zalesie-gorne-4/
SUMMARY:Jesówka (tylko ul. Czapli\, Dzikich Gęsi\, Konika Polnego\, Leśnych Malin\, Orlika\, Ptasia\, Zimorodka\, Źródlana)\,Wólka Kozodawska z wyjątkiem ulic: Bukietowej\, Dworskiej\, Gromadzkiej\, Jeziorki\, Polnej\, Zalesie Górne tylko ul. Droga Dzików (od nr 45 do 57)\, Żabieniec ul. Rybakówka\, Rzekotki
END:VEVENT
BEGIN:VEVENT
DTSTART:20260723T060000Z
DTEND:20260723T190000Z
DTSTAMP:20260423T015708Z
UID:69e97c74f31f7
CATEGORIES:Odpady segregowane -tworzywa sztuczne i metale
LOCATION:Jesówka (tylko ul. Czapli, Dzikich Gęsi, Konika Polnego, Leśnych Malin, Orlika, Ptasia, Zimorodka, Źródlana) jesówka, MAZOWIECKIE, PL
ORGANIZER;CN=WGO Gminy Piaseczno:MAILTO:go@piaseczno.eu
DESCRIPTION: Odbiór odpadów 
URL;VALUE=URI:https://odpady.piaseczno.eu/harmonogram-odbioru-odpadow/odbior/jesowka-tylko-ul-dzikich-gesi-konika-polnego-od-nr-42-do-46-lesnych-malin-ptasia-zrodlanawolka-kozodawska-z-wyjatkiem-ulic-bukietowej-dworskiej-gromadzkiej-jeziorki-polnej-zalesie-gorne-4/
SUMMARY:Jesówka (tylko ul. Czapli\, Dzikich Gęsi\, Konika Polnego\, Leśnych Malin\, Orlika\, Ptasia\, Zimorodka\, Źródlana)\,Wólka Kozodawska z wyjątkiem ulic: Bukietowej\, Dworskiej\, Gromadzkiej\, Jeziorki\, Polnej\, Zalesie Górne tylko ul. Droga Dzików (od nr 45 do 57)\, Żabieniec ul. Rybakówka\, Rzekotki
END:VEVENT
BEGIN:VEVENT
DTSTART:20260806T060000Z
DTEND:20260806T190000Z
DTSTAMP:20260423T015708Z
UID:69e97c74f3214
CATEGORIES:Odpady segregowane -tworzywa sztuczne i metale
LOCATION:Jesówka (tylko ul. Czapli, Dzikich Gęsi, Konika Polnego, Leśnych Malin, Orlika, Ptasia, Zimorodka, Źródlana) jesówka, MAZOWIECKIE, PL
ORGANIZER;CN=WGO Gminy Piaseczno:MAILTO:go@piaseczno.eu
DESCRIPTION: Odbiór odpadów 
URL;VALUE=URI:https://odpady.piaseczno.eu/harmonogram-odbioru-odpadow/odbior/jesowka-tylko-ul-dzikich-gesi-konika-polnego-od-nr-42-do-46-lesnych-malin-ptasia-zrodlanawolka-kozodawska-z-wyjatkiem-ulic-bukietowej-dworskiej-gromadzkiej-jeziorki-polnej-zalesie-gorne-4/
SUMMARY:Jesówka (tylko ul. Czapli\, Dzikich Gęsi\, Konika Polnego\, Leśnych Malin\, Orlika\, Ptasia\, Zimorodka\, Źródlana)\,Wólka Kozodawska z wyjątkiem ulic: Bukietowej\, Dworskiej\, Gromadzkiej\, Jeziorki\, Polnej\, Zalesie Górne tylko ul. Droga Dzików (od nr 45 do 57)\, Żabieniec ul. Rybakówka\, Rzekotki
END:VEVENT
BEGIN:VEVENT
DTSTART:20260820T060000Z
DTEND:20260820T190000Z
DTSTAMP:20260423T015708Z
UID:69e97c74f3231
CATEGORIES:Odpady segregowane -tworzywa sztuczne i metale
LOCATION:Jesówka (tylko ul. Czapli, Dzikich Gęsi, Konika Polnego, Leśnych Malin, Orlika, Ptasia, Zimorodka, Źródlana) jesówka, MAZOWIECKIE, PL
ORGANIZER;CN=WGO Gminy Piaseczno:MAILTO:go@piaseczno.eu
DESCRIPTION: Odbiór odpadów 
URL;VALUE=URI:https://odpady.piaseczno.eu/harmonogram-odbioru-odpadow/odbior/jesowka-tylko-ul-dzikich-gesi-konika-polnego-od-nr-42-do-46-lesnych-malin-ptasia-zrodlanawolka-kozodawska-z-wyjatkiem-ulic-bukietowej-dworskiej-gromadzkiej-jeziorki-polnej-zalesie-gorne-4/
SUMMARY:Jesówka (tylko ul. Czapli\, Dzikich Gęsi\, Konika Polnego\, Leśnych Malin\, Orlika\, Ptasia\, Zimorodka\, Źródlana)\,Wólka Kozodawska z wyjątkiem ulic: Bukietowej\, Dworskiej\, Gromadzkiej\, Jeziorki\, Polnej\, Zalesie Górne tylko ul. Droga Dzików (od nr 45 do 57)\, Żabieniec ul. Rybakówka\, Rzekotki
END:VEVENT
BEGIN:VEVENT
DTSTART:20260903T060000Z
DTEND:20260903T190000Z
DTSTAMP:20260423T015708Z
UID:69e97c74f324e
CATEGORIES:Odpady segregowane -tworzywa sztuczne i metale
LOCATION:Jesówka (tylko ul. Czapli, Dzikich Gęsi, Konika Polnego, Leśnych Malin, Orlika, Ptasia, Zimorodka, Źródlana) jesówka, MAZOWIECKIE, PL
ORGANIZER;CN=WGO Gminy Piaseczno:MAILTO:go@piaseczno.eu
DESCRIPTION: Odbiór odpadów 
URL;VALUE=URI:https://odpady.piaseczno.eu/harmonogram-odbioru-odpadow/odbior/jesowka-tylko-ul-dzikich-gesi-konika-polnego-od-nr-42-do-46-lesnych-malin-ptasia-zrodlanawolka-kozodawska-z-wyjatkiem-ulic-bukietowej-dworskiej-gromadzkiej-jeziorki-polnej-zalesie-gorne-4/
SUMMARY:Jesówka (tylko ul. Czapli\, Dzikich Gęsi\, Konika Polnego\, Leśnych Malin\, Orlika\, Ptasia\, Zimorodka\, Źródlana)\,Wólka Kozodawska z wyjątkiem ulic: Bukietowej\, Dworskiej\, Gromadzkiej\, Jeziorki\, Polnej\, Zalesie Górne tylko ul. Droga Dzików (od nr 45 do 57)\, Żabieniec ul. Rybakówka\, Rzekotki
END:VEVENT
BEGIN:VEVENT
DTSTART:20260917T060000Z
DTEND:20260917T190000Z
DTSTAMP:20260423T015708Z
UID:69e97c74f326f
CATEGORIES:Odpady segregowane -tworzywa sztuczne i metale
LOCATION:Jesówka (tylko ul. Czapli, Dzikich Gęsi, Konika Polnego, Leśnych Malin, Orlika, Ptasia, Zimorodka, Źródlana) jesówka, MAZOWIECKIE, PL
ORGANIZER;CN=WGO Gminy Piaseczno:MAILTO:go@piaseczno.eu
DESCRIPTION: Odbiór odpadów 
URL;VALUE=URI:https://odpady.piaseczno.eu/harmonogram-odbioru-odpadow/odbior/jesowka-tylko-ul-dzikich-gesi-konika-polnego-od-nr-42-do-46-lesnych-malin-ptasia-zrodlanawolka-kozodawska-z-wyjatkiem-ulic-bukietowej-dworskiej-gromadzkiej-jeziorki-polnej-zalesie-gorne-4/
SUMMARY:Jesówka (tylko ul. Czapli\, Dzikich Gęsi\, Konika Polnego\, Leśnych Malin\, Orlika\, Ptasia\, Zimorodka\, Źródlana)\,Wólka Kozodawska z wyjątkiem ulic: Bukietowej\, Dworskiej\, Gromadzkiej\, Jeziorki\, Polnej\, Zalesie Górne tylko ul. Droga Dzików (od nr 45 do 57)\, Żabieniec ul. Rybakówka\, Rzekotki
END:VEVENT
BEGIN:VEVENT
DTSTART:20261001T060000Z
DTEND:20261001T190000Z
DTSTAMP:20260423T015708Z
UID:69e97c74f328c
CATEGORIES:Odpady segregowane -tworzywa sztuczne i metale
LOCATION:Jesówka (tylko ul. Czapli, Dzikich Gęsi, Konika Polnego, Leśnych Malin, Orlika, Ptasia, Zimorodka, Źródlana) jesówka, MAZOWIECKIE, PL
ORGANIZER;CN=WGO Gminy Piaseczno:MAILTO:go@piaseczno.eu
DESCRIPTION: Odbiór odpadów 
URL;VALUE=URI:https://odpady.piaseczno.eu/harmonogram-odbioru-odpadow/odbior/jesowka-tylko-ul-dzikich-gesi-konika-polnego-od-nr-42-do-46-lesnych-malin-ptasia-zrodlanawolka-kozodawska-z-wyjatkiem-ulic-bukietowej-dworskiej-gromadzkiej-jeziorki-polnej-zalesie-gorne-4/
SUMMARY:Jesówka (tylko ul. Czapli\, Dzikich Gęsi\, Konika Polnego\, Leśnych Malin\, Orlika\, Ptasia\, Zimorodka\, Źródlana)\,Wólka Kozodawska z wyjątkiem ulic: Bukietowej\, Dworskiej\, Gromadzkiej\, Jeziorki\, Polnej\, Zalesie Górne tylko ul. Droga Dzików (od nr 45 do 57)\, Żabieniec ul. Rybakówka\, Rzekotki
END:VEVENT
BEGIN:VEVENT
DTSTART:20261015T060000Z
DTEND:20261015T190000Z
DTSTAMP:20260423T015708Z
UID:69e97c74f32a9
CATEGORIES:Odpady segregowane -tworzywa sztuczne i metale
LOCATION:Jesówka (tylko ul. Czapli, Dzikich Gęsi, Konika Polnego, Leśnych Malin, Orlika, Ptasia, Zimorodka, Źródlana) jesówka, MAZOWIECKIE, PL
ORGANIZER;CN=WGO Gminy Piaseczno:MAILTO:go@piaseczno.eu
DESCRIPTION: Odbiór odpadów 
URL;VALUE=URI:https://odpady.piaseczno.eu/harmonogram-odbioru-odpadow/odbior/jesowka-tylko-ul-dzikich-gesi-konika-polnego-od-nr-42-do-46-lesnych-malin-ptasia-zrodlanawolka-kozodawska-z-wyjatkiem-ulic-bukietowej-dworskiej-gromadzkiej-jeziorki-polnej-zalesie-gorne-4/
SUMMARY:Jesówka (tylko ul. Czapli\, Dzikich Gęsi\, Konika Polnego\, Leśnych Malin\, Orlika\, Ptasia\, Zimorodka\, Źródlana)\,Wólka Kozodawska z wyjątkiem ulic: Bukietowej\, Dworskiej\, Gromadzkiej\, Jeziorki\, Polnej\, Zalesie Górne tylko ul. Droga Dzików (od nr 45 do 57)\, Żabieniec ul. Rybakówka\, Rzekotki
END:VEVENT
BEGIN:VEVENT
DTSTART:20261029T060000Z
DTEND:20261029T190000Z
DTSTAMP:20260423T015708Z
UID:69e97c74f32c5
CATEGORIES:Odpady segregowane -tworzywa sztuczne i metale
LOCATION:Jesówka (tylko ul. Czapli, Dzikich Gęsi, Konika Polnego, Leśnych Malin, Orlika, Ptasia, Zimorodka, Źródlana) jesówka, MAZOWIECKIE, PL
ORGANIZER;CN=WGO Gminy Piaseczno:MAILTO:go@piaseczno.eu
DESCRIPTION: Odbiór odpadów 
URL;VALUE=URI:https://odpady.piaseczno.eu/harmonogram-odbioru-odpadow/odbior/jesowka-tylko-ul-dzikich-gesi-konika-polnego-od-nr-42-do-46-lesnych-malin-ptasia-zrodlanawolka-kozodawska-z-wyjatkiem-ulic-bukietowej-dworskiej-gromadzkiej-jeziorki-polnej-zalesie-gorne-4/
SUMMARY:Jesówka (tylko ul. Czapli\, Dzikich Gęsi\, Konika Polnego\, Leśnych Malin\, Orlika\, Ptasia\, Zimorodka\, Źródlana)\,Wólka Kozodawska z wyjątkiem ulic: Bukietowej\, Dworskiej\, Gromadzkiej\, Jeziorki\, Polnej\, Zalesie Górne tylko ul. Droga Dzików (od nr 45 do 57)\, Żabieniec ul. Rybakówka\, Rzekotki
END:VEVENT
BEGIN:VEVENT
DTSTART:20261112T060000Z
DTEND:20261112T190000Z
DTSTAMP:20260423T015708Z
UID:69e97c74f32f8
CATEGORIES:Odpady segregowane -tworzywa sztuczne i metale
LOCATION:Jesówka (tylko ul. Czapli, Dzikich Gęsi, Konika Polnego, Leśnych Malin, Orlika, Ptasia, Zimorodka, Źródlana) jesówka, MAZOWIECKIE, PL
ORGANIZER;CN=WGO Gminy Piaseczno:MAILTO:go@piaseczno.eu
DESCRIPTION: Odbiór odpadów 
URL;VALUE=URI:https://odpady.piaseczno.eu/harmonogram-odbioru-odpadow/odbior/jesowka-tylko-ul-dzikich-gesi-konika-polnego-od-nr-42-do-46-lesnych-malin-ptasia-zrodlanawolka-kozodawska-z-wyjatkiem-ulic-bukietowej-dworskiej-gromadzkiej-jeziorki-polnej-zalesie-gorne-4/
SUMMARY:Jesówka (tylko ul. Czapli\, Dzikich Gęsi\, Konika Polnego\, Leśnych Malin\, Orlika\, Ptasia\, Zimorodka\, Źródlana)\,Wólka Kozodawska z wyjątkiem ulic: Bukietowej\, Dworskiej\, Gromadzkiej\, Jeziorki\, Polnej\, Zalesie Górne tylko ul. Droga Dzików (od nr 45 do 57)\, Żabieniec ul. Rybakówka\, Rzekotki
END:VEVENT
BEGIN:VEVENT
DTSTART:20261126T060000Z
DTEND:20261126T190000Z
DTSTAMP:20260423T015708Z
UID:69e97c74f3317
CATEGORIES:Odpady segregowane -tworzywa sztuczne i metale
LOCATION:Jesówka (tylko ul. Czapli, Dzikich Gęsi, Konika Polnego, Leśnych Malin, Orlika, Ptasia, Zimorodka, Źródlana) jesówka, MAZOWIECKIE, PL
ORGANIZER;CN=WGO Gminy Piaseczno:MAILTO:go@piaseczno.eu
DESCRIPTION: Odbiór odpadów 
URL;VALUE=URI:https://odpady.piaseczno.eu/harmonogram-odbioru-odpadow/odbior/jesowka-tylko-ul-dzikich-gesi-konika-polnego-od-nr-42-do-46-lesnych-malin-ptasia-zrodlanawolka-kozodawska-z-wyjatkiem-ulic-bukietowej-dworskiej-gromadzkiej-jeziorki-polnej-zalesie-gorne-4/
SUMMARY:Jesówka (tylko ul. Czapli\, Dzikich Gęsi\, Konika Polnego\, Leśnych Malin\, Orlika\, Ptasia\, Zimorodka\, Źródlana)\,Wólka Kozodawska z wyjątkiem ulic: Bukietowej\, Dworskiej\, Gromadzkiej\, Jeziorki\, Polnej\, Zalesie Górne tylko ul. Droga Dzików (od nr 45 do 57)\, Żabieniec ul. Rybakówka\, Rzekotki
END:VEVENT
END:VCALENDAR
