BEGIN:VCALENDAR
VERSION:2.0
PRODID:-//DIGITAL FACTORY//EVENTS MAKER V1.6.12//EN
CALSCALE:GREGORIAN
METHOD:PUBLISH
BEGIN:VEVENT
DTSTART:20251119T060000Z
DTEND:20251119T190000Z
DTSTAMP:20260420T105533Z
UID:69e606259b947
CATEGORIES:Odpady zmieszane
LOCATION:Henryków Urocze Henryków Urocze, Mazowieckie, PL
ORGANIZER;CN=WGO Gminy Piaseczno:MAILTO:go@piaseczno.eu
DESCRIPTION: Odbiór odpadów 
URL;VALUE=URI:https://odpady.piaseczno.eu/harmonogram-odbioru-odpadow/odbior/henrykow-urocze-szczaki-zlotoklos-runow-wszystkie-adresy-z-wyjatkiem-ul-wypoczynkowej-i-runowskiej/
SUMMARY:Henryków-Urocze\, Runów (tylko Kwitnąca i Dobra 90)\, Szczaki\, Wólka Pracka (tylko ul. Zawadzka)\, Złotokłos - Odpady zmieszane
END:VEVENT
BEGIN:VEVENT
DTSTART:20251203T060000Z
DTEND:20251203T190000Z
DTSTAMP:20260420T105533Z
UID:69e606259b9e8
CATEGORIES:Odpady zmieszane
LOCATION:Henryków Urocze Henryków Urocze, Mazowieckie, PL
ORGANIZER;CN=WGO Gminy Piaseczno:MAILTO:go@piaseczno.eu
DESCRIPTION: Odbiór odpadów 
URL;VALUE=URI:https://odpady.piaseczno.eu/harmonogram-odbioru-odpadow/odbior/henrykow-urocze-szczaki-zlotoklos-runow-wszystkie-adresy-z-wyjatkiem-ul-wypoczynkowej-i-runowskiej/
SUMMARY:Henryków-Urocze\, Runów (tylko Kwitnąca i Dobra 90)\, Szczaki\, Wólka Pracka (tylko ul. Zawadzka)\, Złotokłos - Odpady zmieszane
END:VEVENT
BEGIN:VEVENT
DTSTART:20251217T060000Z
DTEND:20251217T190000Z
DTSTAMP:20260420T105533Z
UID:69e606259ba11
CATEGORIES:Odpady zmieszane
LOCATION:Henryków Urocze Henryków Urocze, Mazowieckie, PL
ORGANIZER;CN=WGO Gminy Piaseczno:MAILTO:go@piaseczno.eu
DESCRIPTION: Odbiór odpadów 
URL;VALUE=URI:https://odpady.piaseczno.eu/harmonogram-odbioru-odpadow/odbior/henrykow-urocze-szczaki-zlotoklos-runow-wszystkie-adresy-z-wyjatkiem-ul-wypoczynkowej-i-runowskiej/
SUMMARY:Henryków-Urocze\, Runów (tylko Kwitnąca i Dobra 90)\, Szczaki\, Wólka Pracka (tylko ul. Zawadzka)\, Złotokłos - Odpady zmieszane
END:VEVENT
BEGIN:VEVENT
DTSTART:20251231T060000Z
DTEND:20251231T190000Z
DTSTAMP:20260420T105533Z
UID:69e606259ba32
CATEGORIES:Odpady zmieszane
LOCATION:Henryków Urocze Henryków Urocze, Mazowieckie, PL
ORGANIZER;CN=WGO Gminy Piaseczno:MAILTO:go@piaseczno.eu
DESCRIPTION: Odbiór odpadów 
URL;VALUE=URI:https://odpady.piaseczno.eu/harmonogram-odbioru-odpadow/odbior/henrykow-urocze-szczaki-zlotoklos-runow-wszystkie-adresy-z-wyjatkiem-ul-wypoczynkowej-i-runowskiej/
SUMMARY:Henryków-Urocze\, Runów (tylko Kwitnąca i Dobra 90)\, Szczaki\, Wólka Pracka (tylko ul. Zawadzka)\, Złotokłos - Odpady zmieszane
END:VEVENT
BEGIN:VEVENT
DTSTART:20260114T060000Z
DTEND:20260114T190000Z
DTSTAMP:20260420T105533Z
UID:69e606259ba50
CATEGORIES:Odpady zmieszane
LOCATION:Henryków Urocze Henryków Urocze, Mazowieckie, PL
ORGANIZER;CN=WGO Gminy Piaseczno:MAILTO:go@piaseczno.eu
DESCRIPTION: Odbiór odpadów 
URL;VALUE=URI:https://odpady.piaseczno.eu/harmonogram-odbioru-odpadow/odbior/henrykow-urocze-szczaki-zlotoklos-runow-wszystkie-adresy-z-wyjatkiem-ul-wypoczynkowej-i-runowskiej/
SUMMARY:Henryków-Urocze\, Runów (tylko Kwitnąca i Dobra 90)\, Szczaki\, Wólka Pracka (tylko ul. Zawadzka)\, Złotokłos - Odpady zmieszane
END:VEVENT
BEGIN:VEVENT
DTSTART:20260128T060000Z
DTEND:20260128T190000Z
DTSTAMP:20260420T105533Z
UID:69e606259ba71
CATEGORIES:Odpady zmieszane
LOCATION:Henryków Urocze Henryków Urocze, Mazowieckie, PL
ORGANIZER;CN=WGO Gminy Piaseczno:MAILTO:go@piaseczno.eu
DESCRIPTION: Odbiór odpadów 
URL;VALUE=URI:https://odpady.piaseczno.eu/harmonogram-odbioru-odpadow/odbior/henrykow-urocze-szczaki-zlotoklos-runow-wszystkie-adresy-z-wyjatkiem-ul-wypoczynkowej-i-runowskiej/
SUMMARY:Henryków-Urocze\, Runów (tylko Kwitnąca i Dobra 90)\, Szczaki\, Wólka Pracka (tylko ul. Zawadzka)\, Złotokłos - Odpady zmieszane
END:VEVENT
BEGIN:VEVENT
DTSTART:20260211T060000Z
DTEND:20260211T190000Z
DTSTAMP:20260420T105533Z
UID:69e606259ba8d
CATEGORIES:Odpady zmieszane
LOCATION:Henryków Urocze Henryków Urocze, Mazowieckie, PL
ORGANIZER;CN=WGO Gminy Piaseczno:MAILTO:go@piaseczno.eu
DESCRIPTION: Odbiór odpadów 
URL;VALUE=URI:https://odpady.piaseczno.eu/harmonogram-odbioru-odpadow/odbior/henrykow-urocze-szczaki-zlotoklos-runow-wszystkie-adresy-z-wyjatkiem-ul-wypoczynkowej-i-runowskiej/
SUMMARY:Henryków-Urocze\, Runów (tylko Kwitnąca i Dobra 90)\, Szczaki\, Wólka Pracka (tylko ul. Zawadzka)\, Złotokłos - Odpady zmieszane
END:VEVENT
BEGIN:VEVENT
DTSTART:20260225T060000Z
DTEND:20260225T190000Z
DTSTAMP:20260420T105533Z
UID:69e606259baa8
CATEGORIES:Odpady zmieszane
LOCATION:Henryków Urocze Henryków Urocze, Mazowieckie, PL
ORGANIZER;CN=WGO Gminy Piaseczno:MAILTO:go@piaseczno.eu
DESCRIPTION: Odbiór odpadów 
URL;VALUE=URI:https://odpady.piaseczno.eu/harmonogram-odbioru-odpadow/odbior/henrykow-urocze-szczaki-zlotoklos-runow-wszystkie-adresy-z-wyjatkiem-ul-wypoczynkowej-i-runowskiej/
SUMMARY:Henryków-Urocze\, Runów (tylko Kwitnąca i Dobra 90)\, Szczaki\, Wólka Pracka (tylko ul. Zawadzka)\, Złotokłos - Odpady zmieszane
END:VEVENT
BEGIN:VEVENT
DTSTART:20260311T060000Z
DTEND:20260311T190000Z
DTSTAMP:20260420T105533Z
UID:69e606259bac2
CATEGORIES:Odpady zmieszane
LOCATION:Henryków Urocze Henryków Urocze, Mazowieckie, PL
ORGANIZER;CN=WGO Gminy Piaseczno:MAILTO:go@piaseczno.eu
DESCRIPTION: Odbiór odpadów 
URL;VALUE=URI:https://odpady.piaseczno.eu/harmonogram-odbioru-odpadow/odbior/henrykow-urocze-szczaki-zlotoklos-runow-wszystkie-adresy-z-wyjatkiem-ul-wypoczynkowej-i-runowskiej/
SUMMARY:Henryków-Urocze\, Runów (tylko Kwitnąca i Dobra 90)\, Szczaki\, Wólka Pracka (tylko ul. Zawadzka)\, Złotokłos - Odpady zmieszane
END:VEVENT
BEGIN:VEVENT
DTSTART:20260325T060000Z
DTEND:20260325T190000Z
DTSTAMP:20260420T105533Z
UID:69e606259badd
CATEGORIES:Odpady zmieszane
LOCATION:Henryków Urocze Henryków Urocze, Mazowieckie, PL
ORGANIZER;CN=WGO Gminy Piaseczno:MAILTO:go@piaseczno.eu
DESCRIPTION: Odbiór odpadów 
URL;VALUE=URI:https://odpady.piaseczno.eu/harmonogram-odbioru-odpadow/odbior/henrykow-urocze-szczaki-zlotoklos-runow-wszystkie-adresy-z-wyjatkiem-ul-wypoczynkowej-i-runowskiej/
SUMMARY:Henryków-Urocze\, Runów (tylko Kwitnąca i Dobra 90)\, Szczaki\, Wólka Pracka (tylko ul. Zawadzka)\, Złotokłos - Odpady zmieszane
END:VEVENT
BEGIN:VEVENT
DTSTART:20260408T060000Z
DTEND:20260408T190000Z
DTSTAMP:20260420T105533Z
UID:69e606259baf7
CATEGORIES:Odpady zmieszane
LOCATION:Henryków Urocze Henryków Urocze, Mazowieckie, PL
ORGANIZER;CN=WGO Gminy Piaseczno:MAILTO:go@piaseczno.eu
DESCRIPTION: Odbiór odpadów 
URL;VALUE=URI:https://odpady.piaseczno.eu/harmonogram-odbioru-odpadow/odbior/henrykow-urocze-szczaki-zlotoklos-runow-wszystkie-adresy-z-wyjatkiem-ul-wypoczynkowej-i-runowskiej/
SUMMARY:Henryków-Urocze\, Runów (tylko Kwitnąca i Dobra 90)\, Szczaki\, Wólka Pracka (tylko ul. Zawadzka)\, Złotokłos - Odpady zmieszane
END:VEVENT
BEGIN:VEVENT
DTSTART:20260422T060000Z
DTEND:20260422T190000Z
DTSTAMP:20260420T105533Z
UID:69e606259bb11
CATEGORIES:Odpady zmieszane
LOCATION:Henryków Urocze Henryków Urocze, Mazowieckie, PL
ORGANIZER;CN=WGO Gminy Piaseczno:MAILTO:go@piaseczno.eu
DESCRIPTION: Odbiór odpadów 
URL;VALUE=URI:https://odpady.piaseczno.eu/harmonogram-odbioru-odpadow/odbior/henrykow-urocze-szczaki-zlotoklos-runow-wszystkie-adresy-z-wyjatkiem-ul-wypoczynkowej-i-runowskiej/
SUMMARY:Henryków-Urocze\, Runów (tylko Kwitnąca i Dobra 90)\, Szczaki\, Wólka Pracka (tylko ul. Zawadzka)\, Złotokłos - Odpady zmieszane
END:VEVENT
BEGIN:VEVENT
DTSTART:20260506T060000Z
DTEND:20260506T190000Z
DTSTAMP:20260420T105533Z
UID:69e606259bb2b
CATEGORIES:Odpady zmieszane
LOCATION:Henryków Urocze Henryków Urocze, Mazowieckie, PL
ORGANIZER;CN=WGO Gminy Piaseczno:MAILTO:go@piaseczno.eu
DESCRIPTION: Odbiór odpadów 
URL;VALUE=URI:https://odpady.piaseczno.eu/harmonogram-odbioru-odpadow/odbior/henrykow-urocze-szczaki-zlotoklos-runow-wszystkie-adresy-z-wyjatkiem-ul-wypoczynkowej-i-runowskiej/
SUMMARY:Henryków-Urocze\, Runów (tylko Kwitnąca i Dobra 90)\, Szczaki\, Wólka Pracka (tylko ul. Zawadzka)\, Złotokłos - Odpady zmieszane
END:VEVENT
BEGIN:VEVENT
DTSTART:20260520T060000Z
DTEND:20260520T190000Z
DTSTAMP:20260420T105533Z
UID:69e606259bb4a
CATEGORIES:Odpady zmieszane
LOCATION:Henryków Urocze Henryków Urocze, Mazowieckie, PL
ORGANIZER;CN=WGO Gminy Piaseczno:MAILTO:go@piaseczno.eu
DESCRIPTION: Odbiór odpadów 
URL;VALUE=URI:https://odpady.piaseczno.eu/harmonogram-odbioru-odpadow/odbior/henrykow-urocze-szczaki-zlotoklos-runow-wszystkie-adresy-z-wyjatkiem-ul-wypoczynkowej-i-runowskiej/
SUMMARY:Henryków-Urocze\, Runów (tylko Kwitnąca i Dobra 90)\, Szczaki\, Wólka Pracka (tylko ul. Zawadzka)\, Złotokłos - Odpady zmieszane
END:VEVENT
BEGIN:VEVENT
DTSTART:20260603T060000Z
DTEND:20260603T190000Z
DTSTAMP:20260420T105533Z
UID:69e606259bb65
CATEGORIES:Odpady zmieszane
LOCATION:Henryków Urocze Henryków Urocze, Mazowieckie, PL
ORGANIZER;CN=WGO Gminy Piaseczno:MAILTO:go@piaseczno.eu
DESCRIPTION: Odbiór odpadów 
URL;VALUE=URI:https://odpady.piaseczno.eu/harmonogram-odbioru-odpadow/odbior/henrykow-urocze-szczaki-zlotoklos-runow-wszystkie-adresy-z-wyjatkiem-ul-wypoczynkowej-i-runowskiej/
SUMMARY:Henryków-Urocze\, Runów (tylko Kwitnąca i Dobra 90)\, Szczaki\, Wólka Pracka (tylko ul. Zawadzka)\, Złotokłos - Odpady zmieszane
END:VEVENT
BEGIN:VEVENT
DTSTART:20260610T060000Z
DTEND:20260610T190000Z
DTSTAMP:20260420T105533Z
UID:69e606259bb7f
CATEGORIES:Odpady zmieszane
LOCATION:Henryków Urocze Henryków Urocze, Mazowieckie, PL
ORGANIZER;CN=WGO Gminy Piaseczno:MAILTO:go@piaseczno.eu
DESCRIPTION: Odbiór odpadów 
URL;VALUE=URI:https://odpady.piaseczno.eu/harmonogram-odbioru-odpadow/odbior/henrykow-urocze-szczaki-zlotoklos-runow-wszystkie-adresy-z-wyjatkiem-ul-wypoczynkowej-i-runowskiej/
SUMMARY:Henryków-Urocze\, Runów (tylko Kwitnąca i Dobra 90)\, Szczaki\, Wólka Pracka (tylko ul. Zawadzka)\, Złotokłos - Odpady zmieszane
END:VEVENT
BEGIN:VEVENT
DTSTART:20260617T060000Z
DTEND:20260617T190000Z
DTSTAMP:20260420T105533Z
UID:69e606259bb99
CATEGORIES:Odpady zmieszane
LOCATION:Henryków Urocze Henryków Urocze, Mazowieckie, PL
ORGANIZER;CN=WGO Gminy Piaseczno:MAILTO:go@piaseczno.eu
DESCRIPTION: Odbiór odpadów 
URL;VALUE=URI:https://odpady.piaseczno.eu/harmonogram-odbioru-odpadow/odbior/henrykow-urocze-szczaki-zlotoklos-runow-wszystkie-adresy-z-wyjatkiem-ul-wypoczynkowej-i-runowskiej/
SUMMARY:Henryków-Urocze\, Runów (tylko Kwitnąca i Dobra 90)\, Szczaki\, Wólka Pracka (tylko ul. Zawadzka)\, Złotokłos - Odpady zmieszane
END:VEVENT
BEGIN:VEVENT
DTSTART:20260624T060000Z
DTEND:20260624T190000Z
DTSTAMP:20260420T105533Z
UID:69e606259bbb3
CATEGORIES:Odpady zmieszane
LOCATION:Henryków Urocze Henryków Urocze, Mazowieckie, PL
ORGANIZER;CN=WGO Gminy Piaseczno:MAILTO:go@piaseczno.eu
DESCRIPTION: Odbiór odpadów 
URL;VALUE=URI:https://odpady.piaseczno.eu/harmonogram-odbioru-odpadow/odbior/henrykow-urocze-szczaki-zlotoklos-runow-wszystkie-adresy-z-wyjatkiem-ul-wypoczynkowej-i-runowskiej/
SUMMARY:Henryków-Urocze\, Runów (tylko Kwitnąca i Dobra 90)\, Szczaki\, Wólka Pracka (tylko ul. Zawadzka)\, Złotokłos - Odpady zmieszane
END:VEVENT
BEGIN:VEVENT
DTSTART:20260701T060000Z
DTEND:20260701T190000Z
DTSTAMP:20260420T105533Z
UID:69e606259bbcd
CATEGORIES:Odpady zmieszane
LOCATION:Henryków Urocze Henryków Urocze, Mazowieckie, PL
ORGANIZER;CN=WGO Gminy Piaseczno:MAILTO:go@piaseczno.eu
DESCRIPTION: Odbiór odpadów 
URL;VALUE=URI:https://odpady.piaseczno.eu/harmonogram-odbioru-odpadow/odbior/henrykow-urocze-szczaki-zlotoklos-runow-wszystkie-adresy-z-wyjatkiem-ul-wypoczynkowej-i-runowskiej/
SUMMARY:Henryków-Urocze\, Runów (tylko Kwitnąca i Dobra 90)\, Szczaki\, Wólka Pracka (tylko ul. Zawadzka)\, Złotokłos - Odpady zmieszane
END:VEVENT
BEGIN:VEVENT
DTSTART:20260708T060000Z
DTEND:20260708T190000Z
DTSTAMP:20260420T105533Z
UID:69e606259bbe7
CATEGORIES:Odpady zmieszane
LOCATION:Henryków Urocze Henryków Urocze, Mazowieckie, PL
ORGANIZER;CN=WGO Gminy Piaseczno:MAILTO:go@piaseczno.eu
DESCRIPTION: Odbiór odpadów 
URL;VALUE=URI:https://odpady.piaseczno.eu/harmonogram-odbioru-odpadow/odbior/henrykow-urocze-szczaki-zlotoklos-runow-wszystkie-adresy-z-wyjatkiem-ul-wypoczynkowej-i-runowskiej/
SUMMARY:Henryków-Urocze\, Runów (tylko Kwitnąca i Dobra 90)\, Szczaki\, Wólka Pracka (tylko ul. Zawadzka)\, Złotokłos - Odpady zmieszane
END:VEVENT
BEGIN:VEVENT
DTSTART:20260715T060000Z
DTEND:20260715T190000Z
DTSTAMP:20260420T105533Z
UID:69e606259bc03
CATEGORIES:Odpady zmieszane
LOCATION:Henryków Urocze Henryków Urocze, Mazowieckie, PL
ORGANIZER;CN=WGO Gminy Piaseczno:MAILTO:go@piaseczno.eu
DESCRIPTION: Odbiór odpadów 
URL;VALUE=URI:https://odpady.piaseczno.eu/harmonogram-odbioru-odpadow/odbior/henrykow-urocze-szczaki-zlotoklos-runow-wszystkie-adresy-z-wyjatkiem-ul-wypoczynkowej-i-runowskiej/
SUMMARY:Henryków-Urocze\, Runów (tylko Kwitnąca i Dobra 90)\, Szczaki\, Wólka Pracka (tylko ul. Zawadzka)\, Złotokłos - Odpady zmieszane
END:VEVENT
BEGIN:VEVENT
DTSTART:20260722T060000Z
DTEND:20260722T190000Z
DTSTAMP:20260420T105533Z
UID:69e606259bc1d
CATEGORIES:Odpady zmieszane
LOCATION:Henryków Urocze Henryków Urocze, Mazowieckie, PL
ORGANIZER;CN=WGO Gminy Piaseczno:MAILTO:go@piaseczno.eu
DESCRIPTION: Odbiór odpadów 
URL;VALUE=URI:https://odpady.piaseczno.eu/harmonogram-odbioru-odpadow/odbior/henrykow-urocze-szczaki-zlotoklos-runow-wszystkie-adresy-z-wyjatkiem-ul-wypoczynkowej-i-runowskiej/
SUMMARY:Henryków-Urocze\, Runów (tylko Kwitnąca i Dobra 90)\, Szczaki\, Wólka Pracka (tylko ul. Zawadzka)\, Złotokłos - Odpady zmieszane
END:VEVENT
BEGIN:VEVENT
DTSTART:20260729T060000Z
DTEND:20260729T190000Z
DTSTAMP:20260420T105533Z
UID:69e606259bc63
CATEGORIES:Odpady zmieszane
LOCATION:Henryków Urocze Henryków Urocze, Mazowieckie, PL
ORGANIZER;CN=WGO Gminy Piaseczno:MAILTO:go@piaseczno.eu
DESCRIPTION: Odbiór odpadów 
URL;VALUE=URI:https://odpady.piaseczno.eu/harmonogram-odbioru-odpadow/odbior/henrykow-urocze-szczaki-zlotoklos-runow-wszystkie-adresy-z-wyjatkiem-ul-wypoczynkowej-i-runowskiej/
SUMMARY:Henryków-Urocze\, Runów (tylko Kwitnąca i Dobra 90)\, Szczaki\, Wólka Pracka (tylko ul. Zawadzka)\, Złotokłos - Odpady zmieszane
END:VEVENT
BEGIN:VEVENT
DTSTART:20260805T060000Z
DTEND:20260805T190000Z
DTSTAMP:20260420T105533Z
UID:69e606259bc7f
CATEGORIES:Odpady zmieszane
LOCATION:Henryków Urocze Henryków Urocze, Mazowieckie, PL
ORGANIZER;CN=WGO Gminy Piaseczno:MAILTO:go@piaseczno.eu
DESCRIPTION: Odbiór odpadów 
URL;VALUE=URI:https://odpady.piaseczno.eu/harmonogram-odbioru-odpadow/odbior/henrykow-urocze-szczaki-zlotoklos-runow-wszystkie-adresy-z-wyjatkiem-ul-wypoczynkowej-i-runowskiej/
SUMMARY:Henryków-Urocze\, Runów (tylko Kwitnąca i Dobra 90)\, Szczaki\, Wólka Pracka (tylko ul. Zawadzka)\, Złotokłos - Odpady zmieszane
END:VEVENT
BEGIN:VEVENT
DTSTART:20260812T060000Z
DTEND:20260812T190000Z
DTSTAMP:20260420T105533Z
UID:69e606259bc9a
CATEGORIES:Odpady zmieszane
LOCATION:Henryków Urocze Henryków Urocze, Mazowieckie, PL
ORGANIZER;CN=WGO Gminy Piaseczno:MAILTO:go@piaseczno.eu
DESCRIPTION: Odbiór odpadów 
URL;VALUE=URI:https://odpady.piaseczno.eu/harmonogram-odbioru-odpadow/odbior/henrykow-urocze-szczaki-zlotoklos-runow-wszystkie-adresy-z-wyjatkiem-ul-wypoczynkowej-i-runowskiej/
SUMMARY:Henryków-Urocze\, Runów (tylko Kwitnąca i Dobra 90)\, Szczaki\, Wólka Pracka (tylko ul. Zawadzka)\, Złotokłos - Odpady zmieszane
END:VEVENT
BEGIN:VEVENT
DTSTART:20260819T060000Z
DTEND:20260819T190000Z
DTSTAMP:20260420T105533Z
UID:69e606259bcb5
CATEGORIES:Odpady zmieszane
LOCATION:Henryków Urocze Henryków Urocze, Mazowieckie, PL
ORGANIZER;CN=WGO Gminy Piaseczno:MAILTO:go@piaseczno.eu
DESCRIPTION: Odbiór odpadów 
URL;VALUE=URI:https://odpady.piaseczno.eu/harmonogram-odbioru-odpadow/odbior/henrykow-urocze-szczaki-zlotoklos-runow-wszystkie-adresy-z-wyjatkiem-ul-wypoczynkowej-i-runowskiej/
SUMMARY:Henryków-Urocze\, Runów (tylko Kwitnąca i Dobra 90)\, Szczaki\, Wólka Pracka (tylko ul. Zawadzka)\, Złotokłos - Odpady zmieszane
END:VEVENT
BEGIN:VEVENT
DTSTART:20260826T060000Z
DTEND:20260826T190000Z
DTSTAMP:20260420T105533Z
UID:69e606259bcd0
CATEGORIES:Odpady zmieszane
LOCATION:Henryków Urocze Henryków Urocze, Mazowieckie, PL
ORGANIZER;CN=WGO Gminy Piaseczno:MAILTO:go@piaseczno.eu
DESCRIPTION: Odbiór odpadów 
URL;VALUE=URI:https://odpady.piaseczno.eu/harmonogram-odbioru-odpadow/odbior/henrykow-urocze-szczaki-zlotoklos-runow-wszystkie-adresy-z-wyjatkiem-ul-wypoczynkowej-i-runowskiej/
SUMMARY:Henryków-Urocze\, Runów (tylko Kwitnąca i Dobra 90)\, Szczaki\, Wólka Pracka (tylko ul. Zawadzka)\, Złotokłos - Odpady zmieszane
END:VEVENT
BEGIN:VEVENT
DTSTART:20260909T060000Z
DTEND:20260909T190000Z
DTSTAMP:20260420T105533Z
UID:69e606259bcf0
CATEGORIES:Odpady zmieszane
LOCATION:Henryków Urocze Henryków Urocze, Mazowieckie, PL
ORGANIZER;CN=WGO Gminy Piaseczno:MAILTO:go@piaseczno.eu
DESCRIPTION: Odbiór odpadów 
URL;VALUE=URI:https://odpady.piaseczno.eu/harmonogram-odbioru-odpadow/odbior/henrykow-urocze-szczaki-zlotoklos-runow-wszystkie-adresy-z-wyjatkiem-ul-wypoczynkowej-i-runowskiej/
SUMMARY:Henryków-Urocze\, Runów (tylko Kwitnąca i Dobra 90)\, Szczaki\, Wólka Pracka (tylko ul. Zawadzka)\, Złotokłos - Odpady zmieszane
END:VEVENT
BEGIN:VEVENT
DTSTART:20260923T060000Z
DTEND:20260923T190000Z
DTSTAMP:20260420T105533Z
UID:69e606259bd0b
CATEGORIES:Odpady zmieszane
LOCATION:Henryków Urocze Henryków Urocze, Mazowieckie, PL
ORGANIZER;CN=WGO Gminy Piaseczno:MAILTO:go@piaseczno.eu
DESCRIPTION: Odbiór odpadów 
URL;VALUE=URI:https://odpady.piaseczno.eu/harmonogram-odbioru-odpadow/odbior/henrykow-urocze-szczaki-zlotoklos-runow-wszystkie-adresy-z-wyjatkiem-ul-wypoczynkowej-i-runowskiej/
SUMMARY:Henryków-Urocze\, Runów (tylko Kwitnąca i Dobra 90)\, Szczaki\, Wólka Pracka (tylko ul. Zawadzka)\, Złotokłos - Odpady zmieszane
END:VEVENT
BEGIN:VEVENT
DTSTART:20261007T060000Z
DTEND:20261007T190000Z
DTSTAMP:20260420T105533Z
UID:69e606259bd25
CATEGORIES:Odpady zmieszane
LOCATION:Henryków Urocze Henryków Urocze, Mazowieckie, PL
ORGANIZER;CN=WGO Gminy Piaseczno:MAILTO:go@piaseczno.eu
DESCRIPTION: Odbiór odpadów 
URL;VALUE=URI:https://odpady.piaseczno.eu/harmonogram-odbioru-odpadow/odbior/henrykow-urocze-szczaki-zlotoklos-runow-wszystkie-adresy-z-wyjatkiem-ul-wypoczynkowej-i-runowskiej/
SUMMARY:Henryków-Urocze\, Runów (tylko Kwitnąca i Dobra 90)\, Szczaki\, Wólka Pracka (tylko ul. Zawadzka)\, Złotokłos - Odpady zmieszane
END:VEVENT
BEGIN:VEVENT
DTSTART:20261021T060000Z
DTEND:20261021T190000Z
DTSTAMP:20260420T105533Z
UID:69e606259bd40
CATEGORIES:Odpady zmieszane
LOCATION:Henryków Urocze Henryków Urocze, Mazowieckie, PL
ORGANIZER;CN=WGO Gminy Piaseczno:MAILTO:go@piaseczno.eu
DESCRIPTION: Odbiór odpadów 
URL;VALUE=URI:https://odpady.piaseczno.eu/harmonogram-odbioru-odpadow/odbior/henrykow-urocze-szczaki-zlotoklos-runow-wszystkie-adresy-z-wyjatkiem-ul-wypoczynkowej-i-runowskiej/
SUMMARY:Henryków-Urocze\, Runów (tylko Kwitnąca i Dobra 90)\, Szczaki\, Wólka Pracka (tylko ul. Zawadzka)\, Złotokłos - Odpady zmieszane
END:VEVENT
BEGIN:VEVENT
DTSTART:20261104T060000Z
DTEND:20261104T190000Z
DTSTAMP:20260420T105533Z
UID:69e606259bd5a
CATEGORIES:Odpady zmieszane
LOCATION:Henryków Urocze Henryków Urocze, Mazowieckie, PL
ORGANIZER;CN=WGO Gminy Piaseczno:MAILTO:go@piaseczno.eu
DESCRIPTION: Odbiór odpadów 
URL;VALUE=URI:https://odpady.piaseczno.eu/harmonogram-odbioru-odpadow/odbior/henrykow-urocze-szczaki-zlotoklos-runow-wszystkie-adresy-z-wyjatkiem-ul-wypoczynkowej-i-runowskiej/
SUMMARY:Henryków-Urocze\, Runów (tylko Kwitnąca i Dobra 90)\, Szczaki\, Wólka Pracka (tylko ul. Zawadzka)\, Złotokłos - Odpady zmieszane
END:VEVENT
BEGIN:VEVENT
DTSTART:20261118T060000Z
DTEND:20261118T190000Z
DTSTAMP:20260420T105533Z
UID:69e606259bd74
CATEGORIES:Odpady zmieszane
LOCATION:Henryków Urocze Henryków Urocze, Mazowieckie, PL
ORGANIZER;CN=WGO Gminy Piaseczno:MAILTO:go@piaseczno.eu
DESCRIPTION: Odbiór odpadów 
URL;VALUE=URI:https://odpady.piaseczno.eu/harmonogram-odbioru-odpadow/odbior/henrykow-urocze-szczaki-zlotoklos-runow-wszystkie-adresy-z-wyjatkiem-ul-wypoczynkowej-i-runowskiej/
SUMMARY:Henryków-Urocze\, Runów (tylko Kwitnąca i Dobra 90)\, Szczaki\, Wólka Pracka (tylko ul. Zawadzka)\, Złotokłos - Odpady zmieszane
END:VEVENT
END:VCALENDAR
