BEGIN:VCALENDAR
VERSION:2.0
PRODID:-//DIGITAL FACTORY//EVENTS MAKER V1.6.12//EN
CALSCALE:GREGORIAN
METHOD:PUBLISH
BEGIN:VEVENT
DTSTART:20251128T060000Z
DTEND:20251128T190000Z
DTSTAMP:20260423T124635Z
UID:69ea14ab39b0e
CATEGORIES:Odpady segregowane - szkło
LOCATION:Henryków Urocze Henryków Urocze, Mazowieckie, PL
ORGANIZER;CN=WGO Gminy Piaseczno:MAILTO:go@piaseczno.eu
DESCRIPTION: Odbiór odpadów 
URL;VALUE=URI:https://odpady.piaseczno.eu/harmonogram-odbioru-odpadow/odbior/henrykow-urocze-szczaki-zlotoklos-runow-wszystkie-adresy-z-wyjatkiem-ul-wypoczynkowej-i-runowskiej-3/
SUMMARY:Henryków Urocze\, Runów (tylko ul. Kwitnąca i Dobra 90)\, Szczaki\, Wólka Pracka (tylko ul. Zawadzka)\, Złotokłos - szkło
END:VEVENT
BEGIN:VEVENT
DTSTART:20251227T060000Z
DTEND:20251227T190000Z
DTSTAMP:20260423T124635Z
UID:69ea14ab39b87
CATEGORIES:Odpady segregowane - szkło
LOCATION:Henryków Urocze Henryków Urocze, Mazowieckie, PL
ORGANIZER;CN=WGO Gminy Piaseczno:MAILTO:go@piaseczno.eu
DESCRIPTION: Odbiór odpadów 
URL;VALUE=URI:https://odpady.piaseczno.eu/harmonogram-odbioru-odpadow/odbior/henrykow-urocze-szczaki-zlotoklos-runow-wszystkie-adresy-z-wyjatkiem-ul-wypoczynkowej-i-runowskiej-3/
SUMMARY:Henryków Urocze\, Runów (tylko ul. Kwitnąca i Dobra 90)\, Szczaki\, Wólka Pracka (tylko ul. Zawadzka)\, Złotokłos - szkło
END:VEVENT
BEGIN:VEVENT
DTSTART:20260123T060000Z
DTEND:20260123T190000Z
DTSTAMP:20260423T124635Z
UID:69ea14ab39bb0
CATEGORIES:Odpady segregowane - szkło
LOCATION:Henryków Urocze Henryków Urocze, Mazowieckie, PL
ORGANIZER;CN=WGO Gminy Piaseczno:MAILTO:go@piaseczno.eu
DESCRIPTION: Odbiór odpadów 
URL;VALUE=URI:https://odpady.piaseczno.eu/harmonogram-odbioru-odpadow/odbior/henrykow-urocze-szczaki-zlotoklos-runow-wszystkie-adresy-z-wyjatkiem-ul-wypoczynkowej-i-runowskiej-3/
SUMMARY:Henryków Urocze\, Runów (tylko ul. Kwitnąca i Dobra 90)\, Szczaki\, Wólka Pracka (tylko ul. Zawadzka)\, Złotokłos - szkło
END:VEVENT
BEGIN:VEVENT
DTSTART:20260220T060000Z
DTEND:20260220T190000Z
DTSTAMP:20260423T124635Z
UID:69ea14ab39bd2
CATEGORIES:Odpady segregowane - szkło
LOCATION:Henryków Urocze Henryków Urocze, Mazowieckie, PL
ORGANIZER;CN=WGO Gminy Piaseczno:MAILTO:go@piaseczno.eu
DESCRIPTION: Odbiór odpadów 
URL;VALUE=URI:https://odpady.piaseczno.eu/harmonogram-odbioru-odpadow/odbior/henrykow-urocze-szczaki-zlotoklos-runow-wszystkie-adresy-z-wyjatkiem-ul-wypoczynkowej-i-runowskiej-3/
SUMMARY:Henryków Urocze\, Runów (tylko ul. Kwitnąca i Dobra 90)\, Szczaki\, Wólka Pracka (tylko ul. Zawadzka)\, Złotokłos - szkło
END:VEVENT
BEGIN:VEVENT
DTSTART:20260320T060000Z
DTEND:20260320T190000Z
DTSTAMP:20260423T124635Z
UID:69ea14ab39bef
CATEGORIES:Odpady segregowane - szkło
LOCATION:Henryków Urocze Henryków Urocze, Mazowieckie, PL
ORGANIZER;CN=WGO Gminy Piaseczno:MAILTO:go@piaseczno.eu
DESCRIPTION: Odbiór odpadów 
URL;VALUE=URI:https://odpady.piaseczno.eu/harmonogram-odbioru-odpadow/odbior/henrykow-urocze-szczaki-zlotoklos-runow-wszystkie-adresy-z-wyjatkiem-ul-wypoczynkowej-i-runowskiej-3/
SUMMARY:Henryków Urocze\, Runów (tylko ul. Kwitnąca i Dobra 90)\, Szczaki\, Wólka Pracka (tylko ul. Zawadzka)\, Złotokłos - szkło
END:VEVENT
BEGIN:VEVENT
DTSTART:20260417T060000Z
DTEND:20260417T190000Z
DTSTAMP:20260423T124635Z
UID:69ea14ab39c0c
CATEGORIES:Odpady segregowane - szkło
LOCATION:Henryków Urocze Henryków Urocze, Mazowieckie, PL
ORGANIZER;CN=WGO Gminy Piaseczno:MAILTO:go@piaseczno.eu
DESCRIPTION: Odbiór odpadów 
URL;VALUE=URI:https://odpady.piaseczno.eu/harmonogram-odbioru-odpadow/odbior/henrykow-urocze-szczaki-zlotoklos-runow-wszystkie-adresy-z-wyjatkiem-ul-wypoczynkowej-i-runowskiej-3/
SUMMARY:Henryków Urocze\, Runów (tylko ul. Kwitnąca i Dobra 90)\, Szczaki\, Wólka Pracka (tylko ul. Zawadzka)\, Złotokłos - szkło
END:VEVENT
BEGIN:VEVENT
DTSTART:20260515T060000Z
DTEND:20260515T190000Z
DTSTAMP:20260423T124635Z
UID:69ea14ab39c27
CATEGORIES:Odpady segregowane - szkło
LOCATION:Henryków Urocze Henryków Urocze, Mazowieckie, PL
ORGANIZER;CN=WGO Gminy Piaseczno:MAILTO:go@piaseczno.eu
DESCRIPTION: Odbiór odpadów 
URL;VALUE=URI:https://odpady.piaseczno.eu/harmonogram-odbioru-odpadow/odbior/henrykow-urocze-szczaki-zlotoklos-runow-wszystkie-adresy-z-wyjatkiem-ul-wypoczynkowej-i-runowskiej-3/
SUMMARY:Henryków Urocze\, Runów (tylko ul. Kwitnąca i Dobra 90)\, Szczaki\, Wólka Pracka (tylko ul. Zawadzka)\, Złotokłos - szkło
END:VEVENT
BEGIN:VEVENT
DTSTART:20260612T060000Z
DTEND:20260612T190000Z
DTSTAMP:20260423T124635Z
UID:69ea14ab39c49
CATEGORIES:Odpady segregowane - szkło
LOCATION:Henryków Urocze Henryków Urocze, Mazowieckie, PL
ORGANIZER;CN=WGO Gminy Piaseczno:MAILTO:go@piaseczno.eu
DESCRIPTION: Odbiór odpadów 
URL;VALUE=URI:https://odpady.piaseczno.eu/harmonogram-odbioru-odpadow/odbior/henrykow-urocze-szczaki-zlotoklos-runow-wszystkie-adresy-z-wyjatkiem-ul-wypoczynkowej-i-runowskiej-3/
SUMMARY:Henryków Urocze\, Runów (tylko ul. Kwitnąca i Dobra 90)\, Szczaki\, Wólka Pracka (tylko ul. Zawadzka)\, Złotokłos - szkło
END:VEVENT
BEGIN:VEVENT
DTSTART:20260710T060000Z
DTEND:20260710T190000Z
DTSTAMP:20260423T124635Z
UID:69ea14ab39c64
CATEGORIES:Odpady segregowane - szkło
LOCATION:Henryków Urocze Henryków Urocze, Mazowieckie, PL
ORGANIZER;CN=WGO Gminy Piaseczno:MAILTO:go@piaseczno.eu
DESCRIPTION: Odbiór odpadów 
URL;VALUE=URI:https://odpady.piaseczno.eu/harmonogram-odbioru-odpadow/odbior/henrykow-urocze-szczaki-zlotoklos-runow-wszystkie-adresy-z-wyjatkiem-ul-wypoczynkowej-i-runowskiej-3/
SUMMARY:Henryków Urocze\, Runów (tylko ul. Kwitnąca i Dobra 90)\, Szczaki\, Wólka Pracka (tylko ul. Zawadzka)\, Złotokłos - szkło
END:VEVENT
BEGIN:VEVENT
DTSTART:20260807T060000Z
DTEND:20260807T190000Z
DTSTAMP:20260423T124635Z
UID:69ea14ab39c7f
CATEGORIES:Odpady segregowane - szkło
LOCATION:Henryków Urocze Henryków Urocze, Mazowieckie, PL
ORGANIZER;CN=WGO Gminy Piaseczno:MAILTO:go@piaseczno.eu
DESCRIPTION: Odbiór odpadów 
URL;VALUE=URI:https://odpady.piaseczno.eu/harmonogram-odbioru-odpadow/odbior/henrykow-urocze-szczaki-zlotoklos-runow-wszystkie-adresy-z-wyjatkiem-ul-wypoczynkowej-i-runowskiej-3/
SUMMARY:Henryków Urocze\, Runów (tylko ul. Kwitnąca i Dobra 90)\, Szczaki\, Wólka Pracka (tylko ul. Zawadzka)\, Złotokłos - szkło
END:VEVENT
BEGIN:VEVENT
DTSTART:20260904T060000Z
DTEND:20260904T190000Z
DTSTAMP:20260423T124635Z
UID:69ea14ab39c99
CATEGORIES:Odpady segregowane - szkło
LOCATION:Henryków Urocze Henryków Urocze, Mazowieckie, PL
ORGANIZER;CN=WGO Gminy Piaseczno:MAILTO:go@piaseczno.eu
DESCRIPTION: Odbiór odpadów 
URL;VALUE=URI:https://odpady.piaseczno.eu/harmonogram-odbioru-odpadow/odbior/henrykow-urocze-szczaki-zlotoklos-runow-wszystkie-adresy-z-wyjatkiem-ul-wypoczynkowej-i-runowskiej-3/
SUMMARY:Henryków Urocze\, Runów (tylko ul. Kwitnąca i Dobra 90)\, Szczaki\, Wólka Pracka (tylko ul. Zawadzka)\, Złotokłos - szkło
END:VEVENT
BEGIN:VEVENT
DTSTART:20261002T060000Z
DTEND:20261002T190000Z
DTSTAMP:20260423T124635Z
UID:69ea14ab39cb3
CATEGORIES:Odpady segregowane - szkło
LOCATION:Henryków Urocze Henryków Urocze, Mazowieckie, PL
ORGANIZER;CN=WGO Gminy Piaseczno:MAILTO:go@piaseczno.eu
DESCRIPTION: Odbiór odpadów 
URL;VALUE=URI:https://odpady.piaseczno.eu/harmonogram-odbioru-odpadow/odbior/henrykow-urocze-szczaki-zlotoklos-runow-wszystkie-adresy-z-wyjatkiem-ul-wypoczynkowej-i-runowskiej-3/
SUMMARY:Henryków Urocze\, Runów (tylko ul. Kwitnąca i Dobra 90)\, Szczaki\, Wólka Pracka (tylko ul. Zawadzka)\, Złotokłos - szkło
END:VEVENT
BEGIN:VEVENT
DTSTART:20261030T060000Z
DTEND:20261030T190000Z
DTSTAMP:20260423T124635Z
UID:69ea14ab39cce
CATEGORIES:Odpady segregowane - szkło
LOCATION:Henryków Urocze Henryków Urocze, Mazowieckie, PL
ORGANIZER;CN=WGO Gminy Piaseczno:MAILTO:go@piaseczno.eu
DESCRIPTION: Odbiór odpadów 
URL;VALUE=URI:https://odpady.piaseczno.eu/harmonogram-odbioru-odpadow/odbior/henrykow-urocze-szczaki-zlotoklos-runow-wszystkie-adresy-z-wyjatkiem-ul-wypoczynkowej-i-runowskiej-3/
SUMMARY:Henryków Urocze\, Runów (tylko ul. Kwitnąca i Dobra 90)\, Szczaki\, Wólka Pracka (tylko ul. Zawadzka)\, Złotokłos - szkło
END:VEVENT
BEGIN:VEVENT
DTSTART:20261127T060000Z
DTEND:20261127T190000Z
DTSTAMP:20260423T124635Z
UID:69ea14ab39cfb
CATEGORIES:Odpady segregowane - szkło
LOCATION:Henryków Urocze Henryków Urocze, Mazowieckie, PL
ORGANIZER;CN=WGO Gminy Piaseczno:MAILTO:go@piaseczno.eu
DESCRIPTION: Odbiór odpadów 
URL;VALUE=URI:https://odpady.piaseczno.eu/harmonogram-odbioru-odpadow/odbior/henrykow-urocze-szczaki-zlotoklos-runow-wszystkie-adresy-z-wyjatkiem-ul-wypoczynkowej-i-runowskiej-3/
SUMMARY:Henryków Urocze\, Runów (tylko ul. Kwitnąca i Dobra 90)\, Szczaki\, Wólka Pracka (tylko ul. Zawadzka)\, Złotokłos - szkło
END:VEVENT
END:VCALENDAR
