BEGIN:VCALENDAR
VERSION:2.0
PRODID:-//DIGITAL FACTORY//EVENTS MAKER V1.6.12//EN
CALSCALE:GREGORIAN
METHOD:PUBLISH
BEGIN:VEVENT
DTSTART:20260105T060000Z
DTEND:20260105T190000Z
DTSTAMP:20260424T083104Z
UID:69eb2a481dfa7
CATEGORIES:Odbiór choinek
LOCATION:Gołków ulice: Bohuna, Gołkowska (nr od 1 do 17a), Hajduczka, Ketlinga, O. Bilewiczówny, Soroki, Szaniec, Trylogii. Gołków, Mazowieckie, PL
ORGANIZER;CN=WGO Gminy Piaseczno:MAILTO:go@piaseczno.eu
DESCRIPTION: Odbiór odpadów 
URL;VALUE=URI:https://odpady.piaseczno.eu/harmonogram-odbioru-odpadow/odbior/golkow-iii-piaseczno-ii-wolka-kozodawska-choinki/
SUMMARY:SEKTOR I - Piaseczno (od ul. 11 Listopada do ul. Zagłoby)\, Gołków (Bohuna\, Gołkowska (1 do 17a)\, Hajduczka\, Ketlinga\, Biliewiczówny\, Soroki\, Szaniec\, Trylogii)\, Wólka Kozodawska (ulice: Gromadzka\, Bukietowa) - Choinki
END:VEVENT
BEGIN:VEVENT
DTSTART:20260203T060000Z
DTEND:20260203T190000Z
DTSTAMP:20260424T083104Z
UID:69eb2a481e04d
CATEGORIES:Odbiór choinek
LOCATION:Gołków ulice: Bohuna, Gołkowska (nr od 1 do 17a), Hajduczka, Ketlinga, O. Bilewiczówny, Soroki, Szaniec, Trylogii. Gołków, Mazowieckie, PL
ORGANIZER;CN=WGO Gminy Piaseczno:MAILTO:go@piaseczno.eu
DESCRIPTION: Odbiór odpadów 
URL;VALUE=URI:https://odpady.piaseczno.eu/harmonogram-odbioru-odpadow/odbior/golkow-iii-piaseczno-ii-wolka-kozodawska-choinki/
SUMMARY:SEKTOR I - Piaseczno (od ul. 11 Listopada do ul. Zagłoby)\, Gołków (Bohuna\, Gołkowska (1 do 17a)\, Hajduczka\, Ketlinga\, Biliewiczówny\, Soroki\, Szaniec\, Trylogii)\, Wólka Kozodawska (ulice: Gromadzka\, Bukietowa) - Choinki
END:VEVENT
END:VCALENDAR
