BEGIN:VCALENDAR
VERSION:2.0
PRODID:-//DIGITAL FACTORY//EVENTS MAKER V1.6.12//EN
CALSCALE:GREGORIAN
METHOD:PUBLISH
BEGIN:VEVENT
DTSTART:20251124T060000Z
DTEND:20251124T190000Z
DTSTAMP:20260422T093310Z
UID:69e895d660482
CATEGORIES:odpady segregowane - papier
LOCATION:Gołków ulice: Bohuna, Gołkowska (nr od 1 do 17a), Hajduczka, Ketlinga, O. Bilewiczówny, Soroki, Szaniec, Trylogii. Gołków, Mazowieckie, PL
ORGANIZER;CN=WGO Gminy Piaseczno:MAILTO:go@piaseczno.eu
DESCRIPTION: Odbiór odpadów 
URL;VALUE=URI:https://odpady.piaseczno.eu/harmonogram-odbioru-odpadow/odbior/golkow-ii-piaseczno-sektor-i-wolka-kozodawska-ulice-bukietowa-gromadzka-papier/
SUMMARY:SEKTOR I – Piaseczno (od ul. 11 Listopada do ul. Zagłoby)\, Gołków (Bohuna\, Gołkowska (1 do 17a)\, Hajduczka\, Ketlinga\, Biliewiczówny\, Soroki\, Szaniec\, Trylogii)\, Wólka Kozodawska (ulice: Gromadzka\, Bukietowa)- papier
END:VEVENT
BEGIN:VEVENT
DTSTART:20251220T060000Z
DTEND:20251220T190000Z
DTSTAMP:20260422T093310Z
UID:69e895d660529
CATEGORIES:odpady segregowane - papier
LOCATION:Gołków ulice: Bohuna, Gołkowska (nr od 1 do 17a), Hajduczka, Ketlinga, O. Bilewiczówny, Soroki, Szaniec, Trylogii. Gołków, Mazowieckie, PL
ORGANIZER;CN=WGO Gminy Piaseczno:MAILTO:go@piaseczno.eu
DESCRIPTION: Odbiór odpadów 
URL;VALUE=URI:https://odpady.piaseczno.eu/harmonogram-odbioru-odpadow/odbior/golkow-ii-piaseczno-sektor-i-wolka-kozodawska-ulice-bukietowa-gromadzka-papier/
SUMMARY:SEKTOR I – Piaseczno (od ul. 11 Listopada do ul. Zagłoby)\, Gołków (Bohuna\, Gołkowska (1 do 17a)\, Hajduczka\, Ketlinga\, Biliewiczówny\, Soroki\, Szaniec\, Trylogii)\, Wólka Kozodawska (ulice: Gromadzka\, Bukietowa)- papier
END:VEVENT
BEGIN:VEVENT
DTSTART:20260119T060000Z
DTEND:20260119T190000Z
DTSTAMP:20260422T093310Z
UID:69e895d660555
CATEGORIES:odpady segregowane - papier
LOCATION:Gołków ulice: Bohuna, Gołkowska (nr od 1 do 17a), Hajduczka, Ketlinga, O. Bilewiczówny, Soroki, Szaniec, Trylogii. Gołków, Mazowieckie, PL
ORGANIZER;CN=WGO Gminy Piaseczno:MAILTO:go@piaseczno.eu
DESCRIPTION: Odbiór odpadów 
URL;VALUE=URI:https://odpady.piaseczno.eu/harmonogram-odbioru-odpadow/odbior/golkow-ii-piaseczno-sektor-i-wolka-kozodawska-ulice-bukietowa-gromadzka-papier/
SUMMARY:SEKTOR I – Piaseczno (od ul. 11 Listopada do ul. Zagłoby)\, Gołków (Bohuna\, Gołkowska (1 do 17a)\, Hajduczka\, Ketlinga\, Biliewiczówny\, Soroki\, Szaniec\, Trylogii)\, Wólka Kozodawska (ulice: Gromadzka\, Bukietowa)- papier
END:VEVENT
BEGIN:VEVENT
DTSTART:20260216T060000Z
DTEND:20260216T190000Z
DTSTAMP:20260422T093310Z
UID:69e895d660577
CATEGORIES:odpady segregowane - papier
LOCATION:Gołków ulice: Bohuna, Gołkowska (nr od 1 do 17a), Hajduczka, Ketlinga, O. Bilewiczówny, Soroki, Szaniec, Trylogii. Gołków, Mazowieckie, PL
ORGANIZER;CN=WGO Gminy Piaseczno:MAILTO:go@piaseczno.eu
DESCRIPTION: Odbiór odpadów 
URL;VALUE=URI:https://odpady.piaseczno.eu/harmonogram-odbioru-odpadow/odbior/golkow-ii-piaseczno-sektor-i-wolka-kozodawska-ulice-bukietowa-gromadzka-papier/
SUMMARY:SEKTOR I – Piaseczno (od ul. 11 Listopada do ul. Zagłoby)\, Gołków (Bohuna\, Gołkowska (1 do 17a)\, Hajduczka\, Ketlinga\, Biliewiczówny\, Soroki\, Szaniec\, Trylogii)\, Wólka Kozodawska (ulice: Gromadzka\, Bukietowa)- papier
END:VEVENT
BEGIN:VEVENT
DTSTART:20260316T060000Z
DTEND:20260316T190000Z
DTSTAMP:20260422T093310Z
UID:69e895d660596
CATEGORIES:odpady segregowane - papier
LOCATION:Gołków ulice: Bohuna, Gołkowska (nr od 1 do 17a), Hajduczka, Ketlinga, O. Bilewiczówny, Soroki, Szaniec, Trylogii. Gołków, Mazowieckie, PL
ORGANIZER;CN=WGO Gminy Piaseczno:MAILTO:go@piaseczno.eu
DESCRIPTION: Odbiór odpadów 
URL;VALUE=URI:https://odpady.piaseczno.eu/harmonogram-odbioru-odpadow/odbior/golkow-ii-piaseczno-sektor-i-wolka-kozodawska-ulice-bukietowa-gromadzka-papier/
SUMMARY:SEKTOR I – Piaseczno (od ul. 11 Listopada do ul. Zagłoby)\, Gołków (Bohuna\, Gołkowska (1 do 17a)\, Hajduczka\, Ketlinga\, Biliewiczówny\, Soroki\, Szaniec\, Trylogii)\, Wólka Kozodawska (ulice: Gromadzka\, Bukietowa)- papier
END:VEVENT
BEGIN:VEVENT
DTSTART:20260413T060000Z
DTEND:20260413T190000Z
DTSTAMP:20260422T093310Z
UID:69e895d6605b7
CATEGORIES:odpady segregowane - papier
LOCATION:Gołków ulice: Bohuna, Gołkowska (nr od 1 do 17a), Hajduczka, Ketlinga, O. Bilewiczówny, Soroki, Szaniec, Trylogii. Gołków, Mazowieckie, PL
ORGANIZER;CN=WGO Gminy Piaseczno:MAILTO:go@piaseczno.eu
DESCRIPTION: Odbiór odpadów 
URL;VALUE=URI:https://odpady.piaseczno.eu/harmonogram-odbioru-odpadow/odbior/golkow-ii-piaseczno-sektor-i-wolka-kozodawska-ulice-bukietowa-gromadzka-papier/
SUMMARY:SEKTOR I – Piaseczno (od ul. 11 Listopada do ul. Zagłoby)\, Gołków (Bohuna\, Gołkowska (1 do 17a)\, Hajduczka\, Ketlinga\, Biliewiczówny\, Soroki\, Szaniec\, Trylogii)\, Wólka Kozodawska (ulice: Gromadzka\, Bukietowa)- papier
END:VEVENT
BEGIN:VEVENT
DTSTART:20260511T060000Z
DTEND:20260511T190000Z
DTSTAMP:20260422T093310Z
UID:69e895d6605d5
CATEGORIES:odpady segregowane - papier
LOCATION:Gołków ulice: Bohuna, Gołkowska (nr od 1 do 17a), Hajduczka, Ketlinga, O. Bilewiczówny, Soroki, Szaniec, Trylogii. Gołków, Mazowieckie, PL
ORGANIZER;CN=WGO Gminy Piaseczno:MAILTO:go@piaseczno.eu
DESCRIPTION: Odbiór odpadów 
URL;VALUE=URI:https://odpady.piaseczno.eu/harmonogram-odbioru-odpadow/odbior/golkow-ii-piaseczno-sektor-i-wolka-kozodawska-ulice-bukietowa-gromadzka-papier/
SUMMARY:SEKTOR I – Piaseczno (od ul. 11 Listopada do ul. Zagłoby)\, Gołków (Bohuna\, Gołkowska (1 do 17a)\, Hajduczka\, Ketlinga\, Biliewiczówny\, Soroki\, Szaniec\, Trylogii)\, Wólka Kozodawska (ulice: Gromadzka\, Bukietowa)- papier
END:VEVENT
BEGIN:VEVENT
DTSTART:20260608T060000Z
DTEND:20260608T190000Z
DTSTAMP:20260422T093310Z
UID:69e895d6605f1
CATEGORIES:odpady segregowane - papier
LOCATION:Gołków ulice: Bohuna, Gołkowska (nr od 1 do 17a), Hajduczka, Ketlinga, O. Bilewiczówny, Soroki, Szaniec, Trylogii. Gołków, Mazowieckie, PL
ORGANIZER;CN=WGO Gminy Piaseczno:MAILTO:go@piaseczno.eu
DESCRIPTION: Odbiór odpadów 
URL;VALUE=URI:https://odpady.piaseczno.eu/harmonogram-odbioru-odpadow/odbior/golkow-ii-piaseczno-sektor-i-wolka-kozodawska-ulice-bukietowa-gromadzka-papier/
SUMMARY:SEKTOR I – Piaseczno (od ul. 11 Listopada do ul. Zagłoby)\, Gołków (Bohuna\, Gołkowska (1 do 17a)\, Hajduczka\, Ketlinga\, Biliewiczówny\, Soroki\, Szaniec\, Trylogii)\, Wólka Kozodawska (ulice: Gromadzka\, Bukietowa)- papier
END:VEVENT
BEGIN:VEVENT
DTSTART:20260706T060000Z
DTEND:20260706T190000Z
DTSTAMP:20260422T093310Z
UID:69e895d66060d
CATEGORIES:odpady segregowane - papier
LOCATION:Gołków ulice: Bohuna, Gołkowska (nr od 1 do 17a), Hajduczka, Ketlinga, O. Bilewiczówny, Soroki, Szaniec, Trylogii. Gołków, Mazowieckie, PL
ORGANIZER;CN=WGO Gminy Piaseczno:MAILTO:go@piaseczno.eu
DESCRIPTION: Odbiór odpadów 
URL;VALUE=URI:https://odpady.piaseczno.eu/harmonogram-odbioru-odpadow/odbior/golkow-ii-piaseczno-sektor-i-wolka-kozodawska-ulice-bukietowa-gromadzka-papier/
SUMMARY:SEKTOR I – Piaseczno (od ul. 11 Listopada do ul. Zagłoby)\, Gołków (Bohuna\, Gołkowska (1 do 17a)\, Hajduczka\, Ketlinga\, Biliewiczówny\, Soroki\, Szaniec\, Trylogii)\, Wólka Kozodawska (ulice: Gromadzka\, Bukietowa)- papier
END:VEVENT
BEGIN:VEVENT
DTSTART:20260803T060000Z
DTEND:20260803T190000Z
DTSTAMP:20260422T093310Z
UID:69e895d660628
CATEGORIES:odpady segregowane - papier
LOCATION:Gołków ulice: Bohuna, Gołkowska (nr od 1 do 17a), Hajduczka, Ketlinga, O. Bilewiczówny, Soroki, Szaniec, Trylogii. Gołków, Mazowieckie, PL
ORGANIZER;CN=WGO Gminy Piaseczno:MAILTO:go@piaseczno.eu
DESCRIPTION: Odbiór odpadów 
URL;VALUE=URI:https://odpady.piaseczno.eu/harmonogram-odbioru-odpadow/odbior/golkow-ii-piaseczno-sektor-i-wolka-kozodawska-ulice-bukietowa-gromadzka-papier/
SUMMARY:SEKTOR I – Piaseczno (od ul. 11 Listopada do ul. Zagłoby)\, Gołków (Bohuna\, Gołkowska (1 do 17a)\, Hajduczka\, Ketlinga\, Biliewiczówny\, Soroki\, Szaniec\, Trylogii)\, Wólka Kozodawska (ulice: Gromadzka\, Bukietowa)- papier
END:VEVENT
BEGIN:VEVENT
DTSTART:20260831T060000Z
DTEND:20260831T190000Z
DTSTAMP:20260422T093310Z
UID:69e895d660644
CATEGORIES:odpady segregowane - papier
LOCATION:Gołków ulice: Bohuna, Gołkowska (nr od 1 do 17a), Hajduczka, Ketlinga, O. Bilewiczówny, Soroki, Szaniec, Trylogii. Gołków, Mazowieckie, PL
ORGANIZER;CN=WGO Gminy Piaseczno:MAILTO:go@piaseczno.eu
DESCRIPTION: Odbiór odpadów 
URL;VALUE=URI:https://odpady.piaseczno.eu/harmonogram-odbioru-odpadow/odbior/golkow-ii-piaseczno-sektor-i-wolka-kozodawska-ulice-bukietowa-gromadzka-papier/
SUMMARY:SEKTOR I – Piaseczno (od ul. 11 Listopada do ul. Zagłoby)\, Gołków (Bohuna\, Gołkowska (1 do 17a)\, Hajduczka\, Ketlinga\, Biliewiczówny\, Soroki\, Szaniec\, Trylogii)\, Wólka Kozodawska (ulice: Gromadzka\, Bukietowa)- papier
END:VEVENT
BEGIN:VEVENT
DTSTART:20260928T060000Z
DTEND:20260928T190000Z
DTSTAMP:20260422T093310Z
UID:69e895d660669
CATEGORIES:odpady segregowane - papier
LOCATION:Gołków ulice: Bohuna, Gołkowska (nr od 1 do 17a), Hajduczka, Ketlinga, O. Bilewiczówny, Soroki, Szaniec, Trylogii. Gołków, Mazowieckie, PL
ORGANIZER;CN=WGO Gminy Piaseczno:MAILTO:go@piaseczno.eu
DESCRIPTION: Odbiór odpadów 
URL;VALUE=URI:https://odpady.piaseczno.eu/harmonogram-odbioru-odpadow/odbior/golkow-ii-piaseczno-sektor-i-wolka-kozodawska-ulice-bukietowa-gromadzka-papier/
SUMMARY:SEKTOR I – Piaseczno (od ul. 11 Listopada do ul. Zagłoby)\, Gołków (Bohuna\, Gołkowska (1 do 17a)\, Hajduczka\, Ketlinga\, Biliewiczówny\, Soroki\, Szaniec\, Trylogii)\, Wólka Kozodawska (ulice: Gromadzka\, Bukietowa)- papier
END:VEVENT
BEGIN:VEVENT
DTSTART:20261026T060000Z
DTEND:20261026T190000Z
DTSTAMP:20260422T093310Z
UID:69e895d660684
CATEGORIES:odpady segregowane - papier
LOCATION:Gołków ulice: Bohuna, Gołkowska (nr od 1 do 17a), Hajduczka, Ketlinga, O. Bilewiczówny, Soroki, Szaniec, Trylogii. Gołków, Mazowieckie, PL
ORGANIZER;CN=WGO Gminy Piaseczno:MAILTO:go@piaseczno.eu
DESCRIPTION: Odbiór odpadów 
URL;VALUE=URI:https://odpady.piaseczno.eu/harmonogram-odbioru-odpadow/odbior/golkow-ii-piaseczno-sektor-i-wolka-kozodawska-ulice-bukietowa-gromadzka-papier/
SUMMARY:SEKTOR I – Piaseczno (od ul. 11 Listopada do ul. Zagłoby)\, Gołków (Bohuna\, Gołkowska (1 do 17a)\, Hajduczka\, Ketlinga\, Biliewiczówny\, Soroki\, Szaniec\, Trylogii)\, Wólka Kozodawska (ulice: Gromadzka\, Bukietowa)- papier
END:VEVENT
BEGIN:VEVENT
DTSTART:20261123T060000Z
DTEND:20261123T190000Z
DTSTAMP:20260422T093310Z
UID:69e895d66069e
CATEGORIES:odpady segregowane - papier
LOCATION:Gołków ulice: Bohuna, Gołkowska (nr od 1 do 17a), Hajduczka, Ketlinga, O. Bilewiczówny, Soroki, Szaniec, Trylogii. Gołków, Mazowieckie, PL
ORGANIZER;CN=WGO Gminy Piaseczno:MAILTO:go@piaseczno.eu
DESCRIPTION: Odbiór odpadów 
URL;VALUE=URI:https://odpady.piaseczno.eu/harmonogram-odbioru-odpadow/odbior/golkow-ii-piaseczno-sektor-i-wolka-kozodawska-ulice-bukietowa-gromadzka-papier/
SUMMARY:SEKTOR I – Piaseczno (od ul. 11 Listopada do ul. Zagłoby)\, Gołków (Bohuna\, Gołkowska (1 do 17a)\, Hajduczka\, Ketlinga\, Biliewiczówny\, Soroki\, Szaniec\, Trylogii)\, Wólka Kozodawska (ulice: Gromadzka\, Bukietowa)- papier
END:VEVENT
END:VCALENDAR
