BEGIN:VCALENDAR
VERSION:2.0
PRODID:-//DIGITAL FACTORY//EVENTS MAKER V1.6.12//EN
CALSCALE:GREGORIAN
METHOD:PUBLISH
BEGIN:VEVENT
DTSTART:20230116T060000Z
DTEND:20230116T190000Z
DTSTAMP:20260424T014722Z
UID:69eacbaa2524c
CATEGORIES:Odbiór choinek
DESCRIPTION: Odbiór odpadów 
URL;VALUE=URI:https://odpady.piaseczno.eu/harmonogram-odbioru-odpadow/odbior/gloskow-tylko-ulice-abramowicza-radnych-od-nr-2-do-26-i-od-nr-1-nr-21-szkolna-wspolna-golkow-tylko-ulice-ceramiczna-ceglana-czterolistnej-koniczyny-duzego-stawu-golkowska-od-nr-56a-do-128/
SUMMARY:Głosków tylko ulice: Abramowicza\, Radnych (od nr 2 do 26 i od nr 1 nr 21)\, Szkolna\, Wspólna\, Gołków tylko ulice: Ceramiczna\, Ceglana\, Czterolistnej Koniczyny\, Dużego Stawu\, Gołkowska (od nr 56a do 128a i od nr 43 do nr 113)\, Małego Stawu\, Zielona - choinki
END:VEVENT
BEGIN:VEVENT
DTSTART:20230213T060000Z
DTEND:20230213T190000Z
DTSTAMP:20260424T014722Z
UID:69eacbaa2531d
CATEGORIES:Odbiór choinek
DESCRIPTION: Odbiór odpadów 
URL;VALUE=URI:https://odpady.piaseczno.eu/harmonogram-odbioru-odpadow/odbior/gloskow-tylko-ulice-abramowicza-radnych-od-nr-2-do-26-i-od-nr-1-nr-21-szkolna-wspolna-golkow-tylko-ulice-ceramiczna-ceglana-czterolistnej-koniczyny-duzego-stawu-golkowska-od-nr-56a-do-128/
SUMMARY:Głosków tylko ulice: Abramowicza\, Radnych (od nr 2 do 26 i od nr 1 nr 21)\, Szkolna\, Wspólna\, Gołków tylko ulice: Ceramiczna\, Ceglana\, Czterolistnej Koniczyny\, Dużego Stawu\, Gołkowska (od nr 56a do 128a i od nr 43 do nr 113)\, Małego Stawu\, Zielona - choinki
END:VEVENT
END:VCALENDAR
